Workbook
Name DV_BIMSScore: BIMS[BIMS Score]
Name DV_BIMSScore: BIMS[BIMS Score]
Name DV_BIMSScore: BIMS[BIMS Score]
Name DV_BIMSScore: BIMS[BIMS Score]
Name DV_BIMSScore: BIMS[BIMS Score]
Name DV_BIMSScore: #REF!
Name DV_BIMSScore: BIMS[BIMS Score]
Name DV_BIMSScore: BIMS[BIMS Score]
Name DV_BIMSScore: BIMS[BIMS Score]
Name DV_BIMSScore: BIMS[BIMS Score]
Name DV_BIMSScore: BIMS[BIMS Score]
Name DV_BIMSScore: BIMS[BIMS Score]
Name DV_BIMSScore: BIMS[BIMS Score]
Name DV_BIMSScore: BIMS[BIMS Score]
Name DV_BIMSScore: BIMS[BIMS Score]
Name DV_BIMSScore: BIMS[BIMS Score]
Name DV_BIMSScore: BIMS[BIMS Score]
Name DV_BIMSScore: BIMS[BIMS Score]
Name DV_FallCircumstances: FC[Fall Circumstances]
Name DV_FallCircumstances: FC[Fall Circumstances]
Name DV_FallCircumstances: FC[Fall Circumstances]
Name DV_FallCircumstances: #REF!
Name DV_FallCircumstances: FC[Fall Circumstances]
Name DV_FallCircumstances: FC[Fall Circumstances]
Name DV_FallCircumstances: FC[Fall Circumstances]
Name DV_FallCircumstances: FC[Fall Circumstances]
Name DV_FallCircumstances: FC[Fall Circumstances]
Name DV_FallCircumstances: FC[Fall Circumstances]
Name DV_FallCircumstances: FC[Fall Circumstances]
Name DV_FallCircumstances: FC[Fall Circumstances]
Name DV_FallCircumstances: FC[Fall Circumstances]
Name DV_FallType: FallType[Fall Type]
Name DV_FallType: FallType[Fall Type]
Name DV_FallType: FallType[Fall Type]
Name DV_FallType: FallType[Fall Type]
Name DV_FallType: FallType[Fall Type]
Name DV_FallType: #REF!
Name DV_FallType: FallType[Fall Type]
Name DV_FallType: FallType[Fall Type]
Name DV_FallType: FallType[Fall Type]
Name DV_FallType: FallType[Fall Type]
Name DV_FallType: FallType[Fall Type]
Name DV_FallType: FallType[Fall Type]
Name DV_FallType: FallType[Fall Type]
Name DV_FallType: FallType[Fall Type]
Name DV_FallType: FallType[Fall Type]
Name DV_FallType: FallType[Fall Type]
Name DV_FallType: FallType[Fall Type]
Name DV_FallType: FallType[Fall Type]
Name DV_Location: Location[Location]
Name DV_Location: Location[Location]
Name DV_Location: Location[Location]
Name DV_Location: Location[Location]
Name DV_Location: Location[Location]
Name DV_Location: #REF!
Name DV_Location: Location[Location]
Name DV_Location: Location[Location]
Name DV_Location: Location[Location]
Name DV_Location: Location[Location]
Name DV_Location: Location[Location]

Sheet Tracker Description
B2: =IF('Data Validation'!$C$2=0,"Enter facility name in Data Validation tab",'Data Validation'!$C$2) -> Enter facility name in Data Validation tab
B3: ="Falls Tracker "&'Data Validation'!$C$4 -> Falls Tracker
B6: The purpose of this tracker is to provide information to assist the Quality Assurance and Performance Improvement (QAPI) committee to develop appropriate interventions that are data driven for their residents who have fallen.
R29: *iQIES = Internet Quality Improvement & Evaluation System
R30: Privacy Disclaimer: This tool is intended for use within your facility only. Do not email resident-level personally identifiable information or protected health information (PII/PHI) to HSAG or other external entities. This material was prepared by Health Services Advisory Group (HSAG), a Quality Innovation Network-Quality Improvement Organization (QIN-QIO) under contract with the Centers for Medicare & Medicaid Services (CMS), an agency of the U.S. Department of Health and Human Services (HHS). Views expressed in this material do not necessarily reflect the official views or policy of CMS or HHS, and any reference to a specific product or entity herein does not constitute endorsement of that product or entity by CMS or HHS. Publication No. QN-13SOW-XC-09302026-01
G51: *RN = Registered Nurse; CNA = Certified Nursing Assistant

Sheet Data Validation
E1: Add to/Edit | G1: Add to/Edit | I1: Add to/Edit | K1: Add to/Edit | M1: Edit Shifts | R1: Brief Interview for Mental Status | U1: Witnessed | W1: Fall Type | Y1: RCA Completed | AA1: Fall Circumstances
B2: Facility Name | E2: Location | G2: Nurses Stations | I2: What was the resident doing prior to fall? | K2: Contributing Factors | M2: Hour | N2: Shift | P2: Shifts Summary | R2: BIMS Score | S2: Cognitive Impairment | U2: Witnessed | W2: Fall Type | Y2: RCA Completed | AA2: Fall Circumstances
E3: Activity Room | G3: 1 | I3: Ambulating with assistive device (walker, cane, wheelchair) | K3: Assisted/caregiver transfer | M3: 23:00–24:00 | N3: 11-7 | P3: {=_xlfn.UNIQUE(_xlfn._xlws.FILTER(Shifts[Shift],1,1))} -> 11-7 | R3: 1 | S3: Severe (1–7) | U3: Yes | W3: Major Injury | Y3: Yes | AA3: Overwhelming Force
B4: Year | E4: Bedroom | G4: 2 | I4: Ambulating with staff assistance | K4: Bowel and bladder (B&B) needs | M4: 24:00–01:00 | N4: 11–7 | P4: 11–7 | R4: 2 | S4: Severe (1–7) | U4: No | W4: Injury (Except Major) | Y4: No | AA4: Intercepted
E5: Bathroom | G5: 3 | I5: Ambulating without assistance or assistive device | K5: Behavioral or situational | M5: 01:00–02:00 | N5: 11–7 | P5: 7–3 | R5: 3 | S5: Severe (1–7) | W5: No Injury | AA5: N/A
E6: Hallway | G6: 4 | I6: Changing position (e.g., in bed, chair) | K6: Change of condition | M6: 02:00–03:00 | N6: 11–7 | P6: 3–11 | R6: 4 | S6: Severe (1–7)
E7: Offsite | G7: 5 | I7: Dressing or undressing | K7: Environmental factors | M7: 03:00–04:00 | N7: 11–7 | R7: 5 | S7: Severe (1–7)
E8: Shower Room | I8: Other activity | K8: Equipment malfunction | M8: 04:00–05:00 | N8: 11–7 | R8: 6 | S8: Severe (1–7)
E9: Dining Room | I9: Reaching for an item | K9: Equipment or assistive device | M9: 05:00–06:00 | N9: 11–7 | R9: 7 | S9: Severe (1–7)
I10: Showering or bathing | K10: Medication related | M10: 06:00–07:00 | N10: 7–3 | R10: 8 | S10: Moderate (8–12)
I11: Toileting | K11: Process(s) not followed | M11: 07:00–08:00 | N11: 7–3 | R11: 9 | S11: Moderate (8–12)
I12: Transferring to or from bed, chair, wheelchair, etc. | K12: Resident health conditions | M12: 08:00–09:00 | N12: 7–3 | R12: 10 | S12: Moderate (8–12)
I13: Unknown | K13: Staff | M13: 09:00–10:00 | N13: 7–3 | R13: 11 | S13: Moderate (8–12)
M14: 10:00–11:00 | N14: 7–3 | R14: 12 | S14: Moderate (8–12)
M15: 11:00–12:00 | N15: 7–3 | R15: 13 | S15: Intact (13–15)
M16: 12:00–13:00 | N16: 7–3 | R16: 14 | S16: Intact (13–15)
M17: 13:00–14:00 | N17: 7–3 | R17: 15 | S17: Intact (13–15)
M18: 14:00–15:00 | N18: 7–3
M19: 15:00–16:00 | N19: 3–11
M20: 16:00–17:00 | N20: 3–11
M21: 17:00–18:00 | N21: 3–11
M22: 18:00–19:00 | N22: 3–11
M23: 19:00–20:00 | N23: 3–11
M24: 20:00–21:00 | N24: 3–11
M25: 21:00–22:00 | N25: 3–11
M26: 22:00–23:00 | N26: 3–11

Sheet Jan
B1: Year | C1: ='Data Validation'!$C$4 -> 0 | D1: =IF(OR($C$1="",$C$1=0),"Enter Year in Data Validation tab",'Data Validation'!$C$2&" January ") -> Enter Year in Data Validation tab | R1: Total Falls: | S1: =IF(COUNTIFS(Jan[Resident Name],"<>")=0,"No Data",COUNTIFS(Jan[Resident Name],"<>")) -> No Data | T1: Fall Rate: | U1: ='Fall Rate and Census'!$B$36 -> No Data
B3: Room | C3: Resident Name | D3: Date of Incident | E3: Date of Post Fall Evaluation | F3: Witnessed Fall? | G3: Fall Circumstances | H3: Injury Type | I3: Location | J3: Station | K3: Day | L3: Hour | M3: Shift | N3: BIMS Score | O3: Cognitive Impairment | P3: What was resident doing prior to fall? | Q3: Notes on resident activity prior to fall. | R3: RCA Completed? | S3: Contributing Factors | T3: Nurse | U3: Certified Nurse Assistance | V3: Witness Name
K4: =IF(Jan[[#This Row],[Date of Incident]]="","",TEXT(Jan[[#This Row],[Date of Incident]],"ddd")) | M4: =IFERROR(VLOOKUP(Jan[[#This Row],[Hour]],Shifts[],2,FALSE),"") | O4: =IFERROR(VLOOKUP(Jan[[#This Row],[BIMS Score]],BIMS[],2,FALSE),"")
K5: =IF(Jan[[#This Row],[Date of Incident]]="","",TEXT(Jan[[#This Row],[Date of Incident]],"ddd")) | M5: =IFERROR(VLOOKUP(Jan[[#This Row],[Hour]],Shifts[],2,FALSE),"") | O5: =IFERROR(VLOOKUP(Jan[[#This Row],[BIMS Score]],BIMS[],2,FALSE),"")
K6: =IF(Jan[[#This Row],[Date of Incident]]="","",TEXT(Jan[[#This Row],[Date of Incident]],"ddd")) | M6: =IFERROR(VLOOKUP(Jan[[#This Row],[Hour]],Shifts[],2,FALSE),"") | O6: =IFERROR(VLOOKUP(Jan[[#This Row],[BIMS Score]],BIMS[],2,FALSE),"")
K7: =IF(Jan[[#This Row],[Date of Incident]]="","",TEXT(Jan[[#This Row],[Date of Incident]],"ddd")) | M7: =IFERROR(VLOOKUP(Jan[[#This Row],[Hour]],Shifts[],2,FALSE),"") | O7: =IFERROR(VLOOKUP(Jan[[#This Row],[BIMS Score]],BIMS[],2,FALSE),"")
K8: =IF(Jan[[#This Row],[Date of Incident]]="","",TEXT(Jan[[#This Row],[Date of Incident]],"ddd")) | M8: =IFERROR(VLOOKUP(Jan[[#This Row],[Hour]],Shifts[],2,FALSE),"") | O8: =IFERROR(VLOOKUP(Jan[[#This Row],[BIMS Score]],BIMS[],2,FALSE),"")
K9: =IF(Jan[[#This Row],[Date of Incident]]="","",TEXT(Jan[[#This Row],[Date of Incident]],"ddd")) | M9: =IFERROR(VLOOKUP(Jan[[#This Row],[Hour]],Shifts[],2,FALSE),"") | O9: =IFERROR(VLOOKUP(Jan[[#This Row],[BIMS Score]],BIMS[],2,FALSE),"")
K10: =IF(Jan[[#This Row],[Date of Incident]]="","",TEXT(Jan[[#This Row],[Date of Incident]],"ddd")) | M10: =IFERROR(VLOOKUP(Jan[[#This Row],[Hour]],Shifts[],2,FALSE),"") | O10: =IFERROR(VLOOKUP(Jan[[#This Row],[BIMS Score]],BIMS[],2,FALSE),"")
K11: =IF(Jan[[#This Row],[Date of Incident]]="","",TEXT(Jan[[#This Row],[Date of Incident]],"ddd")) | M11: =IFERROR(VLOOKUP(Jan[[#This Row],[Hour]],Shifts[],2,FALSE),"") | O11: =IFERROR(VLOOKUP(Jan[[#This Row],[BIMS Score]],BIMS[],2,FALSE),"")
K12: =IF(Jan[[#This Row],[Date of Incident]]="","",TEXT(Jan[[#This Row],[Date of Incident]],"ddd")) | M12: =IFERROR(VLOOKUP(Jan[[#This Row],[Hour]],Shifts[],2,FALSE),"") | O12: =IFERROR(VLOOKUP(Jan[[#This Row],[BIMS Score]],BIMS[],2,FALSE),"")
K13: =IF(Jan[[#This Row],[Date of Incident]]="","",TEXT(Jan[[#This Row],[Date of Incident]],"ddd")) | M13: =IFERROR(VLOOKUP(Jan[[#This Row],[Hour]],Shifts[],2,FALSE),"") | O13: =IFERROR(VLOOKUP(Jan[[#This Row],[BIMS Score]],BIMS[],2,FALSE),"")
K14: =IF(Jan[[#This Row],[Date of Incident]]="","",TEXT(Jan[[#This Row],[Date of Incident]],"ddd")) | M14: =IFERROR(VLOOKUP(Jan[[#This Row],[Hour]],Shifts[],2,FALSE),"") | O14: =IFERROR(VLOOKUP(Jan[[#This Row],[BIMS Score]],BIMS[],2,FALSE),"")
K15: =IF(Jan[[#This Row],[Date of Incident]]="","",TEXT(Jan[[#This Row],[Date of Incident]],"ddd")) | M15: =IFERROR(VLOOKUP(Jan[[#This Row],[Hour]],Shifts[],2,FALSE),"") | O15: =IFERROR(VLOOKUP(Jan[[#This Row],[BIMS Score]],BIMS[],2,FALSE),"")
... K40: =IF(Jan[[#This Row],[Date of Incident]]="","",TEXT(Jan[[#This Row],[Date of Incident]],"ddd")) | M40: =IFERROR(VLOOKUP(Jan[[#This Row],[Hour]],Shifts[],2,FALSE),"") | O40: =IFERROR(VLOOKUP(Jan[[#This Row],[BIMS Score]],BIMS[],2,FALSE),"")
B51: Witnessed Falls | F51: Fall Circumstances
B52: Result | D52: Total | F52: Result | H52: Total
B53: Yes | D53: =COUNTIFS(Jan[Witnessed Fall?],$B53) -> 0 | F53: Overwhelming Force | H53: =COUNTIFS(Jan[Fall Circumstances],$F53) -> 0
B54: No | D54: =COUNTIFS(Jan[Witnessed Fall?],$B54) -> 0 | F54: Intercepted | H54: =COUNTIFS(Jan[Fall Circumstances],$F54) -> 0
B55: TOTAL | D55: =SUM(D53:D54) -> 0 | F55: N/A | H55: =COUNTIFS(Jan[Fall Circumstances],$F55) -> 0
F56: TOTAL | H56: =SUM(H53:H55) -> 0
F58: Falls by BIMS Score
F59: BIMS Score | H59: Total
F60: Severe (1–7) | H60: =COUNTIFS(Jan[Cognitive Impairment],$F60) -> 0
F61: Moderate (8–12) | H61: =COUNTIFS(Jan[Cognitive Impairment],$F61) -> 0
F62: Intact (13–15) | H62: =COUNTIFS(Jan[Cognitive Impairment],$F62) -> 0
F63: TOTAL | H63: =SUM(H60:H62) -> 0
B65: Falls by Activity
B66: Activity | G66: Total
B67: {=IF(_xlfn._xlws.SORT(PriortoFall[What was the resident doing prior to fall?],1,1,TRUE)=0,"",(_xlfn._xlws.SORT(PriortoFall[What was the resident doing prior to fall?],1,1,TRUE)))} -> Ambulating with assistive device (walker, cane, wheelchair) | G67: =IF($B67="",NA(),COUNTIFS(Jan[What was resident doing prior to fall?],$B67)) -> 0
B68: Ambulating with staff assistance | G68: =IF($B68="",NA(),COUNTIFS(Jan[What was resident doing prior to fall?],$B68)) -> 0
B69: Ambulating without assistance or assistive device | G69: =IF($B69="",NA(),COUNTIFS(Jan[What was resident doing prior to fall?],$B69)) -> 0
B70: Changing position (e.g., in bed, chair) | G70: =IF($B70="",NA(),COUNTIFS(Jan[What was resident doing prior to fall?],$B70)) -> 0
B71: Dressing or undressing | G71: =IF($B71="",NA(),COUNTIFS(Jan[What was resident doing prior to fall?],$B71)) -> 0
B72: Other activity | G72: =IF($B72="",NA(),COUNTIFS(Jan[What was resident doing prior to fall?],$B72)) -> 0
B73: Reaching for an item | G73: =IF($B73="",NA(),COUNTIFS(Jan[What was resident doing prior to fall?],$B73)) -> 0
B74: Showering or bathing | G74: =IF($B74="",NA(),COUNTIFS(Jan[What was resident doing prior to fall?],$B74)) -> 0
B75: Toileting | G75: =IF($B75="",NA(),COUNTIFS(Jan[What was resident doing prior to fall?],$B75)) -> 0
B76: Transferring to or from bed, chair, wheelchair, etc. | G76: =IF($B76="",NA(),COUNTIFS(Jan[What was resident doing prior to fall?],$B76)) -> 0
B77: Unknown | G77: =IF($B77="",NA(),COUNTIFS(Jan[What was resident doing prior to fall?],$B77)) -> 0
G78: =IF($B78="",NA(),COUNTIFS(Jan[What was resident doing prior to fall?],$B78)) -> #N/A
G79: =IF($B79="",NA(),COUNTIFS(Jan[What was resident doing prior to fall?],$B79)) -> #N/A
G80: =IF($B80="",NA(),COUNTIFS(Jan[What was resident doing prior to fall?],$B80)) -> #N/A
G81: =IF($B81="",NA(),COUNTIFS(Jan[What was resident doing prior to fall?],$B81)) -> #N/A
G82: =IF($B82="",NA(),COUNTIFS(Jan[What was resident doing prior to fall?],$B82)) -> #N/A
G83: =IF($B83="",NA(),COUNTIFS(Jan[What was resident doing prior to fall?],$B83)) -> #N/A
G84: =IF($B84="",NA(),COUNTIFS(Jan[What was resident doing prior to fall?],$B84)) -> #N/A
G85: =IF($B85="",NA(),COUNTIFS(Jan[What was resident doing prior to fall?],$B85)) -> #N/A
G86: =IF($B86="",NA(),COUNTIFS(Jan[What was resident doing prior to fall?],$B86)) -> #N/A
G87: =IF($B87="",NA(),COUNTIFS(Jan[What was resident doing prior to fall?],$B87)) -> #N/A
G88: =IF($B88="",NA(),COUNTIFS(Jan[What was resident doing prior to fall?],$B88)) -> #N/A
G89: =IF($B89="",NA(),COUNTIFS(Jan[What was resident doing prior to fall?],$B89)) -> #N/A
G90: =IF($B90="",NA(),COUNTIFS(Jan[What was resident doing prior to fall?],$B90)) -> #N/A
B91: Total | G91: =_xlfn.AGGREGATE(9,6,G67:G90) -> 0
B93: ="Falls by Location" -> Falls by Location
B94: Location | D94: Total
B95: {=IF(_xlfn._xlws.SORT(Location[Location],1,1,TRUE)=0,"",(_xlfn._xlws.SORT(Location[Location],1,1,TRUE)))} -> Activity Room | D95: =IF($B95="",NA(),COUNTIFS(Jan[Location],$B95)) -> 0
B96: Bedroom | D96: =IF($B96="",NA(),COUNTIFS(Jan[Location],$B96)) -> 0
B97: Bathroom | D97: =IF($B97="",NA(),COUNTIFS(Jan[Location],$B97)) -> 0
B98: Hallway | D98: =IF($B98="",NA(),COUNTIFS(Jan[Location],$B98)) -> 0
B99: Offsite | D99: =IF($B99="",NA(),COUNTIFS(Jan[Location],$B99)) -> 0
B100: Shower Room | D100: =IF($B100="",NA(),COUNTIFS(Jan[Location],$B100)) -> 0
B101: Dining Room | D101: =IF($B101="",NA(),COUNTIFS(Jan[Location],$B101)) -> 0
D102: =IF($B102="",NA(),COUNTIFS(Jan[Location],$B102)) -> #N/A
D103: =IF($B103="",NA(),COUNTIFS(Jan[Location],$B103)) -> #N/A
D104: =IF($B104="",NA(),COUNTIFS(Jan[Location],$B104)) -> #N/A
D105: =IF($B105="",NA(),COUNTIFS(Jan[Location],$B105)) -> #N/A
B106: TOTAL | D106: =_xlfn.AGGREGATE(9,6,D95:D105) -> 0
B108: ="Falls by Nursing Station " -> Falls by Nursing Station
B109: Station | D109: Total
B110: {=IF(_xlfn._xlws.SORT(NS[Nurses Stations],1,1,TRUE)=0,"",(_xlfn._xlws.SORT(NS[Nurses Stations],1,1,TRUE)))} -> 1 | D110: =IF($B110="",NA(),COUNTIFS(Jan[Station],$B110)) -> 0
B111: 2 | D111: =IF($B111="",NA(),COUNTIFS(Jan[Station],$B111)) -> 0
B112: 3 | D112: =IF($B112="",NA(),COUNTIFS(Jan[Station],$B112)) -> 0
B113: 4 | D113: =IF($B113="",NA(),COUNTIFS(Jan[Station],$B113)) -> 0
B114: 5 | D114: =IF($B114="",NA(),COUNTIFS(Jan[Station],$B114)) -> 0
D115: =IF($B115="",NA(),COUNTIFS(Jan[Station],$B115)) -> #N/A
D116: =IF($B116="",NA(),COUNTIFS(Jan[Station],$B116)) -> #N/A
D117: =IF($B117="",NA(),COUNTIFS(Jan[Station],$B117)) -> #N/A
D118: =IF($B118="",NA(),COUNTIFS(Jan[Station],$B118)) -> #N/A
D119: =IF($B119="",NA(),COUNTIFS(Jan[Station],$B119)) -> #N/A
D120: =IF($B120="",NA(),COUNTIFS(Jan[Station],$B120)) -> #N/A
B121: TOTAL | D121: =_xlfn.AGGREGATE(9,6,D110:D120) -> 0
B123: ="Falls by Day of the Week " -> Falls by Day of the Week
B124: Day | D124: Total
B125: Sun | D125: =COUNTIFS(Jan[Day],$B125) -> 0
B126: Mon | D126: =COUNTIFS(Jan[Day],$B126) -> 0
B127: Tue | D127: =COUNTIFS(Jan[Day],$B127) -> 0
B128: Wed | D128: =COUNTIFS(Jan[Day],$B128) -> 0
B129: Thu | D129: =COUNTIFS(Jan[Day],$B129) -> 0
B130: Fri | D130: =COUNTIFS(Jan[Day],$B130) -> 0
B131: Sat | D131: =COUNTIFS(Jan[Day],$B131) -> 0
B132: TOTAL | D132: =_xlfn.AGGREGATE(9,6,D125:D131) -> 0
B134: ="Falls by Shift" -> Falls by Shift
B135: Shift | D135: Total
B136: {=IF(_xlfn._xlws.SORT('Data Validation'!P3:P7,1,1,TRUE)=0,"",(_xlfn._xlws.SORT('Data Validation'!P3:P7,1,1,TRUE)))} -> 11-7 | D136: =IF($B136="",NA(),COUNTIFS(Jan[Shift],$B136)) -> 0
B137: 11–7 | D137: =IF($B137="",NA(),COUNTIFS(Jan[Shift],$B137)) -> 0
B138: 7–3 | D138: =IF($B138="",NA(),COUNTIFS(Jan[Shift],$B138)) -> 0
B139: 3–11 | D139: =IF($B139="",NA(),COUNTIFS(Jan[Shift],$B139)) -> 0
D140: =IF($B140="",NA(),COUNTIFS(Jan[Shift],$B140)) -> #N/A
B141: TOTAL | D141: =_xlfn.AGGREGATE(9,6,D136:D140) -> 0
...

Sheet Feb
B1: Year | C1: ='Data Validation'!$C$4 -> 0 | D1: =IF(OR($C$1="",$C$1=0),"Enter Year in Data Validation tab",'Data Validation'!$C$2&" February ") -> Enter Year in Data Validation tab | R1: Total Falls: | S1: =IF(COUNTIFS(Feb[Resident Name],"<>")=0,"No Data",COUNTIFS(Feb[Resident Name],"<>")) -> No Data | T1: Fall Rate: | U1: ='Fall Rate and Census'!$E$33 -> No Data
B3: Room | C3: Resident Name | D3: Date of Incident | E3: Date of Post Fall Evaluation | F3: Witnessed Fall? | G3: Fall Circumstances | H3: Injury Type | I3: Location | J3: Station | K3: Day | L3: Hour | M3: Shift | N3: BIMS Score | O3: Cognitive Impairment | P3: What was resident doing prior to fall? | Q3: Notes on resident activity prior to fall. | R3: RCA Completed? | S3: Contributing Factors | T3: Nurse | U3: Certified Nurse Assistance | V3: Witness Name
K4: =IF(Feb[[#This Row],[Date of Incident]]="","",TEXT(Feb[[#This Row],[Date of Incident]],"ddd")) | M4: =IFERROR(VLOOKUP(Feb[[#This Row],[Hour]],Shifts[],2,FALSE),"") | O4: =IFERROR(VLOOKUP(Feb[[#This Row],[BIMS Score]],BIMS[],2,FALSE),"")
K5: =IF(Feb[[#This Row],[Date of Incident]]="","",TEXT(Feb[[#This Row],[Date of Incident]],"ddd")) | M5: =IFERROR(VLOOKUP(Feb[[#This Row],[Hour]],Shifts[],2,FALSE),"") | O5: =IFERROR(VLOOKUP(Feb[[#This Row],[BIMS Score]],BIMS[],2,FALSE),"")
K6: =IF(Feb[[#This Row],[Date of Incident]]="","",TEXT(Feb[[#This Row],[Date of Incident]],"ddd")) | M6: =IFERROR(VLOOKUP(Feb[[#This Row],[Hour]],Shifts[],2,FALSE),"") | O6: =IFERROR(VLOOKUP(Feb[[#This Row],[BIMS Score]],BIMS[],2,FALSE),"")
K7: =IF(Feb[[#This Row],[Date of Incident]]="","",TEXT(Feb[[#This Row],[Date of Incident]],"ddd")) | M7: =IFERROR(VLOOKUP(Feb[[#This Row],[Hour]],Shifts[],2,FALSE),"") | O7: =IFERROR(VLOOKUP(Feb[[#This Row],[BIMS Score]],BIMS[],2,FALSE),"")
K8: =IF(Feb[[#This Row],[Date of Incident]]="","",TEXT(Feb[[#This Row],[Date of Incident]],"ddd")) | M8: =IFERROR(VLOOKUP(Feb[[#This Row],[Hour]],Shifts[],2,FALSE),"") | O8: =IFERROR(VLOOKUP(Feb[[#This Row],[BIMS Score]],BIMS[],2,FALSE),"")
K9: =IF(Feb[[#This Row],[Date of Incident]]="","",TEXT(Feb[[#This Row],[Date of Incident]],"ddd")) | M9: =IFERROR(VLOOKUP(Feb[[#This Row],[Hour]],Shifts[],2,FALSE),"") | O9: =IFERROR(VLOOKUP(Feb[[#This Row],[BIMS Score]],BIMS[],2,FALSE),"")
K10: =IF(Feb[[#This Row],[Date of Incident]]="","",TEXT(Feb[[#This Row],[Date of Incident]],"ddd")) | M10: =IFERROR(VLOOKUP(Feb[[#This Row],[Hour]],Shifts[],2,FALSE),"") | O10: =IFERROR(VLOOKUP(Feb[[#This Row],[BIMS Score]],BIMS[],2,FALSE),"")
K11: =IF(Feb[[#This Row],[Date of Incident]]="","",TEXT(Feb[[#This Row],[Date of Incident]],"ddd")) | M11: =IFERROR(VLOOKUP(Feb[[#This Row],[Hour]],Shifts[],2,FALSE),"") | O11: =IFERROR(VLOOKUP(Feb[[#This Row],[BIMS Score]],BIMS[],2,FALSE),"")
K12: =IF(Feb[[#This Row],[Date of Incident]]="","",TEXT(Feb[[#This Row],[Date of Incident]],"ddd")) | M12: =IFERROR(VLOOKUP(Feb[[#This Row],[Hour]],Shifts[],2,FALSE),"") | O12: =IFERROR(VLOOKUP(Feb[[#This Row],[BIMS Score]],BIMS[],2,FALSE),"")
K13: =IF(Feb[[#This Row],[Date of Incident]]="","",TEXT(Feb[[#This Row],[Date of Incident]],"ddd")) | M13: =IFERROR(VLOOKUP(Feb[[#This Row],[Hour]],Shifts[],2,FALSE),"") | O13: =IFERROR(VLOOKUP(Feb[[#This Row],[BIMS Score]],BIMS[],2,FALSE),"")
K14: =IF(Feb[[#This Row],[Date of Incident]]="","",TEXT(Feb[[#This Row],[Date of Incident]],"ddd")) | M14: =IFERROR(VLOOKUP(Feb[[#This Row],[Hour]],Shifts[],2,FALSE),"") | O14: =IFERROR(VLOOKUP(Feb[[#This Row],[BIMS Score]],BIMS[],2,FALSE),"")
K15: =IF(Feb[[#This Row],[Date of Incident]]="","",TEXT(Feb[[#This Row],[Date of Incident]],"ddd")) | M15: =IFERROR(VLOOKUP(Feb[[#This Row],[Hour]],Shifts[],2,FALSE),"") | O15: =IFERROR(VLOOKUP(Feb[[#This Row],[BIMS Score]],BIMS[],2,FALSE),"")
... K40: =IF(Feb[[#This Row],[Date of Incident]]="","",TEXT(Feb[[#This Row],[Date of Incident]],"ddd")) | M40: =IFERROR(VLOOKUP(Feb[[#This Row],[Hour]],Shifts[],2,FALSE),"") | O40: =IFERROR(VLOOKUP(Feb[[#This Row],[BIMS Score]],BIMS[],2,FALSE),"")
B51: Witnessed Falls | F51: Fall Circumstances
B52: Result | D52: Total | F52: Result | H52: Total
B53: Yes | D53: =COUNTIFS(Feb[Witnessed Fall?],$B53) -> 0 | F53: Overwhelming Force | H53: =COUNTIFS(Feb[Fall Circumstances],$F53) -> 0
B54: No | D54: =COUNTIFS(Feb[Witnessed Fall?],$B54) -> 0 | F54: Intercepted | H54: =COUNTIFS(Feb[Fall Circumstances],$F54) -> 0
B55: TOTAL | D55: =SUM(D53:D54) -> 0 | F55: N/A | H55: =COUNTIFS(Feb[Fall Circumstances],$F55) -> 0
F56: TOTAL | H56: =SUM(H53:H55) -> 0
F58: Falls by BIMS Score
F59: BIMS Score | H59: Total
F60: Severe (1–7) | H60: =COUNTIFS(Feb[Cognitive Impairment],$F60) -> 0
F61: Moderate (8–12) | H61: =COUNTIFS(Feb[Cognitive Impairment],$F61) -> 0
F62: Intact (13–15) | H62: =COUNTIFS(Feb[Cognitive Impairment],$F62) -> 0
F63: TOTAL | H63: =SUM(H60:H62) -> 0
B65: Falls by Activity
B66: Activity | G66: Total
B67: {=IF(_xlfn._xlws.SORT(PriortoFall[What was the resident doing prior to fall?],1,1,TRUE)=0,"",(_xlfn._xlws.SORT(PriortoFall[What was the resident doing prior to fall?],1,1,TRUE)))} -> Ambulating with assistive device (walker, cane, wheelchair) | G67: =IF($B67="",NA(),COUNTIFS(Feb[What was resident doing prior to fall?],$B67)) -> 0
B68: Ambulating with staff assistance | G68: =IF($B68="",NA(),COUNTIFS(Feb[What was resident doing prior to fall?],$B68)) -> 0
B69: Ambulating without assistance or assistive device | G69: =IF($B69="",NA(),COUNTIFS(Feb[What was resident doing prior to fall?],$B69)) -> 0
B70: Changing position (e.g., in bed, chair) | G70: =IF($B70="",NA(),COUNTIFS(Feb[What was resident doing prior to fall?],$B70)) -> 0
B71: Dressing or undressing | G71: =IF($B71="",NA(),COUNTIFS(Feb[What was resident doing prior to fall?],$B71)) -> 0
B72: Other activity | G72: =IF($B72="",NA(),COUNTIFS(Feb[What was resident doing prior to fall?],$B72)) -> 0
B73: Reaching for an item | G73: =IF($B73="",NA(),COUNTIFS(Feb[What was resident doing prior to fall?],$B73)) -> 0
B74: Showering or bathing | G74: =IF($B74="",NA(),COUNTIFS(Feb[What was resident doing prior to fall?],$B74)) -> 0
B75: Toileting | G75: =IF($B75="",NA(),COUNTIFS(Feb[What was resident doing prior to fall?],$B75)) -> 0
B76: Transferring to or from bed, chair, wheelchair, etc. | G76: =IF($B76="",NA(),COUNTIFS(Feb[What was resident doing prior to fall?],$B76)) -> 0
B77: Unknown | G77: =IF($B77="",NA(),COUNTIFS(Feb[What was resident doing prior to fall?],$B77)) -> 0
G78: =IF($B78="",NA(),COUNTIFS(Feb[What was resident doing prior to fall?],$B78)) -> #N/A
G79: =IF($B79="",NA(),COUNTIFS(Feb[What was resident doing prior to fall?],$B79)) -> #N/A
G80: =IF($B80="",NA(),COUNTIFS(Feb[What was resident doing prior to fall?],$B80)) -> #N/A
G81: =IF($B81="",NA(),COUNTIFS(Feb[What was resident doing prior to fall?],$B81)) -> #N/A
G82: =IF($B82="",NA(),COUNTIFS(Feb[What was resident doing prior to fall?],$B82)) -> #N/A
G83: =IF($B83="",NA(),COUNTIFS(Feb[What was resident doing prior to fall?],$B83)) -> #N/A
G84: =IF($B84="",NA(),COUNTIFS(Feb[What was resident doing prior to fall?],$B84)) -> #N/A
G85: =IF($B85="",NA(),COUNTIFS(Feb[What was resident doing prior to fall?],$B85)) -> #N/A
G86: =IF($B86="",NA(),COUNTIFS(Feb[What was resident doing prior to fall?],$B86)) -> #N/A
G87: =IF($B87="",NA(),COUNTIFS(Feb[What was resident doing prior to fall?],$B87)) -> #N/A
G88: =IF($B88="",NA(),COUNTIFS(Feb[What was resident doing prior to fall?],$B88)) -> #N/A
G89: =IF($B89="",NA(),COUNTIFS(Feb[What was resident doing prior to fall?],$B89)) -> #N/A
G90: =IF($B90="",NA(),COUNTIFS(Feb[What was resident doing prior to fall?],$B90)) -> #N/A
B91: Total | G91: =_xlfn.AGGREGATE(9,6,G67:G90) -> 0
B93: Falls by Location
B94: Location | D94: Total
B95: {=IF(_xlfn._xlws.SORT(Location[Location],1,1,TRUE)=0,"",(_xlfn._xlws.SORT(Location[Location],1,1,TRUE)))} -> Activity Room | D95: =IF($B95="",NA(),COUNTIFS(Feb[Location],$B95)) -> 0
B96: Bedroom | D96: =IF($B96="",NA(),COUNTIFS(Feb[Location],$B96)) -> 0
B97: Bathroom | D97: =IF($B97="",NA(),COUNTIFS(Feb[Location],$B97)) -> 0
B98: Hallway | D98: =IF($B98="",NA(),COUNTIFS(Feb[Location],$B98)) -> 0
B99: Offsite | D99: =IF($B99="",NA(),COUNTIFS(Feb[Location],$B99)) -> 0
B100: Shower Room | D100: =IF($B100="",NA(),COUNTIFS(Feb[Location],$B100)) -> 0
B101: Dining Room | D101: =IF($B101="",NA(),COUNTIFS(Feb[Location],$B101)) -> 0
D102: =IF($B102="",NA(),COUNTIFS(Feb[Location],$B102)) -> #N/A
D103: =IF($B103="",NA(),COUNTIFS(Feb[Location],$B103)) -> #N/A
D104: =IF($B104="",NA(),COUNTIFS(Feb[Location],$B104)) -> #N/A
D105: =IF($B105="",NA(),COUNTIFS(Feb[Location],$B105)) -> #N/A
B106: TOTAL | D106: =_xlfn.AGGREGATE(9,6,D95:D105) -> 0
B108: ="Falls by Nursing Station " -> Falls by Nursing Station
B109: Station | D109: Total
B110: {=IF(_xlfn._xlws.SORT(NS[Nurses Stations],1,1,TRUE)=0,"",(_xlfn._xlws.SORT(NS[Nurses Stations],1,1,TRUE)))} -> 1 | D110: =IF($B110="",NA(),COUNTIFS(Feb[Station],$B110)) -> 0
B111: 2 | D111: =IF($B111="",NA(),COUNTIFS(Feb[Station],$B111)) -> 0
B112: 3 | D112: =IF($B112="",NA(),COUNTIFS(Feb[Station],$B112)) -> 0
B113: 4 | D113: =IF($B113="",NA(),COUNTIFS(Feb[Station],$B113)) -> 0
B114: 5 | D114: =IF($B114="",NA(),COUNTIFS(Feb[Station],$B114)) -> 0
D115: =IF($B115="",NA(),COUNTIFS(Feb[Station],$B115)) -> #N/A
D116: =IF($B116="",NA(),COUNTIFS(Feb[Station],$B116)) -> #N/A
D117: =IF($B117="",NA(),COUNTIFS(Feb[Station],$B117)) -> #N/A
D118: =IF($B118="",NA(),COUNTIFS(Feb[Station],$B118)) -> #N/A
D119: =IF($B119="",NA(),COUNTIFS(Feb[Station],$B119)) -> #N/A
D120: =IF($B120="",NA(),COUNTIFS(Feb[Station],$B120)) -> #N/A
B121: TOTAL | D121: =_xlfn.AGGREGATE(9,6,D110:D120) -> 0
B123: ="Falls by Day of the Week " -> Falls by Day of the Week
B124: Day | D124: Total
B125: Sun | D125: =COUNTIFS(Feb[Day],$B125) -> 0
B126: Mon | D126: =COUNTIFS(Feb[Day],$B126) -> 0
B127: Tue | D127: =COUNTIFS(Feb[Day],$B127) -> 0
B128: Wed | D128: =COUNTIFS(Feb[Day],$B128) -> 0
B129: Thu | D129: =COUNTIFS(Feb[Day],$B129) -> 0
B130: Fri | D130: =COUNTIFS(Feb[Day],$B130) -> 0
B131: Sat | D131: =COUNTIFS(Feb[Day],$B131) -> 0
B132: TOTAL | D132: =SUM(D125:D131) -> 0
B134: ="Falls by Shift" -> Falls by Shift
B135: Shift | D135: Total
B136: {=IF(_xlfn._xlws.SORT('Data Validation'!P3:P7,1,1,TRUE)=0,"",(_xlfn._xlws.SORT('Data Validation'!P3:P7,1,1,TRUE)))} -> 11-7 | D136: =IF($B136="",NA(),COUNTIFS(Feb[Shift],$B136)) -> 0
B137: 11–7 | D137: =IF($B137="",NA(),COUNTIFS(Feb[Shift],$B137)) -> 0
B138: 7–3 | D138: =IF($B138="",NA(),COUNTIFS(Feb[Shift],$B138)) -> 0
B139: 3–11 | D139: =IF($B139="",NA(),COUNTIFS(Feb[Shift],$B139)) -> 0
D140: =IF($B140="",NA(),COUNTIFS(Feb[Shift],$B140)) -> #N/A
B141: TOTAL | D141: =_xlfn.AGGREGATE(9,6,D136:D140) -> 0
...

Sheet Mar
B1: Year | C1: ='Data Validation'!$C$4 -> 0 | D1: =IF(OR($C$1="",$C$1=0),"Enter Year in Data Validation tab",'Data Validation'!$C$2&" March ") -> Enter Year in Data Validation tab | R1: Total Falls: | S1: =IF(COUNTIFS(Mar[Resident Name],"<>")=0,"No Data",COUNTIFS(Mar[Resident Name],"<>")) -> No Data | T1: Fall Rate: | U1: ='Fall Rate and Census'!$H$36 -> No Data
B3: Room | C3: Resident Name | D3: Date of Incident | E3: Date of Post Fall Evaluation | F3: Witnessed Fall? | G3: Fall Circumstances | H3: Injury Type | I3: Location | J3: Station | K3: Day | L3: Hour | M3: Shift | N3: BIMS Score | O3: Cognitive Impairment | P3: What was resident doing prior to fall? | Q3: Notes on resident activity prior to fall. | R3: RCA Completed? | S3: Contributing Factors | T3: Nurse | U3: Certified Nurse Assistance | V3: Witness Name
K4: =IF(Mar[[#This Row],[Date of Incident]]="","",TEXT(Mar[[#This Row],[Date of Incident]],"ddd")) | M4: =IFERROR(VLOOKUP(Mar[[#This Row],[Hour]],Shifts[],2,FALSE),"") | O4: =IFERROR(VLOOKUP(Mar[[#This Row],[BIMS Score]],BIMS[],2,FALSE),"")
K5: =IF(Mar[[#This Row],[Date of Incident]]="","",TEXT(Mar[[#This Row],[Date of Incident]],"ddd")) | M5: =IFERROR(VLOOKUP(Mar[[#This Row],[Hour]],Shifts[],2,FALSE),"") | O5: =IFERROR(VLOOKUP(Mar[[#This Row],[BIMS Score]],BIMS[],2,FALSE),"")
K6: =IF(Mar[[#This Row],[Date of Incident]]="","",TEXT(Mar[[#This Row],[Date of Incident]],"ddd")) | M6: =IFERROR(VLOOKUP(Mar[[#This Row],[Hour]],Shifts[],2,FALSE),"") | O6: =IFERROR(VLOOKUP(Mar[[#This Row],[BIMS Score]],BIMS[],2,FALSE),"")
K7: =IF(Mar[[#This Row],[Date of Incident]]="","",TEXT(Mar[[#This Row],[Date of Incident]],"ddd")) | M7: =IFERROR(VLOOKUP(Mar[[#This Row],[Hour]],Shifts[],2,FALSE),"") | O7: =IFERROR(VLOOKUP(Mar[[#This Row],[BIMS Score]],BIMS[],2,FALSE),"")
K8: =IF(Mar[[#This Row],[Date of Incident]]="","",TEXT(Mar[[#This Row],[Date of Incident]],"ddd")) | M8: =IFERROR(VLOOKUP(Mar[[#This Row],[Hour]],Shifts[],2,FALSE),"") | O8: =IFERROR(VLOOKUP(Mar[[#This Row],[BIMS Score]],BIMS[],2,FALSE),"")
K9: =IF(Mar[[#This Row],[Date of Incident]]="","",TEXT(Mar[[#This Row],[Date of Incident]],"ddd")) | M9: =IFERROR(VLOOKUP(Mar[[#This Row],[Hour]],Shifts[],2,FALSE),"") | O9: =IFERROR(VLOOKUP(Mar[[#This Row],[BIMS Score]],BIMS[],2,FALSE),"")
K10: =IF(Mar[[#This Row],[Date of Incident]]="","",TEXT(Mar[[#This Row],[Date of Incident]],"ddd")) | M10: =IFERROR(VLOOKUP(Mar[[#This Row],[Hour]],Shifts[],2,FALSE),"") | O10: =IFERROR(VLOOKUP(Mar[[#This Row],[BIMS Score]],BIMS[],2,FALSE),"")
K11: =IF(Mar[[#This Row],[Date of Incident]]="","",TEXT(Mar[[#This Row],[Date of Incident]],"ddd")) | M11: =IFERROR(VLOOKUP(Mar[[#This Row],[Hour]],Shifts[],2,FALSE),"") | O11: =IFERROR(VLOOKUP(Mar[[#This Row],[BIMS Score]],BIMS[],2,FALSE),"")
K12: =IF(Mar[[#This Row],[Date of Incident]]="","",TEXT(Mar[[#This Row],[Date of Incident]],"ddd")) | M12: =IFERROR(VLOOKUP(Mar[[#This Row],[Hour]],Shifts[],2,FALSE),"") | O12: =IFERROR(VLOOKUP(Mar[[#This Row],[BIMS Score]],BIMS[],2,FALSE),"")
K13: =IF(Mar[[#This Row],[Date of Incident]]="","",TEXT(Mar[[#This Row],[Date of Incident]],"ddd")) | M13: =IFERROR(VLOOKUP(Mar[[#This Row],[Hour]],Shifts[],2,FALSE),"") | O13: =IFERROR(VLOOKUP(Mar[[#This Row],[BIMS Score]],BIMS[],2,FALSE),"")
K14: =IF(Mar[[#This Row],[Date of Incident]]="","",TEXT(Mar[[#This Row],[Date of Incident]],"ddd")) | M14: =IFERROR(VLOOKUP(Mar[[#This Row],[Hour]],Shifts[],2,FALSE),"") | O14: =IFERROR(VLOOKUP(Mar[[#This Row],[BIMS Score]],BIMS[],2,FALSE),"")
K15: =IF(Mar[[#This Row],[Date of Incident]]="","",TEXT(Mar[[#This Row],[Date of Incident]],"ddd")) | M15: =IFERROR(VLOOKUP(Mar[[#This Row],[Hour]],Shifts[],2,FALSE),"") | O15: =IFERROR(VLOOKUP(Mar[[#This Row],[BIMS Score]],BIMS[],2,FALSE),"")
... K40: =IF(Mar[[#This Row],[Date of Incident]]="","",TEXT(Mar[[#This Row],[Date of Incident]],"ddd")) | M40: =IFERROR(VLOOKUP(Mar[[#This Row],[Hour]],Shifts[],2,FALSE),"") | O40: =IFERROR(VLOOKUP(Mar[[#This Row],[BIMS Score]],BIMS[],2,FALSE),"")
B51: Witnessed Falls | F51: Fall Circumstances
B52: Result | D52: Total | F52: Result | H52: Total
B53: Yes | D53: =COUNTIFS(Mar[Witnessed Fall?],$B53) -> 0 | F53: Overwhelming Force | H53: =COUNTIFS(Mar[Fall Circumstances],$F53) -> 0
B54: No | D54: =COUNTIFS(Mar[Witnessed Fall?],$B54) -> 0 | F54: Intercepted | H54: =COUNTIFS(Mar[Fall Circumstances],$F54) -> 0
B55: TOTAL | D55: =SUM(D53:D54) -> 0 | F55: N/A | H55: =COUNTIFS(Mar[Fall Circumstances],$F55) -> 0
F56: TOTAL | H56: =SUM(H53:H55) -> 0
F58: Falls by BIMS Score
F59: BIMS Score | H59: Total
F60: Severe (1–7) | H60: =COUNTIFS(Mar[Cognitive Impairment],$F60) -> 0
F61: Moderate (8–12) | H61: =COUNTIFS(Mar[Cognitive Impairment],$F61) -> 0
F62: Intact (13–15) | H62: =COUNTIFS(Mar[Cognitive Impairment],$F62) -> 0
F63: TOTAL | H63: =SUM(H60:H62) -> 0
B65: Falls by Activity
B66: Activity | G66: Total
B67: {=IF(_xlfn._xlws.SORT(PriortoFall[What was the resident doing prior to fall?],1,1,TRUE)=0,"",(_xlfn._xlws.SORT(PriortoFall[What was the resident doing prior to fall?],1,1,TRUE)))} -> Ambulating with assistive device (walker, cane, wheelchair) | G67: =IF($B67="",NA(),COUNTIFS(Mar[What was resident doing prior to fall?],$B67)) -> 0
B68: Ambulating with staff assistance | G68: =IF($B68="",NA(),COUNTIFS(Mar[What was resident doing prior to fall?],$B68)) -> 0
B69: Ambulating without assistance or assistive device | G69: =IF($B69="",NA(),COUNTIFS(Mar[What was resident doing prior to fall?],$B69)) -> 0
B70: Changing position (e.g., in bed, chair) | G70: =IF($B70="",NA(),COUNTIFS(Mar[What was resident doing prior to fall?],$B70)) -> 0
B71: Dressing or undressing | G71: =IF($B71="",NA(),COUNTIFS(Mar[What was resident doing prior to fall?],$B71)) -> 0
B72: Other activity | G72: =IF($B72="",NA(),COUNTIFS(Mar[What was resident doing prior to fall?],$B72)) -> 0
B73: Reaching for an item | G73: =IF($B73="",NA(),COUNTIFS(Mar[What was resident doing prior to fall?],$B73)) -> 0
B74: Showering or bathing | G74: =IF($B74="",NA(),COUNTIFS(Mar[What was resident doing prior to fall?],$B74)) -> 0
B75: Toileting | G75: =IF($B75="",NA(),COUNTIFS(Mar[What was resident doing prior to fall?],$B75)) -> 0
B76: Transferring to or from bed, chair, wheelchair, etc. | G76: =IF($B76="",NA(),COUNTIFS(Mar[What was resident doing prior to fall?],$B76)) -> 0
B77: Unknown | G77: =IF($B77="",NA(),COUNTIFS(Mar[What was resident doing prior to fall?],$B77)) -> 0
G78: =IF($B78="",NA(),COUNTIFS(Mar[What was resident doing prior to fall?],$B78)) -> #N/A
G79: =IF($B79="",NA(),COUNTIFS(Mar[What was resident doing prior to fall?],$B79)) -> #N/A
G80: =IF($B80="",NA(),COUNTIFS(Mar[What was resident doing prior to fall?],$B80)) -> #N/A
G81: =IF($B81="",NA(),COUNTIFS(Mar[What was resident doing prior to fall?],$B81)) -> #N/A
G82: =IF($B82="",NA(),COUNTIFS(Mar[What was resident doing prior to fall?],$B82)) -> #N/A
G83: =IF($B83="",NA(),COUNTIFS(Mar[What was resident doing prior to fall?],$B83)) -> #N/A
G84: =IF($B84="",NA(),COUNTIFS(Mar[What was resident doing prior to fall?],$B84)) -> #N/A
G85: =IF($B85="",NA(),COUNTIFS(Mar[What was resident doing prior to fall?],$B85)) -> #N/A
G86: =IF($B86="",NA(),COUNTIFS(Mar[What was resident doing prior to fall?],$B86)) -> #N/A
G87: =IF($B87="",NA(),COUNTIFS(Mar[What was resident doing prior to fall?],$B87)) -> #N/A
G88: =IF($B88="",NA(),COUNTIFS(Mar[What was resident doing prior to fall?],$B88)) -> #N/A
G89: =IF($B89="",NA(),COUNTIFS(Mar[What was resident doing prior to fall?],$B89)) -> #N/A
G90: =IF($B90="",NA(),COUNTIFS(Mar[What was resident doing prior to fall?],$B90)) -> #N/A
B91: Total | G91: =_xlfn.AGGREGATE(9,6,G67:G90) -> 0
B93: Falls by Location
B94: Location | D94: Total
B95: {=IF(_xlfn._xlws.SORT(Location[Location],1,1,TRUE)=0,"",(_xlfn._xlws.SORT(Location[Location],1,1,TRUE)))} -> Activity Room | D95: =IF($B95="",NA(),COUNTIFS(Mar[Location],$B95)) -> 0
B96: Bedroom | D96: =IF($B96="",NA(),COUNTIFS(Mar[Location],$B96)) -> 0
B97: Bathroom | D97: =IF($B97="",NA(),COUNTIFS(Mar[Location],$B97)) -> 0
B98: Hallway | D98: =IF($B98="",NA(),COUNTIFS(Mar[Location],$B98)) -> 0
B99: Offsite | D99: =IF($B99="",NA(),COUNTIFS(Mar[Location],$B99)) -> 0
B100: Shower Room | D100: =IF($B100="",NA(),COUNTIFS(Mar[Location],$B100)) -> 0
B101: Dining Room | D101: =IF($B101="",NA(),COUNTIFS(Mar[Location],$B101)) -> 0
D102: =IF($B102="",NA(),COUNTIFS(Mar[Location],$B102)) -> #N/A
D103: =IF($B103="",NA(),COUNTIFS(Mar[Location],$B103)) -> #N/A
D104: =IF($B104="",NA(),COUNTIFS(Mar[Location],$B104)) -> #N/A
D105: =IF($B105="",NA(),COUNTIFS(Mar[Location],$B105)) -> #N/A
B106: TOTAL | D106: =_xlfn.AGGREGATE(9,6,D95:D105) -> 0
B108: ="Falls by Nursing Station " -> Falls by Nursing Station
B109: Station | D109: Total
B110: {=IF(_xlfn._xlws.SORT(NS[Nurses Stations],1,1,TRUE)=0,"",(_xlfn._xlws.SORT(NS[Nurses Stations],1,1,TRUE)))} -> 1 | D110: =IF($B110="",NA(),COUNTIFS(Mar[Station],$B110)) -> 0
B111: 2 | D111: =IF($B111="",NA(),COUNTIFS(Mar[Station],$B111)) -> 0
B112: 3 | D112: =IF($B112="",NA(),COUNTIFS(Mar[Station],$B112)) -> 0
B113: 4 | D113: =IF($B113="",NA(),COUNTIFS(Mar[Station],$B113)) -> 0
B114: 5 | D114: =IF($B114="",NA(),COUNTIFS(Mar[Station],$B114)) -> 0
D115: =IF($B115="",NA(),COUNTIFS(Mar[Station],$B115)) -> #N/A
D116: =IF($B116="",NA(),COUNTIFS(Mar[Station],$B116)) -> #N/A
D117: =IF($B117="",NA(),COUNTIFS(Mar[Station],$B117)) -> #N/A
D118: =IF($B118="",NA(),COUNTIFS(Mar[Station],$B118)) -> #N/A
D119: =IF($B119="",NA(),COUNTIFS(Mar[Station],$B119)) -> #N/A
D120: =IF($B120="",NA(),COUNTIFS(Mar[Station],$B120)) -> #N/A
B121: TOTAL | D121: =_xlfn.AGGREGATE(9,6,D110:D120) -> 0
B123: ="Falls by Day of the Week " -> Falls by Day of the Week
B124: Day | D124: Total
B125: Sun | D125: =COUNTIFS(Mar[Day],$B125) -> 0
B126: Mon | D126: =COUNTIFS(Mar[Day],$B126) -> 0
B127: Tue | D127: =COUNTIFS(Mar[Day],$B127) -> 0
B128: Wed | D128: =COUNTIFS(Mar[Day],$B128) -> 0
B129: Thu | D129: =COUNTIFS(Mar[Day],$B129) -> 0
B130: Fri | D130: =COUNTIFS(Mar[Day],$B130) -> 0
B131: Sat | D131: =COUNTIFS(Mar[Day],$B131) -> 0
B132: TOTAL | D132: =SUM(D125:D131) -> 0
B134: ="Falls by Shift" -> Falls by Shift
B135: Shift | D135: Total
B136: {=IF(_xlfn._xlws.SORT('Data Validation'!P3:P7,1,1,TRUE)=0,"",(_xlfn._xlws.SORT('Data Validation'!P3:P7,1,1,TRUE)))} -> 11-7 | D136: =IF($B136="",NA(),COUNTIFS(Mar[Shift],$B136)) -> 0
B137: 11–7 | D137: =IF($B137="",NA(),COUNTIFS(Mar[Shift],$B137)) -> 0
B138: 7–3 | D138: =IF($B138="",NA(),COUNTIFS(Mar[Shift],$B138)) -> 0
B139: 3–11 | D139: =IF($B139="",NA(),COUNTIFS(Mar[Shift],$B139)) -> 0
D140: =IF($B140="",NA(),COUNTIFS(Mar[Shift],$B140)) -> #N/A
B141: TOTAL | D141: =_xlfn.AGGREGATE(9,6,D136:D140) -> 0
...

Sheet Apr
B1: Year | C1: ='Data Validation'!$C$4 -> 0 | D1: =IF(OR($C$1="",$C$1=0),"Enter Year in Data Validation tab",'Data Validation'!$C$2&" April ") -> Enter Year in Data Validation tab | R1: Total Falls: | S1: =IF(COUNTIFS(Apr[Resident Name],"<>")=0,"No Data",COUNTIFS(Apr[Resident Name],"<>")) -> No Data | T1: Fall Rate: | U1: ='Fall Rate and Census'!K35 -> No Data
B3: Room | C3: Resident Name | D3: Date of Incident | E3: Date of Post Fall Evaluation | F3: Witnessed Fall? | G3: Fall Circumstances | H3: Injury Type | I3: Location | J3: Station | K3: Day | L3: Hour | M3: Shift | N3: BIMS Score | O3: Cognitive Impairment | P3: What was resident doing prior to fall? | Q3: Notes on resident activity prior to fall. | R3: RCA Completed? | S3: Contributing Factors | T3: Nurse | U3: Certified Nurse Assistance | V3: Witness Name
K4: =IF(Apr[[#This Row],[Date of Incident]]="","",TEXT(Apr[[#This Row],[Date of Incident]],"ddd")) | M4: =IFERROR(VLOOKUP(Apr[[#This Row],[Hour]],Shifts[],2,FALSE),"") | O4: =IFERROR(VLOOKUP(Apr[[#This Row],[BIMS Score]],BIMS[],2,FALSE),"")
K5: =IF(Apr[[#This Row],[Date of Incident]]="","",TEXT(Apr[[#This Row],[Date of Incident]],"ddd")) | M5: =IFERROR(VLOOKUP(Apr[[#This Row],[Hour]],Shifts[],2,FALSE),"") | O5: =IFERROR(VLOOKUP(Apr[[#This Row],[BIMS Score]],BIMS[],2,FALSE),"")
K6: =IF(Apr[[#This Row],[Date of Incident]]="","",TEXT(Apr[[#This Row],[Date of Incident]],"ddd")) | M6: =IFERROR(VLOOKUP(Apr[[#This Row],[Hour]],Shifts[],2,FALSE),"") | O6: =IFERROR(VLOOKUP(Apr[[#This Row],[BIMS Score]],BIMS[],2,FALSE),"")
K7: =IF(Apr[[#This Row],[Date of Incident]]="","",TEXT(Apr[[#This Row],[Date of Incident]],"ddd")) | M7: =IFERROR(VLOOKUP(Apr[[#This Row],[Hour]],Shifts[],2,FALSE),"") | O7: =IFERROR(VLOOKUP(Apr[[#This Row],[BIMS Score]],BIMS[],2,FALSE),"")
K8: =IF(Apr[[#This Row],[Date of Incident]]="","",TEXT(Apr[[#This Row],[Date of Incident]],"ddd")) | M8: =IFERROR(VLOOKUP(Apr[[#This Row],[Hour]],Shifts[],2,FALSE),"") | O8: =IFERROR(VLOOKUP(Apr[[#This Row],[BIMS Score]],BIMS[],2,FALSE),"")
K9: =IF(Apr[[#This Row],[Date of Incident]]="","",TEXT(Apr[[#This Row],[Date of Incident]],"ddd")) | M9: =IFERROR(VLOOKUP(Apr[[#This Row],[Hour]],Shifts[],2,FALSE),"") | O9: =IFERROR(VLOOKUP(Apr[[#This Row],[BIMS Score]],BIMS[],2,FALSE),"")
K10: =IF(Apr[[#This Row],[Date of Incident]]="","",TEXT(Apr[[#This Row],[Date of Incident]],"ddd")) | M10: =IFERROR(VLOOKUP(Apr[[#This Row],[Hour]],Shifts[],2,FALSE),"") | O10: =IFERROR(VLOOKUP(Apr[[#This Row],[BIMS Score]],BIMS[],2,FALSE),"")
K11: =IF(Apr[[#This Row],[Date of Incident]]="","",TEXT(Apr[[#This Row],[Date of Incident]],"ddd")) | M11: =IFERROR(VLOOKUP(Apr[[#This Row],[Hour]],Shifts[],2,FALSE),"") | O11: =IFERROR(VLOOKUP(Apr[[#This Row],[BIMS Score]],BIMS[],2,FALSE),"")
K12: =IF(Apr[[#This Row],[Date of Incident]]="","",TEXT(Apr[[#This Row],[Date of Incident]],"ddd")) | M12: =IFERROR(VLOOKUP(Apr[[#This Row],[Hour]],Shifts[],2,FALSE),"") | O12: =IFERROR(VLOOKUP(Apr[[#This Row],[BIMS Score]],BIMS[],2,FALSE),"")
K13: =IF(Apr[[#This Row],[Date of Incident]]="","",TEXT(Apr[[#This Row],[Date of Incident]],"ddd")) | M13: =IFERROR(VLOOKUP(Apr[[#This Row],[Hour]],Shifts[],2,FALSE),"") | O13: =IFERROR(VLOOKUP(Apr[[#This Row],[BIMS Score]],BIMS[],2,FALSE),"")
K14: =IF(Apr[[#This Row],[Date of Incident]]="","",TEXT(Apr[[#This Row],[Date of Incident]],"ddd")) | M14: =IFERROR(VLOOKUP(Apr[[#This Row],[Hour]],Shifts[],2,FALSE),"") | O14: =IFERROR(VLOOKUP(Apr[[#This Row],[BIMS Score]],BIMS[],2,FALSE),"")
K15: =IF(Apr[[#This Row],[Date of Incident]]="","",TEXT(Apr[[#This Row],[Date of Incident]],"ddd")) | M15: =IFERROR(VLOOKUP(Apr[[#This Row],[Hour]],Shifts[],2,FALSE),"") | O15: =IFERROR(VLOOKUP(Apr[[#This Row],[BIMS Score]],BIMS[],2,FALSE),"")
... K40: =IF(Apr[[#This Row],[Date of Incident]]="","",TEXT(Apr[[#This Row],[Date of Incident]],"ddd")) | M40: =IFERROR(VLOOKUP(Apr[[#This Row],[Hour]],Shifts[],2,FALSE),"") | O40: =IFERROR(VLOOKUP(Apr[[#This Row],[BIMS Score]],BIMS[],2,FALSE),"")
B51: Witnessed Falls | F51: Fall Circumstances
B52: Result | D52: Total | F52: Result | H52: Total
B53: Yes | D53: =COUNTIFS(Apr[Witnessed Fall?],$B53) -> 0 | F53: Overwhelming Force | H53: =COUNTIFS(Apr[Fall Circumstances],$F53) -> 0
B54: No | D54: =COUNTIFS(Apr[Witnessed Fall?],$B54) -> 0 | F54: Intercepted | H54: =COUNTIFS(Apr[Fall Circumstances],$F54) -> 0
B55: TOTAL | D55: =SUM(D53:D54) -> 0 | F55: N/A | H55: =COUNTIFS(Apr[Fall Circumstances],$F55) -> 0
F56: TOTAL | H56: =SUM(H53:H55) -> 0
F58: Falls by BIMS Score
F59: BIMS Score | H59: Total
F60: Severe (1–7) | H60: =COUNTIFS(Apr[Cognitive Impairment],$F60) -> 0
F61: Moderate (8–12) | H61: =COUNTIFS(Apr[Cognitive Impairment],$F61) -> 0
F62: Intact (13–15) | H62: =COUNTIFS(Apr[Cognitive Impairment],$F62) -> 0
F63: TOTAL | H63: =SUM(H60:H62) -> 0
B65: Falls by Activity
B66: Activity | G66: Total
B67: {=IF(_xlfn._xlws.SORT(PriortoFall[What was the resident doing prior to fall?],1,1,TRUE)=0,"",(_xlfn._xlws.SORT(PriortoFall[What was the resident doing prior to fall?],1,1,TRUE)))} -> Ambulating with assistive device (walker, cane, wheelchair) | G67: =IF($B67="",NA(),COUNTIFS(Apr[What was resident doing prior to fall?],$B67)) -> 0
B68: Ambulating with staff assistance | G68: =IF($B68="",NA(),COUNTIFS(Apr[What was resident doing prior to fall?],$B68)) -> 0
B69: Ambulating without assistance or assistive device | G69: =IF($B69="",NA(),COUNTIFS(Apr[What was resident doing prior to fall?],$B69)) -> 0
B70: Changing position (e.g., in bed, chair) | G70: =IF($B70="",NA(),COUNTIFS(Apr[What was resident doing prior to fall?],$B70)) -> 0
B71: Dressing or undressing | G71: =IF($B71="",NA(),COUNTIFS(Apr[What was resident doing prior to fall?],$B71)) -> 0
B72: Other activity | G72: =IF($B72="",NA(),COUNTIFS(Apr[What was resident doing prior to fall?],$B72)) -> 0
B73: Reaching for an item | G73: =IF($B73="",NA(),COUNTIFS(Apr[What was resident doing prior to fall?],$B73)) -> 0
B74: Showering or bathing | G74: =IF($B74="",NA(),COUNTIFS(Apr[What was resident doing prior to fall?],$B74)) -> 0
B75: Toileting | G75: =IF($B75="",NA(),COUNTIFS(Apr[What was resident doing prior to fall?],$B75)) -> 0
B76: Transferring to or from bed, chair, wheelchair, etc. | G76: =IF($B76="",NA(),COUNTIFS(Apr[What was resident doing prior to fall?],$B76)) -> 0
B77: Unknown | G77: =IF($B77="",NA(),COUNTIFS(Apr[What was resident doing prior to fall?],$B77)) -> 0
G78: =IF($B78="",NA(),COUNTIFS(Apr[What was resident doing prior to fall?],$B78)) -> #N/A
G79: =IF($B79="",NA(),COUNTIFS(Apr[What was resident doing prior to fall?],$B79)) -> #N/A
G80: =IF($B80="",NA(),COUNTIFS(Apr[What was resident doing prior to fall?],$B80)) -> #N/A
G81: =IF($B81="",NA(),COUNTIFS(Apr[What was resident doing prior to fall?],$B81)) -> #N/A
G82: =IF($B82="",NA(),COUNTIFS(Apr[What was resident doing prior to fall?],$B82)) -> #N/A
G83: =IF($B83="",NA(),COUNTIFS(Apr[What was resident doing prior to fall?],$B83)) -> #N/A
G84: =IF($B84="",NA(),COUNTIFS(Apr[What was resident doing prior to fall?],$B84)) -> #N/A
G85: =IF($B85="",NA(),COUNTIFS(Apr[What was resident doing prior to fall?],$B85)) -> #N/A
G86: =IF($B86="",NA(),COUNTIFS(Apr[What was resident doing prior to fall?],$B86)) -> #N/A
G87: =IF($B87="",NA(),COUNTIFS(Apr[What was resident doing prior to fall?],$B87)) -> #N/A
G88: =IF($B88="",NA(),COUNTIFS(Apr[What was resident doing prior to fall?],$B88)) -> #N/A
G89: =IF($B89="",NA(),COUNTIFS(Apr[What was resident doing prior to fall?],$B89)) -> #N/A
G90: =IF($B90="",NA(),COUNTIFS(Apr[What was resident doing prior to fall?],$B90)) -> #N/A
B91: Total | G91: =_xlfn.AGGREGATE(9,6,G67:G90) -> 0
B93: Falls by Location
B94: Location | D94: Total
B95: {=IF(_xlfn._xlws.SORT(Location[Location],1,1,TRUE)=0,"",(_xlfn._xlws.SORT(Location[Location],1,1,TRUE)))} -> Activity Room | D95: =IF($B95="",NA(),COUNTIFS(Apr[Location],$B95)) -> 0
B96: Bedroom | D96: =IF($B96="",NA(),COUNTIFS(Apr[Location],$B96)) -> 0
B97: Bathroom | D97: =IF($B97="",NA(),COUNTIFS(Apr[Location],$B97)) -> 0
B98: Hallway | D98: =IF($B98="",NA(),COUNTIFS(Apr[Location],$B98)) -> 0
B99: Offsite | D99: =IF($B99="",NA(),COUNTIFS(Apr[Location],$B99)) -> 0
B100: Shower Room | D100: =IF($B100="",NA(),COUNTIFS(Apr[Location],$B100)) -> 0
B101: Dining Room | D101: =IF($B101="",NA(),COUNTIFS(Apr[Location],$B101)) -> 0
D102: =IF($B102="",NA(),COUNTIFS(Apr[Location],$B102)) -> #N/A
D103: =IF($B103="",NA(),COUNTIFS(Apr[Location],$B103)) -> #N/A
D104: =IF($B104="",NA(),COUNTIFS(Apr[Location],$B104)) -> #N/A
D105: =IF($B105="",NA(),COUNTIFS(Apr[Location],$B105)) -> #N/A
B106: TOTAL | D106: =_xlfn.AGGREGATE(9,6,D95:D105) -> 0
B108: ="Falls by Nursing Station " -> Falls by Nursing Station
B109: Station | D109: Total
B110: {=IF(_xlfn._xlws.SORT(NS[Nurses Stations],1,1,TRUE)=0,"",(_xlfn._xlws.SORT(NS[Nurses Stations],1,1,TRUE)))} -> 1 | D110: =IF($B110="",NA(),COUNTIFS(Apr[Station],$B110)) -> 0
B111: 2 | D111: =IF($B111="",NA(),COUNTIFS(Apr[Station],$B111)) -> 0
B112: 3 | D112: =IF($B112="",NA(),COUNTIFS(Apr[Station],$B112)) -> 0
B113: 4 | D113: =IF($B113="",NA(),COUNTIFS(Apr[Station],$B113)) -> 0
B114: 5 | D114: =IF($B114="",NA(),COUNTIFS(Apr[Station],$B114)) -> 0
D115: =IF($B115="",NA(),COUNTIFS(Apr[Station],$B115)) -> #N/A
D116: =IF($B116="",NA(),COUNTIFS(Apr[Station],$B116)) -> #N/A
D117: =IF($B117="",NA(),COUNTIFS(Apr[Station],$B117)) -> #N/A
D118: =IF($B118="",NA(),COUNTIFS(Apr[Station],$B118)) -> #N/A
D119: =IF($B119="",NA(),COUNTIFS(Apr[Station],$B119)) -> #N/A
D120: =IF($B120="",NA(),COUNTIFS(Apr[Station],$B120)) -> #N/A
B121: TOTAL | D121: =_xlfn.AGGREGATE(9,6,D110:D120) -> 0
B123: ="Falls by Day of the Week " -> Falls by Day of the Week
B124: Day | D124: Total
B125: Sun | D125: =COUNTIFS(Apr[Day],$B125) -> 0
B126: Mon | D126: =COUNTIFS(Apr[Day],$B126) -> 0
B127: Tue | D127: =COUNTIFS(Apr[Day],$B127) -> 0
B128: Wed | D128: =COUNTIFS(Apr[Day],$B128) -> 0
B129: Thu | D129: =COUNTIFS(Apr[Day],$B129) -> 0
B130: Fri | D130: =COUNTIFS(Apr[Day],$B130) -> 0
B131: Sat | D131: =COUNTIFS(Apr[Day],$B131) -> 0
B132: TOTAL | D132: =SUM(D125:D131) -> 0
B134: ="Falls by Shift" -> Falls by Shift
B135: Shift | D135: Total
B136: {=IF(_xlfn._xlws.SORT('Data Validation'!P3:P7,1,1,TRUE)=0,"",(_xlfn._xlws.SORT('Data Validation'!P3:P7,1,1,TRUE)))} -> 11-7 | D136: =IF($B136="",NA(),COUNTIFS(Apr[Shift],$B136)) -> 0
B137: 11–7 | D137: =IF($B137="",NA(),COUNTIFS(Apr[Shift],$B137)) -> 0
B138: 7–3 | D138: =IF($B138="",NA(),COUNTIFS(Apr[Shift],$B138)) -> 0
B139: 3–11 | D139: =IF($B139="",NA(),COUNTIFS(Apr[Shift],$B139)) -> 0
D140: =IF($B140="",NA(),COUNTIFS(Apr[Shift],$B140)) -> #N/A
B141: TOTAL | D141: =_xlfn.AGGREGATE(9,6,D136:D140) -> 0
...

Sheet May
B1: Year | C1: ='Data Validation'!$C$4 -> 0 | D1: =IF(OR($C$1="",$C$1=0),"Enter Year in Data Validation tab",'Data Validation'!$C$2&" May ") -> Enter Year in Data Validation tab | R1: Total Falls: | S1: =IF(COUNTIFS(May[Resident Name],"<>")=0,"No Data",COUNTIFS(May[Resident Name],"<>")) -> No Data | T1: Fall Rate: | U1: ='Fall Rate and Census'!$N$36 -> No Data
B3: Room | C3: Resident Name | D3: Date of Incident | E3: Date of Post Fall Evaluation | F3: Witnessed Fall? | G3: Fall Circumstances | H3: Injury Type | I3: Location | J3: Station | K3: Day | L3: Hour | M3: Shift | N3: BIMS Score | O3: Cognitive Impairment | P3: What was resident doing prior to fall? | Q3: Notes on resident activity prior to fall. | R3: RCA Completed? | S3: Contributing Factors | T3: Nurse | U3: Certified Nurse Assistance | V3: Witness Name
K4: =IF(May[[#This Row],[Date of Incident]]="","",TEXT(May[[#This Row],[Date of Incident]],"ddd")) | M4: =IFERROR(VLOOKUP(May[[#This Row],[Hour]],Shifts[],2,FALSE),"") | O4: =IFERROR(VLOOKUP(May[[#This Row],[BIMS Score]],BIMS[],2,FALSE),"")
K5: =IF(May[[#This Row],[Date of Incident]]="","",TEXT(May[[#This Row],[Date of Incident]],"ddd")) | M5: =IFERROR(VLOOKUP(May[[#This Row],[Hour]],Shifts[],2,FALSE),"") | O5: =IFERROR(VLOOKUP(May[[#This Row],[BIMS Score]],BIMS[],2,FALSE),"")
K6: =IF(May[[#This Row],[Date of Incident]]="","",TEXT(May[[#This Row],[Date of Incident]],"ddd")) | M6: =IFERROR(VLOOKUP(May[[#This Row],[Hour]],Shifts[],2,FALSE),"") | O6: =IFERROR(VLOOKUP(May[[#This Row],[BIMS Score]],BIMS[],2,FALSE),"")
K7: =IF(May[[#This Row],[Date of Incident]]="","",TEXT(May[[#This Row],[Date of Incident]],"ddd")) | M7: =IFERROR(VLOOKUP(May[[#This Row],[Hour]],Shifts[],2,FALSE),"") | O7: =IFERROR(VLOOKUP(May[[#This Row],[BIMS Score]],BIMS[],2,FALSE),"")
K8: =IF(May[[#This Row],[Date of Incident]]="","",TEXT(May[[#This Row],[Date of Incident]],"ddd")) | M8: =IFERROR(VLOOKUP(May[[#This Row],[Hour]],Shifts[],2,FALSE),"") | O8: =IFERROR(VLOOKUP(May[[#This Row],[BIMS Score]],BIMS[],2,FALSE),"")
K9: =IF(May[[#This Row],[Date of Incident]]="","",TEXT(May[[#This Row],[Date of Incident]],"ddd")) | M9: =IFERROR(VLOOKUP(May[[#This Row],[Hour]],Shifts[],2,FALSE),"") | O9: =IFERROR(VLOOKUP(May[[#This Row],[BIMS Score]],BIMS[],2,FALSE),"")
K10: =IF(May[[#This Row],[Date of Incident]]="","",TEXT(May[[#This Row],[Date of Incident]],"ddd")) | M10: =IFERROR(VLOOKUP(May[[#This Row],[Hour]],Shifts[],2,FALSE),"") | O10: =IFERROR(VLOOKUP(May[[#This Row],[BIMS Score]],BIMS[],2,FALSE),"")
K11: =IF(May[[#This Row],[Date of Incident]]="","",TEXT(May[[#This Row],[Date of Incident]],"ddd")) | M11: =IFERROR(VLOOKUP(May[[#This Row],[Hour]],Shifts[],2,FALSE),"") | O11: =IFERROR(VLOOKUP(May[[#This Row],[BIMS Score]],BIMS[],2,FALSE),"")
K12: =IF(May[[#This Row],[Date of Incident]]="","",TEXT(May[[#This Row],[Date of Incident]],"ddd")) | M12: =IFERROR(VLOOKUP(May[[#This Row],[Hour]],Shifts[],2,FALSE),"") | O12: =IFERROR(VLOOKUP(May[[#This Row],[BIMS Score]],BIMS[],2,FALSE),"")
K13: =IF(May[[#This Row],[Date of Incident]]="","",TEXT(May[[#This Row],[Date of Incident]],"ddd")) | M13: =IFERROR(VLOOKUP(May[[#This Row],[Hour]],Shifts[],2,FALSE),"") | O13: =IFERROR(VLOOKUP(May[[#This Row],[BIMS Score]],BIMS[],2,FALSE),"")
K14: =IF(May[[#This Row],[Date of Incident]]="","",TEXT(May[[#This Row],[Date of Incident]],"ddd")) | M14: =IFERROR(VLOOKUP(May[[#This Row],[Hour]],Shifts[],2,FALSE),"") | O14: =IFERROR(VLOOKUP(May[[#This Row],[BIMS Score]],BIMS[],2,FALSE),"")
K15: =IF(May[[#This Row],[Date of Incident]]="","",TEXT(May[[#This Row],[Date of Incident]],"ddd")) | M15: =IFERROR(VLOOKUP(May[[#This Row],[Hour]],Shifts[],2,FALSE),"") | O15: =IFERROR(VLOOKUP(May[[#This Row],[BIMS Score]],BIMS[],2,FALSE),"")
... K40: =IF(May[[#This Row],[Date of Incident]]="","",TEXT(May[[#This Row],[Date of Incident]],"ddd")) | M40: =IFERROR(VLOOKUP(May[[#This Row],[Hour]],Shifts[],2,FALSE),"") | O40: =IFERROR(VLOOKUP(May[[#This Row],[BIMS Score]],BIMS[],2,FALSE),"")
B51: Witnessed Falls | F51: Fall Circumstances
B52: Result | D52: Total | F52: Result | H52: Total
B53: Yes | D53: =COUNTIFS(May[Witnessed Fall?],$B53) -> 0 | F53: Overwhelming Force | H53: =COUNTIFS(May[Fall Circumstances],$F53) -> 0
B54: No | D54: =COUNTIFS(May[Witnessed Fall?],$B54) -> 0 | F54: Intercepted | H54: =COUNTIFS(May[Fall Circumstances],$F54) -> 0
B55: TOTAL | D55: =SUM(D53:D54) -> 0 | F55: N/A | H55: =COUNTIFS(May[Fall Circumstances],$F55) -> 0
F56: TOTAL | H56: =SUM(H53:H55) -> 0
F58: Falls by BIMS Score
F59: BIMS Score | H59: Total
F60: Severe (1–7) | H60: =COUNTIFS(May[Cognitive Impairment],$F60) -> 0
F61: Moderate (8–12) | H61: =COUNTIFS(May[Cognitive Impairment],$F61) -> 0
F62: Intact (13–15) | H62: =COUNTIFS(May[Cognitive Impairment],$F62) -> 0
F63: TOTAL | H63: =SUM(H60:H62) -> 0
B65: Falls by Activity
B66: Activity | G66: Total
B67: {=IF(_xlfn._xlws.SORT(PriortoFall[What was the resident doing prior to fall?],1,1,TRUE)=0,"",(_xlfn._xlws.SORT(PriortoFall[What was the resident doing prior to fall?],1,1,TRUE)))} -> Ambulating with assistive device (walker, cane, wheelchair) | G67: =IF($B67="",NA(),COUNTIFS(May[What was resident doing prior to fall?],$B67)) -> 0
B68: Ambulating with staff assistance | G68: =IF($B68="",NA(),COUNTIFS(May[What was resident doing prior to fall?],$B68)) -> 0
B69: Ambulating without assistance or assistive device | G69: =IF($B69="",NA(),COUNTIFS(May[What was resident doing prior to fall?],$B69)) -> 0
B70: Changing position (e.g., in bed, chair) | G70: =IF($B70="",NA(),COUNTIFS(May[What was resident doing prior to fall?],$B70)) -> 0
B71: Dressing or undressing | G71: =IF($B71="",NA(),COUNTIFS(May[What was resident doing prior to fall?],$B71)) -> 0
B72: Other activity | G72: =IF($B72="",NA(),COUNTIFS(May[What was resident doing prior to fall?],$B72)) -> 0
B73: Reaching for an item | G73: =IF($B73="",NA(),COUNTIFS(May[What was resident doing prior to fall?],$B73)) -> 0
B74: Showering or bathing | G74: =IF($B74="",NA(),COUNTIFS(May[What was resident doing prior to fall?],$B74)) -> 0
B75: Toileting | G75: =IF($B75="",NA(),COUNTIFS(May[What was resident doing prior to fall?],$B75)) -> 0
B76: Transferring to or from bed, chair, wheelchair, etc. | G76: =IF($B76="",NA(),COUNTIFS(May[What was resident doing prior to fall?],$B76)) -> 0
B77: Unknown | G77: =IF($B77="",NA(),COUNTIFS(May[What was resident doing prior to fall?],$B77)) -> 0
G78: =IF($B78="",NA(),COUNTIFS(May[What was resident doing prior to fall?],$B78)) -> #N/A
G79: =IF($B79="",NA(),COUNTIFS(May[What was resident doing prior to fall?],$B79)) -> #N/A
G80: =IF($B80="",NA(),COUNTIFS(May[What was resident doing prior to fall?],$B80)) -> #N/A
G81: =IF($B81="",NA(),COUNTIFS(May[What was resident doing prior to fall?],$B81)) -> #N/A
G82: =IF($B82="",NA(),COUNTIFS(May[What was resident doing prior to fall?],$B82)) -> #N/A
G83: =IF($B83="",NA(),COUNTIFS(May[What was resident doing prior to fall?],$B83)) -> #N/A
G84: =IF($B84="",NA(),COUNTIFS(May[What was resident doing prior to fall?],$B84)) -> #N/A
G85: =IF($B85="",NA(),COUNTIFS(May[What was resident doing prior to fall?],$B85)) -> #N/A
G86: =IF($B86="",NA(),COUNTIFS(May[What was resident doing prior to fall?],$B86)) -> #N/A
G87: =IF($B87="",NA(),COUNTIFS(May[What was resident doing prior to fall?],$B87)) -> #N/A
G88: =IF($B88="",NA(),COUNTIFS(May[What was resident doing prior to fall?],$B88)) -> #N/A
G89: =IF($B89="",NA(),COUNTIFS(May[What was resident doing prior to fall?],$B89)) -> #N/A
G90: =IF($B90="",NA(),COUNTIFS(May[What was resident doing prior to fall?],$B90)) -> #N/A
B91: Total | G91: =_xlfn.AGGREGATE(9,6,G67:G90) -> 0
B93: Falls by Location
B94: Location | D94: Total
B95: {=IF(_xlfn._xlws.SORT(Location[Location],1,1,TRUE)=0,"",(_xlfn._xlws.SORT(Location[Location],1,1,TRUE)))} -> Activity Room | D95: =IF($B95="",NA(),COUNTIFS(May[Location],$B95)) -> 0
B96: Bedroom | D96: =IF($B96="",NA(),COUNTIFS(May[Location],$B96)) -> 0
B97: Bathroom | D97: =IF($B97="",NA(),COUNTIFS(May[Location],$B97)) -> 0
B98: Hallway | D98: =IF($B98="",NA(),COUNTIFS(May[Location],$B98)) -> 0
B99: Offsite | D99: =IF($B99="",NA(),COUNTIFS(May[Location],$B99)) -> 0
B100: Shower Room | D100: =IF($B100="",NA(),COUNTIFS(May[Location],$B100)) -> 0
B101: Dining Room | D101: =IF($B101="",NA(),COUNTIFS(May[Location],$B101)) -> 0
D102: =IF($B102="",NA(),COUNTIFS(May[Location],$B102)) -> #N/A
D103: =IF($B103="",NA(),COUNTIFS(May[Location],$B103)) -> #N/A
D104: =IF($B104="",NA(),COUNTIFS(May[Location],$B104)) -> #N/A
D105: =IF($B105="",NA(),COUNTIFS(May[Location],$B105)) -> #N/A
B106: TOTAL | D106: =_xlfn.AGGREGATE(9,6,D95:D105) -> 0
B108: ="Falls by Nursing Station " -> Falls by Nursing Station
B109: Station | D109: Total
B110: {=IF(_xlfn._xlws.SORT(NS[Nurses Stations],1,1,TRUE)=0,"",(_xlfn._xlws.SORT(NS[Nurses Stations],1,1,TRUE)))} -> 1 | D110: =IF($B110="",NA(),COUNTIFS(May[Station],$B110)) -> 0
B111: 2 | D111: =IF($B111="",NA(),COUNTIFS(May[Station],$B111)) -> 0
B112: 3 | D112: =IF($B112="",NA(),COUNTIFS(May[Station],$B112)) -> 0
B113: 4 | D113: =IF($B113="",NA(),COUNTIFS(May[Station],$B113)) -> 0
B114: 5 | D114: =IF($B114="",NA(),COUNTIFS(May[Station],$B114)) -> 0
D115: =IF($B115="",NA(),COUNTIFS(May[Station],$B115)) -> #N/A
D116: =IF($B116="",NA(),COUNTIFS(May[Station],$B116)) -> #N/A
D117: =IF($B117="",NA(),COUNTIFS(May[Station],$B117)) -> #N/A
D118: =IF($B118="",NA(),COUNTIFS(May[Station],$B118)) -> #N/A
D119: =IF($B119="",NA(),COUNTIFS(May[Station],$B119)) -> #N/A
D120: =IF($B120="",NA(),COUNTIFS(May[Station],$B120)) -> #N/A
B121: TOTAL | D121: =_xlfn.AGGREGATE(9,6,D110:D120) -> 0
B123: ="Falls by Day of the Week " -> Falls by Day of the Week
B124: Day | D124: Total
B125: Sun | D125: =COUNTIFS(May[Day],$B125) -> 0
B126: Mon | D126: =COUNTIFS(May[Day],$B126) -> 0
B127: Tue | D127: =COUNTIFS(May[Day],$B127) -> 0
B128: Wed | D128: =COUNTIFS(May[Day],$B128) -> 0
B129: Thu | D129: =COUNTIFS(May[Day],$B129) -> 0
B130: Fri | D130: =COUNTIFS(May[Day],$B130) -> 0
B131: Sat | D131: =COUNTIFS(May[Day],$B131) -> 0
B132: TOTAL | D132: =SUM(D125:D131) -> 0
B134: ="Falls by Shift" -> Falls by Shift
B135: Shift | D135: Total
B136: {=IF(_xlfn._xlws.SORT('Data Validation'!P3:P7,1,1,TRUE)=0,"",(_xlfn._xlws.SORT('Data Validation'!P3:P7,1,1,TRUE)))} -> 11-7 | D136: =IF($B136="",NA(),COUNTIFS(May[Shift],$B136)) -> 0
B137: 11–7 | D137: =IF($B137="",NA(),COUNTIFS(May[Shift],$B137)) -> 0
B138: 7–3 | D138: =IF($B138="",NA(),COUNTIFS(May[Shift],$B138)) -> 0
B139: 3–11 | D139: =IF($B139="",NA(),COUNTIFS(May[Shift],$B139)) -> 0
D140: =IF($B140="",NA(),COUNTIFS(May[Shift],$B140)) -> #N/A
B141: TOTAL | D141: =_xlfn.AGGREGATE(9,6,D136:D140) -> 0
...

Sheet June
B1: Year | C1: ='Data Validation'!$C$4 -> 0 | D1: =IF(OR($C$1="",$C$1=0),"Enter Year in Data Validation tab",'Data Validation'!$C$2&" June ") -> Enter Year in Data Validation tab | R1: Total Falls: | S1: =IF(COUNTIFS(June[Resident Name],"<>")=0,"No Data",COUNTIFS(June[Resident Name],"<>")) -> No Data | T1: Fall Rate: | U1: ='Fall Rate and Census'!$Q$35 -> No Data
B3: Room | C3: Resident Name | D3: Date of Incident | E3: Date of Post Fall Evaluation | F3: Witnessed Fall? | G3: Fall Circumstances | H3: Injury Type | I3: Location | J3: Station | K3: Day | L3: Hour | M3: Shift | N3: BIMS Score | O3: Cognitive Impairment | P3: What was resident doing prior to fall? | Q3: Notes on resident activity prior to fall. | R3: RCA Completed? | S3: Contributing Factors | T3: Nurse | U3: Certified Nurse Assistance | V3: Witness Name
K4: =IF(June[[#This Row],[Date of Incident]]="","",TEXT(June[[#This Row],[Date of Incident]],"ddd")) | M4: =IFERROR(VLOOKUP(June[[#This Row],[Hour]],Shifts[],2,FALSE),"") | O4: =IFERROR(VLOOKUP(June[[#This Row],[BIMS Score]],BIMS[],2,FALSE),"")
K5: =IF(June[[#This Row],[Date of Incident]]="","",TEXT(June[[#This Row],[Date of Incident]],"ddd")) | M5: =IFERROR(VLOOKUP(June[[#This Row],[Hour]],Shifts[],2,FALSE),"") | O5: =IFERROR(VLOOKUP(June[[#This Row],[BIMS Score]],BIMS[],2,FALSE),"")
K6: =IF(June[[#This Row],[Date of Incident]]="","",TEXT(June[[#This Row],[Date of Incident]],"ddd")) | M6: =IFERROR(VLOOKUP(June[[#This Row],[Hour]],Shifts[],2,FALSE),"") | O6: =IFERROR(VLOOKUP(June[[#This Row],[BIMS Score]],BIMS[],2,FALSE),"")
K7: =IF(June[[#This Row],[Date of Incident]]="","",TEXT(June[[#This Row],[Date of Incident]],"ddd")) | M7: =IFERROR(VLOOKUP(June[[#This Row],[Hour]],Shifts[],2,FALSE),"") | O7: =IFERROR(VLOOKUP(June[[#This Row],[BIMS Score]],BIMS[],2,FALSE),"")
K8: =IF(June[[#This Row],[Date of Incident]]="","",TEXT(June[[#This Row],[Date of Incident]],"ddd")) | M8: =IFERROR(VLOOKUP(June[[#This Row],[Hour]],Shifts[],2,FALSE),"") | O8: =IFERROR(VLOOKUP(June[[#This Row],[BIMS Score]],BIMS[],2,FALSE),"")
K9: =IF(June[[#This Row],[Date of Incident]]="","",TEXT(June[[#This Row],[Date of Incident]],"ddd")) | M9: =IFERROR(VLOOKUP(June[[#This Row],[Hour]],Shifts[],2,FALSE),"") | O9: =IFERROR(VLOOKUP(June[[#This Row],[BIMS Score]],BIMS[],2,FALSE),"")
K10: =IF(June[[#This Row],[Date of Incident]]="","",TEXT(June[[#This Row],[Date of Incident]],"ddd")) | M10: =IFERROR(VLOOKUP(June[[#This Row],[Hour]],Shifts[],2,FALSE),"") | O10: =IFERROR(VLOOKUP(June[[#This Row],[BIMS Score]],BIMS[],2,FALSE),"")
K11: =IF(June[[#This Row],[Date of Incident]]="","",TEXT(June[[#This Row],[Date of Incident]],"ddd")) | M11: =IFERROR(VLOOKUP(June[[#This Row],[Hour]],Shifts[],2,FALSE),"") | O11: =IFERROR(VLOOKUP(June[[#This Row],[BIMS Score]],BIMS[],2,FALSE),"")
K12: =IF(June[[#This Row],[Date of Incident]]="","",TEXT(June[[#This Row],[Date of Incident]],"ddd")) | M12: =IFERROR(VLOOKUP(June[[#This Row],[Hour]],Shifts[],2,FALSE),"") | O12: =IFERROR(VLOOKUP(June[[#This Row],[BIMS Score]],BIMS[],2,FALSE),"")
K13: =IF(June[[#This Row],[Date of Incident]]="","",TEXT(June[[#This Row],[Date of Incident]],"ddd")) | M13: =IFERROR(VLOOKUP(June[[#This Row],[Hour]],Shifts[],2,FALSE),"") | O13: =IFERROR(VLOOKUP(June[[#This Row],[BIMS Score]],BIMS[],2,FALSE),"")
K14: =IF(June[[#This Row],[Date of Incident]]="","",TEXT(June[[#This Row],[Date of Incident]],"ddd")) | M14: =IFERROR(VLOOKUP(June[[#This Row],[Hour]],Shifts[],2,FALSE),"") | O14: =IFERROR(VLOOKUP(June[[#This Row],[BIMS Score]],BIMS[],2,FALSE),"")
K15: =IF(June[[#This Row],[Date of Incident]]="","",TEXT(June[[#This Row],[Date of Incident]],"ddd")) | M15: =IFERROR(VLOOKUP(June[[#This Row],[Hour]],Shifts[],2,FALSE),"") | O15: =IFERROR(VLOOKUP(June[[#This Row],[BIMS Score]],BIMS[],2,FALSE),"")
... K40: =IF(June[[#This Row],[Date of Incident]]="","",TEXT(June[[#This Row],[Date of Incident]],"ddd")) | M40: =IFERROR(VLOOKUP(June[[#This Row],[Hour]],Shifts[],2,FALSE),"") | O40: =IFERROR(VLOOKUP(June[[#This Row],[BIMS Score]],BIMS[],2,FALSE),"")
B51: Witnessed Falls | F51: Fall Circumstances
B52: Result | D52: Total | F52: Result | H52: Total
B53: Yes | D53: =COUNTIFS(June[Witnessed Fall?],$B53) -> 0 | F53: Overwhelming Force | H53: =COUNTIFS(June[Fall Circumstances],$F53) -> 0
B54: No | D54: =COUNTIFS(June[Witnessed Fall?],$B54) -> 0 | F54: Intercepted | H54: =COUNTIFS(June[Fall Circumstances],$F54) -> 0
B55: TOTAL | D55: =SUM(D53:D54) -> 0 | F55: N/A | H55: =COUNTIFS(June[Fall Circumstances],$F55) -> 0
F56: TOTAL | H56: =SUM(H53:H55) -> 0
F58: Falls by BIMS Score
F59: BIMS Score | H59: Total
F60: Severe (1–7) | H60: =COUNTIFS(June[Cognitive Impairment],$F60) -> 0
F61: Moderate (8–12) | H61: =COUNTIFS(June[Cognitive Impairment],$F61) -> 0
F62: Intact (13–15) | H62: =COUNTIFS(June[Cognitive Impairment],$F62) -> 0
F63: TOTAL | H63: =SUM(H60:H62) -> 0
B65: Falls by Activity
B66: Activity | G66: Total
B67: {=IF(_xlfn._xlws.SORT(PriortoFall[What was the resident doing prior to fall?],1,1,TRUE)=0,"",(_xlfn._xlws.SORT(PriortoFall[What was the resident doing prior to fall?],1,1,TRUE)))} -> Ambulating with assistive device (walker, cane, wheelchair) | G67: =IF($B67="",NA(),COUNTIFS(June[What was resident doing prior to fall?],$B67)) -> 0
B68: Ambulating with staff assistance | G68: =IF($B68="",NA(),COUNTIFS(June[What was resident doing prior to fall?],$B68)) -> 0
B69: Ambulating without assistance or assistive device | G69: =IF($B69="",NA(),COUNTIFS(June[What was resident doing prior to fall?],$B69)) -> 0
B70: Changing position (e.g., in bed, chair) | G70: =IF($B70="",NA(),COUNTIFS(June[What was resident doing prior to fall?],$B70)) -> 0
B71: Dressing or undressing | G71: =IF($B71="",NA(),COUNTIFS(June[What was resident doing prior to fall?],$B71)) -> 0
B72: Other activity | G72: =IF($B72="",NA(),COUNTIFS(June[What was resident doing prior to fall?],$B72)) -> 0
B73: Reaching for an item | G73: =IF($B73="",NA(),COUNTIFS(June[What was resident doing prior to fall?],$B73)) -> 0
B74: Showering or bathing | G74: =IF($B74="",NA(),COUNTIFS(June[What was resident doing prior to fall?],$B74)) -> 0
B75: Toileting | G75: =IF($B75="",NA(),COUNTIFS(June[What was resident doing prior to fall?],$B75)) -> 0
B76: Transferring to or from bed, chair, wheelchair, etc. | G76: =IF($B76="",NA(),COUNTIFS(June[What was resident doing prior to fall?],$B76)) -> 0
B77: Unknown | G77: =IF($B77="",NA(),COUNTIFS(June[What was resident doing prior to fall?],$B77)) -> 0
G78: =IF($B78="",NA(),COUNTIFS(June[What was resident doing prior to fall?],$B78)) -> #N/A
G79: =IF($B79="",NA(),COUNTIFS(June[What was resident doing prior to fall?],$B79)) -> #N/A
G80: =IF($B80="",NA(),COUNTIFS(June[What was resident doing prior to fall?],$B80)) -> #N/A
G81: =IF($B81="",NA(),COUNTIFS(June[What was resident doing prior to fall?],$B81)) -> #N/A
G82: =IF($B82="",NA(),COUNTIFS(June[What was resident doing prior to fall?],$B82)) -> #N/A
G83: =IF($B83="",NA(),COUNTIFS(June[What was resident doing prior to fall?],$B83)) -> #N/A
G84: =IF($B84="",NA(),COUNTIFS(June[What was resident doing prior to fall?],$B84)) -> #N/A
G85: =IF($B85="",NA(),COUNTIFS(June[What was resident doing prior to fall?],$B85)) -> #N/A
G86: =IF($B86="",NA(),COUNTIFS(June[What was resident doing prior to fall?],$B86)) -> #N/A
G87: =IF($B87="",NA(),COUNTIFS(June[What was resident doing prior to fall?],$B87)) -> #N/A
G88: =IF($B88="",NA(),COUNTIFS(June[What was resident doing prior to fall?],$B88)) -> #N/A
G89: =IF($B89="",NA(),COUNTIFS(June[What was resident doing prior to fall?],$B89)) -> #N/A
G90: =IF($B90="",NA(),COUNTIFS(June[What was resident doing prior to fall?],$B90)) -> #N/A
B91: Total | G91: =_xlfn.AGGREGATE(9,6,G67:G90) -> 0
B93: Falls by Location
B94: Location | D94: Total
B95: {=IF(_xlfn._xlws.SORT(Location[Location],1,1,TRUE)=0,"",(_xlfn._xlws.SORT(Location[Location],1,1,TRUE)))} -> Activity Room | D95: =IF($B95="",NA(),COUNTIFS(June[Location],$B95)) -> 0
B96: Bedroom | D96: =IF($B96="",NA(),COUNTIFS(June[Location],$B96)) -> 0
B97: Bathroom | D97: =IF($B97="",NA(),COUNTIFS(June[Location],$B97)) -> 0
B98: Hallway | D98: =IF($B98="",NA(),COUNTIFS(June[Location],$B98)) -> 0
B99: Offsite | D99: =IF($B99="",NA(),COUNTIFS(June[Location],$B99)) -> 0
B100: Shower Room | D100: =IF($B100="",NA(),COUNTIFS(June[Location],$B100)) -> 0
B101: Dining Room | D101: =IF($B101="",NA(),COUNTIFS(June[Location],$B101)) -> 0
D102: =IF($B102="",NA(),COUNTIFS(June[Location],$B102)) -> #N/A
D103: =IF($B103="",NA(),COUNTIFS(June[Location],$B103)) -> #N/A
D104: =IF($B104="",NA(),COUNTIFS(June[Location],$B104)) -> #N/A
D105: =IF($B105="",NA(),COUNTIFS(June[Location],$B105)) -> #N/A
B106: TOTAL | D106: =_xlfn.AGGREGATE(9,6,D95:D105) -> 0
B108: ="Falls by Nursing Station " -> Falls by Nursing Station
B109: Station | D109: Total
B110: {=IF(_xlfn._xlws.SORT(NS[Nurses Stations],1,1,TRUE)=0,"",(_xlfn._xlws.SORT(NS[Nurses Stations],1,1,TRUE)))} -> 1 | D110: =IF($B110="",NA(),COUNTIFS(June[Station],$B110)) -> 0
B111: 2 | D111: =IF($B111="",NA(),COUNTIFS(June[Station],$B111)) -> 0
B112: 3 | D112: =IF($B112="",NA(),COUNTIFS(June[Station],$B112)) -> 0
B113: 4 | D113: =IF($B113="",NA(),COUNTIFS(June[Station],$B113)) -> 0
B114: 5 | D114: =IF($B114="",NA(),COUNTIFS(June[Station],$B114)) -> 0
D115: =IF($B115="",NA(),COUNTIFS(June[Station],$B115)) -> #N/A
D116: =IF($B116="",NA(),COUNTIFS(June[Station],$B116)) -> #N/A
D117: =IF($B117="",NA(),COUNTIFS(June[Station],$B117)) -> #N/A
D118: =IF($B118="",NA(),COUNTIFS(June[Station],$B118)) -> #N/A
D119: =IF($B119="",NA(),COUNTIFS(June[Station],$B119)) -> #N/A
D120: =IF($B120="",NA(),COUNTIFS(June[Station],$B120)) -> #N/A
B121: TOTAL | D121: =_xlfn.AGGREGATE(9,6,D110:D120) -> 0
B123: ="Falls by Day of the Week " -> Falls by Day of the Week
B124: Day | D124: Total
B125: Sun | D125: =COUNTIFS(June[Day],$B125) -> 0
B126: Mon | D126: =COUNTIFS(June[Day],$B126) -> 0
B127: Tue | D127: =COUNTIFS(June[Day],$B127) -> 0
B128: Wed | D128: =COUNTIFS(June[Day],$B128) -> 0
B129: Thu | D129: =COUNTIFS(June[Day],$B129) -> 0
B130: Fri | D130: =COUNTIFS(June[Day],$B130) -> 0
B131: Sat | D131: =COUNTIFS(June[Day],$B131) -> 0
B132: TOTAL | D132: =SUM(D125:D131) -> 0
B134: ="Falls by Shift" -> Falls by Shift
B135: Shift | D135: Total
B136: {=IF(_xlfn._xlws.SORT('Data Validation'!P3:P7,1,1,TRUE)=0,"",(_xlfn._xlws.SORT('Data Validation'!P3:P7,1,1,TRUE)))} -> 11-7 | D136: =IF($B136="",NA(),COUNTIFS(June[Shift],$B136)) -> 0
B137: 11–7 | D137: =IF($B137="",NA(),COUNTIFS(June[Shift],$B137)) -> 0
B138: 7–3 | D138: =IF($B138="",NA(),COUNTIFS(June[Shift],$B138)) -> 0
B139: 3–11 | D139: =IF($B139="",NA(),COUNTIFS(June[Shift],$B139)) -> 0
D140: =IF($B140="",NA(),COUNTIFS(June[Shift],$B140)) -> #N/A
B141: TOTAL | D141: =_xlfn.AGGREGATE(9,6,D136:D140) -> 0
...

Sheet July
B1: Year | C1: ='Data Validation'!$C$4 -> 0 | D1: =IF(OR($C$1="",$C$1=0),"Enter Year in Data Validation tab",'Data Validation'!$C$2&" July ") -> Enter Year in Data Validation tab | R1: Total Falls: | S1: =IF(COUNTIFS(July[Resident Name],"<>")=0,"No Data",COUNTIFS(July[Resident Name],"<>")) -> No Data | T1: Fall Rate: | U1: ='Fall Rate and Census'!$T$36 -> No Data
B3: Room | C3: Resident Name | D3: Date of Incident | E3: Date of Post Fall Evaluation | F3: Witnessed Fall? | G3: Fall Circumstances | H3: Injury Type | I3: Location | J3: Station | K3: Day | L3: Hour | M3: Shift | N3: BIMS Score | O3: Cognitive Impairment | P3: What was resident doing prior to fall? | Q3: Notes on resident activity prior to fall. | R3: RCA Completed? | S3: Contributing Factors | T3: Nurse | U3: Certified Nurse Assistance | V3: Witness Name
K4: =IF(July[[#This Row],[Date of Incident]]="","",TEXT(July[[#This Row],[Date of Incident]],"ddd")) | M4: =IFERROR(VLOOKUP(July[[#This Row],[Hour]],Shifts[],2,FALSE),"") | O4: =IFERROR(VLOOKUP(July[[#This Row],[BIMS Score]],BIMS[],2,FALSE),"")
K5: =IF(July[[#This Row],[Date of Incident]]="","",TEXT(July[[#This Row],[Date of Incident]],"ddd")) | M5: =IFERROR(VLOOKUP(July[[#This Row],[Hour]],Shifts[],2,FALSE),"") | O5: =IFERROR(VLOOKUP(July[[#This Row],[BIMS Score]],BIMS[],2,FALSE),"")
K6: =IF(July[[#This Row],[Date of Incident]]="","",TEXT(July[[#This Row],[Date of Incident]],"ddd")) | M6: =IFERROR(VLOOKUP(July[[#This Row],[Hour]],Shifts[],2,FALSE),"") | O6: =IFERROR(VLOOKUP(July[[#This Row],[BIMS Score]],BIMS[],2,FALSE),"")
K7: =IF(July[[#This Row],[Date of Incident]]="","",TEXT(July[[#This Row],[Date of Incident]],"ddd")) | M7: =IFERROR(VLOOKUP(July[[#This Row],[Hour]],Shifts[],2,FALSE),"") | O7: =IFERROR(VLOOKUP(July[[#This Row],[BIMS Score]],BIMS[],2,FALSE),"")
K8: =IF(July[[#This Row],[Date of Incident]]="","",TEXT(July[[#This Row],[Date of Incident]],"ddd")) | M8: =IFERROR(VLOOKUP(July[[#This Row],[Hour]],Shifts[],2,FALSE),"") | O8: =IFERROR(VLOOKUP(July[[#This Row],[BIMS Score]],BIMS[],2,FALSE),"")
K9: =IF(July[[#This Row],[Date of Incident]]="","",TEXT(July[[#This Row],[Date of Incident]],"ddd")) | M9: =IFERROR(VLOOKUP(July[[#This Row],[Hour]],Shifts[],2,FALSE),"") | O9: =IFERROR(VLOOKUP(July[[#This Row],[BIMS Score]],BIMS[],2,FALSE),"")
K10: =IF(July[[#This Row],[Date of Incident]]="","",TEXT(July[[#This Row],[Date of Incident]],"ddd")) | M10: =IFERROR(VLOOKUP(July[[#This Row],[Hour]],Shifts[],2,FALSE),"") | O10: =IFERROR(VLOOKUP(July[[#This Row],[BIMS Score]],BIMS[],2,FALSE),"")
K11: =IF(July[[#This Row],[Date of Incident]]="","",TEXT(July[[#This Row],[Date of Incident]],"ddd")) | M11: =IFERROR(VLOOKUP(July[[#This Row],[Hour]],Shifts[],2,FALSE),"") | O11: =IFERROR(VLOOKUP(July[[#This Row],[BIMS Score]],BIMS[],2,FALSE),"")
K12: =IF(July[[#This Row],[Date of Incident]]="","",TEXT(July[[#This Row],[Date of Incident]],"ddd")) | M12: =IFERROR(VLOOKUP(July[[#This Row],[Hour]],Shifts[],2,FALSE),"") | O12: =IFERROR(VLOOKUP(July[[#This Row],[BIMS Score]],BIMS[],2,FALSE),"")
K13: =IF(July[[#This Row],[Date of Incident]]="","",TEXT(July[[#This Row],[Date of Incident]],"ddd")) | M13: =IFERROR(VLOOKUP(July[[#This Row],[Hour]],Shifts[],2,FALSE),"") | O13: =IFERROR(VLOOKUP(July[[#This Row],[BIMS Score]],BIMS[],2,FALSE),"")
K14: =IF(July[[#This Row],[Date of Incident]]="","",TEXT(July[[#This Row],[Date of Incident]],"ddd")) | M14: =IFERROR(VLOOKUP(July[[#This Row],[Hour]],Shifts[],2,FALSE),"") | O14: =IFERROR(VLOOKUP(July[[#This Row],[BIMS Score]],BIMS[],2,FALSE),"")
K15: =IF(July[[#This Row],[Date of Incident]]="","",TEXT(July[[#This Row],[Date of Incident]],"ddd")) | M15: =IFERROR(VLOOKUP(July[[#This Row],[Hour]],Shifts[],2,FALSE),"") | O15: =IFERROR(VLOOKUP(July[[#This Row],[BIMS Score]],BIMS[],2,FALSE),"")
... K40: =IF(July[[#This Row],[Date of Incident]]="","",TEXT(July[[#This Row],[Date of Incident]],"ddd")) | M40: =IFERROR(VLOOKUP(July[[#This Row],[Hour]],Shifts[],2,FALSE),"") | O40: =IFERROR(VLOOKUP(July[[#This Row],[BIMS Score]],BIMS[],2,FALSE),"")
B51: Witnessed Falls | F51: Fall Circumstances
B52: Result | D52: Total | F52: Result | H52: Total
B53: Yes | D53: =COUNTIFS(July[Witnessed Fall?],$B53) -> 0 | F53: Overwhelming Force | H53: =COUNTIFS(July[Fall Circumstances],$F53) -> 0
B54: No | D54: =COUNTIFS(July[Witnessed Fall?],$B54) -> 0 | F54: Intercepted | H54: =COUNTIFS(July[Fall Circumstances],$F54) -> 0
B55: TOTAL | D55: =SUM(D53:D54) -> 0 | F55: N/A | H55: =COUNTIFS(July[Fall Circumstances],$F55) -> 0
F56: TOTAL | H56: =SUM(H53:H55) -> 0
F58: Falls by BIMS Score
F59: BIMS Score | H59: Total
F60: Severe (1–7) | H60: =COUNTIFS(July[Cognitive Impairment],$F60) -> 0
F61: Moderate (8–12) | H61: =COUNTIFS(July[Cognitive Impairment],$F61) -> 0
F62: Intact (13–15) | H62: =COUNTIFS(July[Cognitive Impairment],$F62) -> 0
F63: TOTAL | H63: =SUM(H60:H62) -> 0
B65: Falls by Activity
B66: Activity | G66: Total
B67: {=IF(_xlfn._xlws.SORT(PriortoFall[What was the resident doing prior to fall?],1,1,TRUE)=0,"",(_xlfn._xlws.SORT(PriortoFall[What was the resident doing prior to fall?],1,1,TRUE)))} -> Ambulating with assistive device (walker, cane, wheelchair) | G67: =IF($B67="",NA(),COUNTIFS(July[What was resident doing prior to fall?],$B67)) -> 0
B68: Ambulating with staff assistance | G68: =IF($B68="",NA(),COUNTIFS(July[What was resident doing prior to fall?],$B68)) -> 0
B69: Ambulating without assistance or assistive device | G69: =IF($B69="",NA(),COUNTIFS(July[What was resident doing prior to fall?],$B69)) -> 0
B70: Changing position (e.g., in bed, chair) | G70: =IF($B70="",NA(),COUNTIFS(July[What was resident doing prior to fall?],$B70)) -> 0
B71: Dressing or undressing | G71: =IF($B71="",NA(),COUNTIFS(July[What was resident doing prior to fall?],$B71)) -> 0
B72: Other activity | G72: =IF($B72="",NA(),COUNTIFS(July[What was resident doing prior to fall?],$B72)) -> 0
B73: Reaching for an item | G73: =IF($B73="",NA(),COUNTIFS(July[What was resident doing prior to fall?],$B73)) -> 0
B74: Showering or bathing | G74: =IF($B74="",NA(),COUNTIFS(July[What was resident doing prior to fall?],$B74)) -> 0
B75: Toileting | G75: =IF($B75="",NA(),COUNTIFS(July[What was resident doing prior to fall?],$B75)) -> 0
B76: Transferring to or from bed, chair, wheelchair, etc. | G76: =IF($B76="",NA(),COUNTIFS(July[What was resident doing prior to fall?],$B76)) -> 0
B77: Unknown | G77: =IF($B77="",NA(),COUNTIFS(July[What was resident doing prior to fall?],$B77)) -> 0
G78: =IF($B78="",NA(),COUNTIFS(July[What was resident doing prior to fall?],$B78)) -> #N/A
G79: =IF($B79="",NA(),COUNTIFS(July[What was resident doing prior to fall?],$B79)) -> #N/A
G80: =IF($B80="",NA(),COUNTIFS(July[What was resident doing prior to fall?],$B80)) -> #N/A
G81: =IF($B81="",NA(),COUNTIFS(July[What was resident doing prior to fall?],$B81)) -> #N/A
G82: =IF($B82="",NA(),COUNTIFS(July[What was resident doing prior to fall?],$B82)) -> #N/A
G83: =IF($B83="",NA(),COUNTIFS(July[What was resident doing prior to fall?],$B83)) -> #N/A
G84: =IF($B84="",NA(),COUNTIFS(July[What was resident doing prior to fall?],$B84)) -> #N/A
G85: =IF($B85="",NA(),COUNTIFS(July[What was resident doing prior to fall?],$B85)) -> #N/A
G86: =IF($B86="",NA(),COUNTIFS(July[What was resident doing prior to fall?],$B86)) -> #N/A
G87: =IF($B87="",NA(),COUNTIFS(July[What was resident doing prior to fall?],$B87)) -> #N/A
G88: =IF($B88="",NA(),COUNTIFS(July[What was resident doing prior to fall?],$B88)) -> #N/A
G89: =IF($B89="",NA(),COUNTIFS(July[What was resident doing prior to fall?],$B89)) -> #N/A
G90: =IF($B90="",NA(),COUNTIFS(July[What was resident doing prior to fall?],$B90)) -> #N/A
B91: Total | G91: =_xlfn.AGGREGATE(9,6,G67:G90) -> 0
B93: Falls by Location
B94: Location | D94: Total
B95: {=IF(_xlfn._xlws.SORT(Location[Location],1,1,TRUE)=0,"",(_xlfn._xlws.SORT(Location[Location],1,1,TRUE)))} -> Activity Room | D95: =IF($B95="",NA(),COUNTIFS(July[Location],$B95)) -> 0
B96: Bedroom | D96: =IF($B96="",NA(),COUNTIFS(July[Location],$B96)) -> 0
B97: Bathroom | D97: =IF($B97="",NA(),COUNTIFS(July[Location],$B97)) -> 0
B98: Hallway | D98: =IF($B98="",NA(),COUNTIFS(July[Location],$B98)) -> 0
B99: Offsite | D99: =IF($B99="",NA(),COUNTIFS(July[Location],$B99)) -> 0
B100: Shower Room | D100: =IF($B100="",NA(),COUNTIFS(July[Location],$B100)) -> 0
B101: Dining Room | D101: =IF($B101="",NA(),COUNTIFS(July[Location],$B101)) -> 0
D102: =IF($B102="",NA(),COUNTIFS(July[Location],$B102)) -> #N/A
D103: =IF($B103="",NA(),COUNTIFS(July[Location],$B103)) -> #N/A
D104: =IF($B104="",NA(),COUNTIFS(July[Location],$B104)) -> #N/A
D105: =IF($B105="",NA(),COUNTIFS(July[Location],$B105)) -> #N/A
B106: TOTAL | D106: =_xlfn.AGGREGATE(9,6,D95:D105) -> 0
B108: ="Falls by Nursing Station " -> Falls by Nursing Station
B109: Station | D109: Total
B110: {=IF(_xlfn._xlws.SORT(NS[Nurses Stations],1,1,TRUE)=0,"",(_xlfn._xlws.SORT(NS[Nurses Stations],1,1,TRUE)))} -> 1 | D110: =IF($B110="",NA(),COUNTIFS(July[Station],$B110)) -> 0
B111: 2 | D111: =IF($B111="",NA(),COUNTIFS(July[Station],$B111)) -> 0
B112: 3 | D112: =IF($B112="",NA(),COUNTIFS(July[Station],$B112)) -> 0
B113: 4 | D113: =IF($B113="",NA(),COUNTIFS(July[Station],$B113)) -> 0
B114: 5 | D114: =IF($B114="",NA(),COUNTIFS(July[Station],$B114)) -> 0
D115: =IF($B115="",NA(),COUNTIFS(July[Station],$B115)) -> #N/A
D116: =IF($B116="",NA(),COUNTIFS(July[Station],$B116)) -> #N/A
D117: =IF($B117="",NA(),COUNTIFS(July[Station],$B117)) -> #N/A
D118: =IF($B118="",NA(),COUNTIFS(July[Station],$B118)) -> #N/A
D119: =IF($B119="",NA(),COUNTIFS(July[Station],$B119)) -> #N/A
D120: =IF($B120="",NA(),COUNTIFS(July[Station],$B120)) -> #N/A
B121: TOTAL | D121: =_xlfn.AGGREGATE(9,6,D110:D120) -> 0
B123: ="Falls by Day of the Week " -> Falls by Day of the Week
B124: Day | D124: Total
B125: Sun | D125: =COUNTIFS(July[Day],$B125) -> 0
B126: Mon | D126: =COUNTIFS(July[Day],$B126) -> 0
B127: Tue | D127: =COUNTIFS(July[Day],$B127) -> 0
B128: Wed | D128: =COUNTIFS(July[Day],$B128) -> 0
B129: Thu | D129: =COUNTIFS(July[Day],$B129) -> 0
B130: Fri | D130: =COUNTIFS(July[Day],$B130) -> 0
B131: Sat | D131: =COUNTIFS(July[Day],$B131) -> 0
B132: TOTAL | D132: =SUM(D125:D131) -> 0
B134: ="Falls by Shift" -> Falls by Shift
B135: Shift | D135: Total
B136: {=IF(_xlfn._xlws.SORT('Data Validation'!P3:P7,1,1,TRUE)=0,"",(_xlfn._xlws.SORT('Data Validation'!P3:P7,1,1,TRUE)))} -> 11-7 | D136: =IF($B136="",NA(),COUNTIFS(July[Shift],$B136)) -> 0
B137: 11–7 | D137: =IF($B137="",NA(),COUNTIFS(July[Shift],$B137)) -> 0
B138: 7–3 | D138: =IF($B138="",NA(),COUNTIFS(July[Shift],$B138)) -> 0
B139: 3–11 | D139: =IF($B139="",NA(),COUNTIFS(July[Shift],$B139)) -> 0
D140: =IF($B140="",NA(),COUNTIFS(July[Shift],$B140)) -> #N/A
B141: TOTAL | D141: =_xlfn.AGGREGATE(9,6,D136:D140) -> 0
...

Sheet Aug
B1: Year | C1: ='Data Validation'!$C$4 -> 0 | D1: =IF(OR($C$1="",$C$1=0),"Enter Year in Data Validation tab",'Data Validation'!$C$2&" August ") -> Enter Year in Data Validation tab | R1: Total Falls: | S1: =IF(COUNTIFS(Aug[Resident Name],"<>")=0,"No Data",COUNTIFS(Aug[Resident Name],"<>")) -> No Data | T1: Fall Rate: | U1: ='Fall Rate and Census'!$W$36 -> No Data
B3: Room | C3: Resident Name | D3: Date of Incident | E3: Date of Post Fall Evaluation | F3: Witnessed Fall? | G3: Fall Circumstances | H3: Injury Type | I3: Location | J3: Station | K3: Day | L3: Hour | M3: Shift | N3: BIMS Score | O3: Cognitive Impairment | P3: What was resident doing prior to fall? | Q3: Notes on resident activity prior to fall. | R3: RCA Completed? | S3: Contributing Factors | T3: Nurse | U3: Certified Nurse Assistance | V3: Witness Name
K4: =IF(Aug[[#This Row],[Date of Incident]]="","",TEXT(Aug[[#This Row],[Date of Incident]],"ddd")) | M4: =IFERROR(VLOOKUP(Aug[[#This Row],[Hour]],Shifts[],2,FALSE),"") | O4: =IFERROR(VLOOKUP(Aug[[#This Row],[BIMS Score]],BIMS[],2,FALSE),"")
K5: =IF(Aug[[#This Row],[Date of Incident]]="","",TEXT(Aug[[#This Row],[Date of Incident]],"ddd")) | M5: =IFERROR(VLOOKUP(Aug[[#This Row],[Hour]],Shifts[],2,FALSE),"") | O5: =IFERROR(VLOOKUP(Aug[[#This Row],[BIMS Score]],BIMS[],2,FALSE),"")
K6: =IF(Aug[[#This Row],[Date of Incident]]="","",TEXT(Aug[[#This Row],[Date of Incident]],"ddd")) | M6: =IFERROR(VLOOKUP(Aug[[#This Row],[Hour]],Shifts[],2,FALSE),"") | O6: =IFERROR(VLOOKUP(Aug[[#This Row],[BIMS Score]],BIMS[],2,FALSE),"")
K7: =IF(Aug[[#This Row],[Date of Incident]]="","",TEXT(Aug[[#This Row],[Date of Incident]],"ddd")) | M7: =IFERROR(VLOOKUP(Aug[[#This Row],[Hour]],Shifts[],2,FALSE),"") | O7: =IFERROR(VLOOKUP(Aug[[#This Row],[BIMS Score]],BIMS[],2,FALSE),"")
K8: =IF(Aug[[#This Row],[Date of Incident]]="","",TEXT(Aug[[#This Row],[Date of Incident]],"ddd")) | M8: =IFERROR(VLOOKUP(Aug[[#This Row],[Hour]],Shifts[],2,FALSE),"") | O8: =IFERROR(VLOOKUP(Aug[[#This Row],[BIMS Score]],BIMS[],2,FALSE),"")
K9: =IF(Aug[[#This Row],[Date of Incident]]="","",TEXT(Aug[[#This Row],[Date of Incident]],"ddd")) | M9: =IFERROR(VLOOKUP(Aug[[#This Row],[Hour]],Shifts[],2,FALSE),"") | O9: =IFERROR(VLOOKUP(Aug[[#This Row],[BIMS Score]],BIMS[],2,FALSE),"")
K10: =IF(Aug[[#This Row],[Date of Incident]]="","",TEXT(Aug[[#This Row],[Date of Incident]],"ddd")) | M10: =IFERROR(VLOOKUP(Aug[[#This Row],[Hour]],Shifts[],2,FALSE),"") | O10: =IFERROR(VLOOKUP(Aug[[#This Row],[BIMS Score]],BIMS[],2,FALSE),"")
K11: =IF(Aug[[#This Row],[Date of Incident]]="","",TEXT(Aug[[#This Row],[Date of Incident]],"ddd")) | M11: =IFERROR(VLOOKUP(Aug[[#This Row],[Hour]],Shifts[],2,FALSE),"") | O11: =IFERROR(VLOOKUP(Aug[[#This Row],[BIMS Score]],BIMS[],2,FALSE),"")
K12: =IF(Aug[[#This Row],[Date of Incident]]="","",TEXT(Aug[[#This Row],[Date of Incident]],"ddd")) | M12: =IFERROR(VLOOKUP(Aug[[#This Row],[Hour]],Shifts[],2,FALSE),"") | O12: =IFERROR(VLOOKUP(Aug[[#This Row],[BIMS Score]],BIMS[],2,FALSE),"")
K13: =IF(Aug[[#This Row],[Date of Incident]]="","",TEXT(Aug[[#This Row],[Date of Incident]],"ddd")) | M13: =IFERROR(VLOOKUP(Aug[[#This Row],[Hour]],Shifts[],2,FALSE),"") | O13: =IFERROR(VLOOKUP(Aug[[#This Row],[BIMS Score]],BIMS[],2,FALSE),"")
K14: =IF(Aug[[#This Row],[Date of Incident]]="","",TEXT(Aug[[#This Row],[Date of Incident]],"ddd")) | M14: =IFERROR(VLOOKUP(Aug[[#This Row],[Hour]],Shifts[],2,FALSE),"") | O14: =IFERROR(VLOOKUP(Aug[[#This Row],[BIMS Score]],BIMS[],2,FALSE),"")
K15: =IF(Aug[[#This Row],[Date of Incident]]="","",TEXT(Aug[[#This Row],[Date of Incident]],"ddd")) | M15: =IFERROR(VLOOKUP(Aug[[#This Row],[Hour]],Shifts[],2,FALSE),"") | O15: =IFERROR(VLOOKUP(Aug[[#This Row],[BIMS Score]],BIMS[],2,FALSE),"")
... K40: =IF(Aug[[#This Row],[Date of Incident]]="","",TEXT(Aug[[#This Row],[Date of Incident]],"ddd")) | M40: =IFERROR(VLOOKUP(Aug[[#This Row],[Hour]],Shifts[],2,FALSE),"") | O40: =IFERROR(VLOOKUP(Aug[[#This Row],[BIMS Score]],BIMS[],2,FALSE),"")
B51: Witnessed Falls | F51: Fall Circumstances
B52: Result | D52: Total | F52: Result | H52: Total
B53: Yes | D53: =COUNTIFS(Aug[Witnessed Fall?],$B53) -> 0 | F53: Overwhelming Force | H53: =COUNTIFS(Aug[Fall Circumstances],$F53) -> 0
B54: No | D54: =COUNTIFS(Aug[Witnessed Fall?],$B54) -> 0 | F54: Intercepted | H54: =COUNTIFS(Aug[Fall Circumstances],$F54) -> 0
B55: TOTAL | D55: =SUM(D53:D54) -> 0 | F55: N/A | H55: =COUNTIFS(Aug[Fall Circumstances],$F55) -> 0
F56: TOTAL | H56: =SUM(H53:H55) -> 0
F58: Falls by BIMS Score
F59: BIMS Score | H59: Total
F60: Severe (1–7) | H60: =COUNTIFS(Aug[Cognitive Impairment],$F60) -> 0
F61: Moderate (8–12) | H61: =COUNTIFS(Aug[Cognitive Impairment],$F61) -> 0
F62: Intact (13–15) | H62: =COUNTIFS(Aug[Cognitive Impairment],$F62) -> 0
F63: TOTAL | H63: =SUM(H60:H62) -> 0
B65: Falls by Activity
B66: Activity | G66: Total
B67: {=IF(_xlfn._xlws.SORT(PriortoFall[What was the resident doing prior to fall?],1,1,TRUE)=0,"",(_xlfn._xlws.SORT(PriortoFall[What was the resident doing prior to fall?],1,1,TRUE)))} -> Ambulating with assistive device (walker, cane, wheelchair) | G67: =IF($B67="",NA(),COUNTIFS(Aug[What was resident doing prior to fall?],$B67)) -> 0
B68: Ambulating with staff assistance | G68: =IF($B68="",NA(),COUNTIFS(Aug[What was resident doing prior to fall?],$B68)) -> 0
B69: Ambulating without assistance or assistive device | G69: =IF($B69="",NA(),COUNTIFS(Aug[What was resident doing prior to fall?],$B69)) -> 0
B70: Changing position (e.g., in bed, chair) | G70: =IF($B70="",NA(),COUNTIFS(Aug[What was resident doing prior to fall?],$B70)) -> 0
B71: Dressing or undressing | G71: =IF($B71="",NA(),COUNTIFS(Aug[What was resident doing prior to fall?],$B71)) -> 0
B72: Other activity | G72: =IF($B72="",NA(),COUNTIFS(Aug[What was resident doing prior to fall?],$B72)) -> 0
B73: Reaching for an item | G73: =IF($B73="",NA(),COUNTIFS(Aug[What was resident doing prior to fall?],$B73)) -> 0
B74: Showering or bathing | G74: =IF($B74="",NA(),COUNTIFS(Aug[What was resident doing prior to fall?],$B74)) -> 0
B75: Toileting | G75: =IF($B75="",NA(),COUNTIFS(Aug[What was resident doing prior to fall?],$B75)) -> 0
B76: Transferring to or from bed, chair, wheelchair, etc. | G76: =IF($B76="",NA(),COUNTIFS(Aug[What was resident doing prior to fall?],$B76)) -> 0
B77: Unknown | G77: =IF($B77="",NA(),COUNTIFS(Aug[What was resident doing prior to fall?],$B77)) -> 0
G78: =IF($B78="",NA(),COUNTIFS(Aug[What was resident doing prior to fall?],$B78)) -> #N/A
G79: =IF($B79="",NA(),COUNTIFS(Aug[What was resident doing prior to fall?],$B79)) -> #N/A
G80: =IF($B80="",NA(),COUNTIFS(Aug[What was resident doing prior to fall?],$B80)) -> #N/A
G81: =IF($B81="",NA(),COUNTIFS(Aug[What was resident doing prior to fall?],$B81)) -> #N/A
G82: =IF($B82="",NA(),COUNTIFS(Aug[What was resident doing prior to fall?],$B82)) -> #N/A
G83: =IF($B83="",NA(),COUNTIFS(Aug[What was resident doing prior to fall?],$B83)) -> #N/A
G84: =IF($B84="",NA(),COUNTIFS(Aug[What was resident doing prior to fall?],$B84)) -> #N/A
G85: =IF($B85="",NA(),COUNTIFS(Aug[What was resident doing prior to fall?],$B85)) -> #N/A
G86: =IF($B86="",NA(),COUNTIFS(Aug[What was resident doing prior to fall?],$B86)) -> #N/A
G87: =IF($B87="",NA(),COUNTIFS(Aug[What was resident doing prior to fall?],$B87)) -> #N/A
G88: =IF($B88="",NA(),COUNTIFS(Aug[What was resident doing prior to fall?],$B88)) -> #N/A
G89: =IF($B89="",NA(),COUNTIFS(Aug[What was resident doing prior to fall?],$B89)) -> #N/A
G90: =IF($B90="",NA(),COUNTIFS(Aug[What was resident doing prior to fall?],$B90)) -> #N/A
B91: Total | G91: =_xlfn.AGGREGATE(9,6,G67:G90) -> 0
B93: Falls by Location
B94: Location | D94: Total
B95: {=IF(_xlfn._xlws.SORT(Location[Location],1,1,TRUE)=0,"",(_xlfn._xlws.SORT(Location[Location],1,1,TRUE)))} -> Activity Room | D95: =IF($B95="",NA(),COUNTIFS(Aug[Location],$B95)) -> 0
B96: Bedroom | D96: =IF($B96="",NA(),COUNTIFS(Aug[Location],$B96)) -> 0
B97: Bathroom | D97: =IF($B97="",NA(),COUNTIFS(Aug[Location],$B97)) -> 0
B98: Hallway | D98: =IF($B98="",NA(),COUNTIFS(Aug[Location],$B98)) -> 0
B99: Offsite | D99: =IF($B99="",NA(),COUNTIFS(Aug[Location],$B99)) -> 0
B100: Shower Room | D100: =IF($B100="",NA(),COUNTIFS(Aug[Location],$B100)) -> 0
B101: Dining Room | D101: =IF($B101="",NA(),COUNTIFS(Aug[Location],$B101)) -> 0
D102: =IF($B102="",NA(),COUNTIFS(Aug[Location],$B102)) -> #N/A
D103: =IF($B103="",NA(),COUNTIFS(Aug[Location],$B103)) -> #N/A
D104: =IF($B104="",NA(),COUNTIFS(Aug[Location],$B104)) -> #N/A
D105: =IF($B105="",NA(),COUNTIFS(Aug[Location],$B105)) -> #N/A
B106: TOTAL | D106: =_xlfn.AGGREGATE(9,6,D95:D105) -> 0
B108: ="Falls by Nursing Station " -> Falls by Nursing Station
B109: Station | D109: Total
B110: {=IF(_xlfn._xlws.SORT(NS[Nurses Stations],1,1,TRUE)=0,"",(_xlfn._xlws.SORT(NS[Nurses Stations],1,1,TRUE)))} -> 1 | D110: =IF($B110="",NA(),COUNTIFS(Aug[Station],$B110)) -> 0
B111: 2 | D111: =IF($B111="",NA(),COUNTIFS(Aug[Station],$B111)) -> 0
B112: 3 | D112: =IF($B112="",NA(),COUNTIFS(Aug[Station],$B112)) -> 0
B113: 4 | D113: =IF($B113="",NA(),COUNTIFS(Aug[Station],$B113)) -> 0
B114: 5 | D114: =IF($B114="",NA(),COUNTIFS(Aug[Station],$B114)) -> 0
D115: =IF($B115="",NA(),COUNTIFS(Aug[Station],$B115)) -> #N/A
D116: =IF($B116="",NA(),COUNTIFS(Aug[Station],$B116)) -> #N/A
D117: =IF($B117="",NA(),COUNTIFS(Aug[Station],$B117)) -> #N/A
D118: =IF($B118="",NA(),COUNTIFS(Aug[Station],$B118)) -> #N/A
D119: =IF($B119="",NA(),COUNTIFS(Aug[Station],$B119)) -> #N/A
D120: =IF($B120="",NA(),COUNTIFS(Aug[Station],$B120)) -> #N/A
B121: TOTAL | D121: =_xlfn.AGGREGATE(9,6,D110:D120) -> 0
B123: ="Falls by Day of the Week " -> Falls by Day of the Week
B124: Day | D124: Total
B125: Sun | D125: =COUNTIFS(Aug[Day],$B125) -> 0
B126: Mon | D126: =COUNTIFS(Aug[Day],$B126) -> 0
B127: Tue | D127: =COUNTIFS(Aug[Day],$B127) -> 0
B128: Wed | D128: =COUNTIFS(Aug[Day],$B128) -> 0
B129: Thu | D129: =COUNTIFS(Aug[Day],$B129) -> 0
B130: Fri | D130: =COUNTIFS(Aug[Day],$B130) -> 0
B131: Sat | D131: =COUNTIFS(Aug[Day],$B131) -> 0
B132: TOTAL | D132: =SUM(D125:D131) -> 0
B134: ="Falls by Shift" -> Falls by Shift
B135: Shift | D135: Total
B136: {=IF(_xlfn._xlws.SORT('Data Validation'!P3:P7,1,1,TRUE)=0,"",(_xlfn._xlws.SORT('Data Validation'!P3:P7,1,1,TRUE)))} -> 11-7 | D136: =IF($B136="",NA(),COUNTIFS(Aug[Shift],$B136)) -> 0
B137: 11–7 | D137: =IF($B137="",NA(),COUNTIFS(Aug[Shift],$B137)) -> 0
B138: 7–3 | D138: =IF($B138="",NA(),COUNTIFS(Aug[Shift],$B138)) -> 0
B139: 3–11 | D139: =IF($B139="",NA(),COUNTIFS(Aug[Shift],$B139)) -> 0
D140: =IF($B140="",NA(),COUNTIFS(Aug[Shift],$B140)) -> #N/A
B141: TOTAL | D141: =_xlfn.AGGREGATE(9,6,D136:D140) -> 0
...

Sheet Sept
B1: Year | C1: ='Data Validation'!$C$4 -> 0 | D1: =IF(OR($C$1="",$C$1=0),"Enter Year in Data Validation tab",'Data Validation'!$C$2&" September ") -> Enter Year in Data Validation tab | R1: Total Falls: | S1: =IF(COUNTIFS(Sept[Resident Name],"<>")=0,"No Data",COUNTIFS(Sept[Resident Name],"<>")) -> No Data | T1: Fall Rate: | U1: ='Fall Rate and Census'!$Z$35 -> No Data
B3: Room | C3: Resident Name | D3: Date of Incident | E3: Date of Post Fall Evaluation | F3: Witnessed Fall? | G3: Fall Circumstances | H3: Injury Type | I3: Location | J3: Station | K3: Day | L3: Hour | M3: Shift | N3: BIMS Score | O3: Cognitive Impairment | P3: What was resident doing prior to fall? | Q3: Notes on resident activity prior to fall. | R3: RCA Completed? | S3: Contributing Factors | T3: Nurse | U3: Certified Nurse Assistance | V3: Witness Name
K4: =IF(Sept[[#This Row],[Date of Incident]]="","",TEXT(Sept[[#This Row],[Date of Incident]],"ddd")) | M4: =IFERROR(VLOOKUP(Sept[[#This Row],[Hour]],Shifts[],2,FALSE),"") | O4: =IFERROR(VLOOKUP(Sept[[#This Row],[BIMS Score]],BIMS[],2,FALSE),"")
K5: =IF(Sept[[#This Row],[Date of Incident]]="","",TEXT(Sept[[#This Row],[Date of Incident]],"ddd")) | M5: =IFERROR(VLOOKUP(Sept[[#This Row],[Hour]],Shifts[],2,FALSE),"") | O5: =IFERROR(VLOOKUP(Sept[[#This Row],[BIMS Score]],BIMS[],2,FALSE),"")
K6: =IF(Sept[[#This Row],[Date of Incident]]="","",TEXT(Sept[[#This Row],[Date of Incident]],"ddd")) | M6: =IFERROR(VLOOKUP(Sept[[#This Row],[Hour]],Shifts[],2,FALSE),"") | O6: =IFERROR(VLOOKUP(Sept[[#This Row],[BIMS Score]],BIMS[],2,FALSE),"")
K7: =IF(Sept[[#This Row],[Date of Incident]]="","",TEXT(Sept[[#This Row],[Date of Incident]],"ddd")) | M7: =IFERROR(VLOOKUP(Sept[[#This Row],[Hour]],Shifts[],2,FALSE),"") | O7: =IFERROR(VLOOKUP(Sept[[#This Row],[BIMS Score]],BIMS[],2,FALSE),"")
K8: =IF(Sept[[#This Row],[Date of Incident]]="","",TEXT(Sept[[#This Row],[Date of Incident]],"ddd")) | M8: =IFERROR(VLOOKUP(Sept[[#This Row],[Hour]],Shifts[],2,FALSE),"") | O8: =IFERROR(VLOOKUP(Sept[[#This Row],[BIMS Score]],BIMS[],2,FALSE),"")
K9: =IF(Sept[[#This Row],[Date of Incident]]="","",TEXT(Sept[[#This Row],[Date of Incident]],"ddd")) | M9: =IFERROR(VLOOKUP(Sept[[#This Row],[Hour]],Shifts[],2,FALSE),"") | O9: =IFERROR(VLOOKUP(Sept[[#This Row],[BIMS Score]],BIMS[],2,FALSE),"")
K10: =IF(Sept[[#This Row],[Date of Incident]]="","",TEXT(Sept[[#This Row],[Date of Incident]],"ddd")) | M10: =IFERROR(VLOOKUP(Sept[[#This Row],[Hour]],Shifts[],2,FALSE),"") | O10: =IFERROR(VLOOKUP(Sept[[#This Row],[BIMS Score]],BIMS[],2,FALSE),"")
K11: =IF(Sept[[#This Row],[Date of Incident]]="","",TEXT(Sept[[#This Row],[Date of Incident]],"ddd")) | M11: =IFERROR(VLOOKUP(Sept[[#This Row],[Hour]],Shifts[],2,FALSE),"") | O11: =IFERROR(VLOOKUP(Sept[[#This Row],[BIMS Score]],BIMS[],2,FALSE),"")
K12: =IF(Sept[[#This Row],[Date of Incident]]="","",TEXT(Sept[[#This Row],[Date of Incident]],"ddd")) | M12: =IFERROR(VLOOKUP(Sept[[#This Row],[Hour]],Shifts[],2,FALSE),"") | O12: =IFERROR(VLOOKUP(Sept[[#This Row],[BIMS Score]],BIMS[],2,FALSE),"")
K13: =IF(Sept[[#This Row],[Date of Incident]]="","",TEXT(Sept[[#This Row],[Date of Incident]],"ddd")) | M13: =IFERROR(VLOOKUP(Sept[[#This Row],[Hour]],Shifts[],2,FALSE),"") | O13: =IFERROR(VLOOKUP(Sept[[#This Row],[BIMS Score]],BIMS[],2,FALSE),"")
K14: =IF(Sept[[#This Row],[Date of Incident]]="","",TEXT(Sept[[#This Row],[Date of Incident]],"ddd")) | M14: =IFERROR(VLOOKUP(Sept[[#This Row],[Hour]],Shifts[],2,FALSE),"") | O14: =IFERROR(VLOOKUP(Sept[[#This Row],[BIMS Score]],BIMS[],2,FALSE),"")
K15: =IF(Sept[[#This Row],[Date of Incident]]="","",TEXT(Sept[[#This Row],[Date of Incident]],"ddd")) | M15: =IFERROR(VLOOKUP(Sept[[#This Row],[Hour]],Shifts[],2,FALSE),"") | O15: =IFERROR(VLOOKUP(Sept[[#This Row],[BIMS Score]],BIMS[],2,FALSE),"")
... K40: =IF(Sept[[#This Row],[Date of Incident]]="","",TEXT(Sept[[#This Row],[Date of Incident]],"ddd")) | M40: =IFERROR(VLOOKUP(Sept[[#This Row],[Hour]],Shifts[],2,FALSE),"") | O40: =IFERROR(VLOOKUP(Sept[[#This Row],[BIMS Score]],BIMS[],2,FALSE),"")
B51: Witnessed Falls | F51: Fall Circumstances
B52: Result | D52: Total | F52: Result | H52: Total
B53: Yes | D53: =COUNTIFS(Sept[Witnessed Fall?],$B53) -> 0 | F53: Overwhelming Force | H53: =COUNTIFS(Sept[Fall Circumstances],$F53) -> 0
B54: No | D54: =COUNTIFS(Sept[Witnessed Fall?],$B54) -> 0 | F54: Intercepted | H54: =COUNTIFS(Sept[Fall Circumstances],$F54) -> 0
B55: TOTAL | D55: =SUM(D53:D54) -> 0 | F55: N/A | H55: =COUNTIFS(Sept[Fall Circumstances],$F55) -> 0
F56: TOTAL | H56: =SUM(H53:H55) -> 0
F58: Falls by BIMS Score
F59: BIMS Score | H59: Total
F60: Severe (1–7) | H60: =COUNTIFS(Sept[Cognitive Impairment],$F60) -> 0
F61: Moderate (8–12) | H61: =COUNTIFS(Sept[Cognitive Impairment],$F61) -> 0
F62: Intact (13–15) | H62: =COUNTIFS(Sept[Cognitive Impairment],$F62) -> 0
F63: TOTAL | H63: =SUM(H60:H62) -> 0
B65: Falls by Activity
B66: Activity | G66: Total
B67: {=IF(_xlfn._xlws.SORT(PriortoFall[What was the resident doing prior to fall?],1,1,TRUE)=0,"",(_xlfn._xlws.SORT(PriortoFall[What was the resident doing prior to fall?],1,1,TRUE)))} -> Ambulating with assistive device (walker, cane, wheelchair) | G67: =IF($B67="",NA(),COUNTIFS(Sept[What was resident doing prior to fall?],$B67)) -> 0
B68: Ambulating with staff assistance | G68: =IF($B68="",NA(),COUNTIFS(Sept[What was resident doing prior to fall?],$B68)) -> 0
B69: Ambulating without assistance or assistive device | G69: =IF($B69="",NA(),COUNTIFS(Sept[What was resident doing prior to fall?],$B69)) -> 0
B70: Changing position (e.g., in bed, chair) | G70: =IF($B70="",NA(),COUNTIFS(Sept[What was resident doing prior to fall?],$B70)) -> 0
B71: Dressing or undressing | G71: =IF($B71="",NA(),COUNTIFS(Sept[What was resident doing prior to fall?],$B71)) -> 0
B72: Other activity | G72: =IF($B72="",NA(),COUNTIFS(Sept[What was resident doing prior to fall?],$B72)) -> 0
B73: Reaching for an item | G73: =IF($B73="",NA(),COUNTIFS(Sept[What was resident doing prior to fall?],$B73)) -> 0
B74: Showering or bathing | G74: =IF($B74="",NA(),COUNTIFS(Sept[What was resident doing prior to fall?],$B74)) -> 0
B75: Toileting | G75: =IF($B75="",NA(),COUNTIFS(Sept[What was resident doing prior to fall?],$B75)) -> 0
B76: Transferring to or from bed, chair, wheelchair, etc. | G76: =IF($B76="",NA(),COUNTIFS(Sept[What was resident doing prior to fall?],$B76)) -> 0
B77: Unknown | G77: =IF($B77="",NA(),COUNTIFS(Sept[What was resident doing prior to fall?],$B77)) -> 0
G78: =IF($B78="",NA(),COUNTIFS(Sept[What was resident doing prior to fall?],$B78)) -> #N/A
G79: =IF($B79="",NA(),COUNTIFS(Sept[What was resident doing prior to fall?],$B79)) -> #N/A
G80: =IF($B80="",NA(),COUNTIFS(Sept[What was resident doing prior to fall?],$B80)) -> #N/A
G81: =IF($B81="",NA(),COUNTIFS(Sept[What was resident doing prior to fall?],$B81)) -> #N/A
G82: =IF($B82="",NA(),COUNTIFS(Sept[What was resident doing prior to fall?],$B82)) -> #N/A
G83: =IF($B83="",NA(),COUNTIFS(Sept[What was resident doing prior to fall?],$B83)) -> #N/A
G84: =IF($B84="",NA(),COUNTIFS(Sept[What was resident doing prior to fall?],$B84)) -> #N/A
G85: =IF($B85="",NA(),COUNTIFS(Sept[What was resident doing prior to fall?],$B85)) -> #N/A
G86: =IF($B86="",NA(),COUNTIFS(Sept[What was resident doing prior to fall?],$B86)) -> #N/A
G87: =IF($B87="",NA(),COUNTIFS(Sept[What was resident doing prior to fall?],$B87)) -> #N/A
G88: =IF($B88="",NA(),COUNTIFS(Sept[What was resident doing prior to fall?],$B88)) -> #N/A
G89: =IF($B89="",NA(),COUNTIFS(Sept[What was resident doing prior to fall?],$B89)) -> #N/A
G90: =IF($B90="",NA(),COUNTIFS(Sept[What was resident doing prior to fall?],$B90)) -> #N/A
B91: Total | G91: =_xlfn.AGGREGATE(9,6,G67:G90) -> 0
B93: Falls by Location
B94: Location | D94: Total
B95: {=IF(_xlfn._xlws.SORT(Location[Location],1,1,TRUE)=0,"",(_xlfn._xlws.SORT(Location[Location],1,1,TRUE)))} -> Activity Room | D95: =IF($B95="",NA(),COUNTIFS(Sept[Location],$B95)) -> 0
B96: Bedroom | D96: =IF($B96="",NA(),COUNTIFS(Sept[Location],$B96)) -> 0
B97: Bathroom | D97: =IF($B97="",NA(),COUNTIFS(Sept[Location],$B97)) -> 0
B98: Hallway | D98: =IF($B98="",NA(),COUNTIFS(Sept[Location],$B98)) -> 0
B99: Offsite | D99: =IF($B99="",NA(),COUNTIFS(Sept[Location],$B99)) -> 0
B100: Shower Room | D100: =IF($B100="",NA(),COUNTIFS(Sept[Location],$B100)) -> 0
B101: Dining Room | D101: =IF($B101="",NA(),COUNTIFS(Sept[Location],$B101)) -> 0
D102: =IF($B102="",NA(),COUNTIFS(Sept[Location],$B102)) -> #N/A
D103: =IF($B103="",NA(),COUNTIFS(Sept[Location],$B103)) -> #N/A
D104: =IF($B104="",NA(),COUNTIFS(Sept[Location],$B104)) -> #N/A
D105: =IF($B105="",NA(),COUNTIFS(Sept[Location],$B105)) -> #N/A
B106: TOTAL | D106: =_xlfn.AGGREGATE(9,6,D95:D105) -> 0
B108: ="Falls by Nursing Station " -> Falls by Nursing Station
B109: Station | D109: Total
B110: {=IF(_xlfn._xlws.SORT(NS[Nurses Stations],1,1,TRUE)=0,"",(_xlfn._xlws.SORT(NS[Nurses Stations],1,1,TRUE)))} -> 1 | D110: =IF($B110="",NA(),COUNTIFS(Sept[Station],$B110)) -> 0
B111: 2 | D111: =IF($B111="",NA(),COUNTIFS(Sept[Station],$B111)) -> 0
B112: 3 | D112: =IF($B112="",NA(),COUNTIFS(Sept[Station],$B112)) -> 0
B113: 4 | D113: =IF($B113="",NA(),COUNTIFS(Sept[Station],$B113)) -> 0
B114: 5 | D114: =IF($B114="",NA(),COUNTIFS(Sept[Station],$B114)) -> 0
D115: =IF($B115="",NA(),COUNTIFS(Sept[Station],$B115)) -> #N/A
D116: =IF($B116="",NA(),COUNTIFS(Sept[Station],$B116)) -> #N/A
D117: =IF($B117="",NA(),COUNTIFS(Sept[Station],$B117)) -> #N/A
D118: =IF($B118="",NA(),COUNTIFS(Sept[Station],$B118)) -> #N/A
D119: =IF($B119="",NA(),COUNTIFS(Sept[Station],$B119)) -> #N/A
D120: =IF($B120="",NA(),COUNTIFS(Sept[Station],$B120)) -> #N/A
B121: TOTAL | D121: =_xlfn.AGGREGATE(9,6,D110:D120) -> 0
B123: ="Falls by Day of the Week " -> Falls by Day of the Week
B124: Day | D124: Total
B125: Sun | D125: =COUNTIFS(Sept[Day],$B125) -> 0
B126: Mon | D126: =COUNTIFS(Sept[Day],$B126) -> 0
B127: Tue | D127: =COUNTIFS(Sept[Day],$B127) -> 0
B128: Wed | D128: =COUNTIFS(Sept[Day],$B128) -> 0
B129: Thu | D129: =COUNTIFS(Sept[Day],$B129) -> 0
B130: Fri | D130: =COUNTIFS(Sept[Day],$B130) -> 0
B131: Sat | D131: =COUNTIFS(Sept[Day],$B131) -> 0
B132: TOTAL | D132: =SUM(D125:D131) -> 0
B134: ="Falls by Shift" -> Falls by Shift
B135: Shift | D135: Total
B136: {=IF(_xlfn._xlws.SORT('Data Validation'!P3:P7,1,1,TRUE)=0,"",(_xlfn._xlws.SORT('Data Validation'!P3:P7,1,1,TRUE)))} -> 11-7 | D136: =IF($B136="",NA(),COUNTIFS(Sept[Shift],$B136)) -> 0
B137: 11–7 | D137: =IF($B137="",NA(),COUNTIFS(Sept[Shift],$B137)) -> 0
B138: 7–3 | D138: =IF($B138="",NA(),COUNTIFS(Sept[Shift],$B138)) -> 0
B139: 3–11 | D139: =IF($B139="",NA(),COUNTIFS(Sept[Shift],$B139)) -> 0
D140: =IF($B140="",NA(),COUNTIFS(Sept[Shift],$B140)) -> #N/A
B141: TOTAL | D141: =_xlfn.AGGREGATE(9,6,D136:D140) -> 0
...

Sheet Oct
B1: Year | C1: ='Data Validation'!$C$4 -> 0 | D1: =IF(OR($C$1="",$C$1=0),"Enter Year in Data Validation tab",'Data Validation'!$C$2&" October ") -> Enter Year in Data Validation tab | R1: Total Falls: | S1: =IF(COUNTIFS(Oct[Resident Name],"<>")=0,"No Data",COUNTIFS(Oct[Resident Name],"<>")) -> No Data | T1: Fall Rate: | U1: ='Fall Rate and Census'!$AC$36 -> No Data
B3: Room | C3: Resident Name | D3: Date of Incident | E3: Date of Post Fall Evaluation | F3: Witnessed Fall? | G3: Fall Circumstances | H3: Injury Type | I3: Location | J3: Station | K3: Day | L3: Hour | M3: Shift | N3: BIMS Score | O3: Cognitive Impairment | P3: What was resident doing prior to fall? | Q3: Notes on resident activity prior to fall. | R3: RCA Completed? | S3: Contributing Factors | T3: Nurse | U3: Certified Nurse Assistance | V3: Witness Name
K4: =IF(Oct[[#This Row],[Date of Incident]]="","",TEXT(Oct[[#This Row],[Date of Incident]],"ddd")) | M4: =IFERROR(VLOOKUP(Oct[[#This Row],[Hour]],Shifts[],2,FALSE),"") | O4: =IFERROR(VLOOKUP(Oct[[#This Row],[BIMS Score]],BIMS[],2,FALSE),"")
K5: =IF(Oct[[#This Row],[Date of Incident]]="","",TEXT(Oct[[#This Row],[Date of Incident]],"ddd")) | M5: =IFERROR(VLOOKUP(Oct[[#This Row],[Hour]],Shifts[],2,FALSE),"") | O5: =IFERROR(VLOOKUP(Oct[[#This Row],[BIMS Score]],BIMS[],2,FALSE),"")
K6: =IF(Oct[[#This Row],[Date of Incident]]="","",TEXT(Oct[[#This Row],[Date of Incident]],"ddd")) | M6: =IFERROR(VLOOKUP(Oct[[#This Row],[Hour]],Shifts[],2,FALSE),"") | O6: =IFERROR(VLOOKUP(Oct[[#This Row],[BIMS Score]],BIMS[],2,FALSE),"")
K7: =IF(Oct[[#This Row],[Date of Incident]]="","",TEXT(Oct[[#This Row],[Date of Incident]],"ddd")) | M7: =IFERROR(VLOOKUP(Oct[[#This Row],[Hour]],Shifts[],2,FALSE),"") | O7: =IFERROR(VLOOKUP(Oct[[#This Row],[BIMS Score]],BIMS[],2,FALSE),"")
K8: =IF(Oct[[#This Row],[Date of Incident]]="","",TEXT(Oct[[#This Row],[Date of Incident]],"ddd")) | M8: =IFERROR(VLOOKUP(Oct[[#This Row],[Hour]],Shifts[],2,FALSE),"") | O8: =IFERROR(VLOOKUP(Oct[[#This Row],[BIMS Score]],BIMS[],2,FALSE),"")
K9: =IF(Oct[[#This Row],[Date of Incident]]="","",TEXT(Oct[[#This Row],[Date of Incident]],"ddd")) | M9: =IFERROR(VLOOKUP(Oct[[#This Row],[Hour]],Shifts[],2,FALSE),"") | O9: =IFERROR(VLOOKUP(Oct[[#This Row],[BIMS Score]],BIMS[],2,FALSE),"")
K10: =IF(Oct[[#This Row],[Date of Incident]]="","",TEXT(Oct[[#This Row],[Date of Incident]],"ddd")) | M10: =IFERROR(VLOOKUP(Oct[[#This Row],[Hour]],Shifts[],2,FALSE),"") | O10: =IFERROR(VLOOKUP(Oct[[#This Row],[BIMS Score]],BIMS[],2,FALSE),"")
K11: =IF(Oct[[#This Row],[Date of Incident]]="","",TEXT(Oct[[#This Row],[Date of Incident]],"ddd")) | M11: =IFERROR(VLOOKUP(Oct[[#This Row],[Hour]],Shifts[],2,FALSE),"") | O11: =IFERROR(VLOOKUP(Oct[[#This Row],[BIMS Score]],BIMS[],2,FALSE),"")
K12: =IF(Oct[[#This Row],[Date of Incident]]="","",TEXT(Oct[[#This Row],[Date of Incident]],"ddd")) | M12: =IFERROR(VLOOKUP(Oct[[#This Row],[Hour]],Shifts[],2,FALSE),"") | O12: =IFERROR(VLOOKUP(Oct[[#This Row],[BIMS Score]],BIMS[],2,FALSE),"")
K13: =IF(Oct[[#This Row],[Date of Incident]]="","",TEXT(Oct[[#This Row],[Date of Incident]],"ddd")) | M13: =IFERROR(VLOOKUP(Oct[[#This Row],[Hour]],Shifts[],2,FALSE),"") | O13: =IFERROR(VLOOKUP(Oct[[#This Row],[BIMS Score]],BIMS[],2,FALSE),"")
K14: =IF(Oct[[#This Row],[Date of Incident]]="","",TEXT(Oct[[#This Row],[Date of Incident]],"ddd")) | M14: =IFERROR(VLOOKUP(Oct[[#This Row],[Hour]],Shifts[],2,FALSE),"") | O14: =IFERROR(VLOOKUP(Oct[[#This Row],[BIMS Score]],BIMS[],2,FALSE),"")
K15: =IF(Oct[[#This Row],[Date of Incident]]="","",TEXT(Oct[[#This Row],[Date of Incident]],"ddd")) | M15: =IFERROR(VLOOKUP(Oct[[#This Row],[Hour]],Shifts[],2,FALSE),"") | O15: =IFERROR(VLOOKUP(Oct[[#This Row],[BIMS Score]],BIMS[],2,FALSE),"")
... K40: =IF(Oct[[#This Row],[Date of Incident]]="","",TEXT(Oct[[#This Row],[Date of Incident]],"ddd")) | M40: =IFERROR(VLOOKUP(Oct[[#This Row],[Hour]],Shifts[],2,FALSE),"") | O40: =IFERROR(VLOOKUP(Oct[[#This Row],[BIMS Score]],BIMS[],2,FALSE),"")
B51: Witnessed Falls | F51: Fall Circumstances
B52: Result | D52: Total | F52: Result | H52: Total
B53: Yes | D53: =COUNTIFS(Oct[Witnessed Fall?],$B53) -> 0 | F53: Overwhelming Force | H53: =COUNTIFS(Oct[Fall Circumstances],$F53) -> 0
B54: No | D54: =COUNTIFS(Oct[Witnessed Fall?],$B54) -> 0 | F54: Intercepted | H54: =COUNTIFS(Oct[Fall Circumstances],$F54) -> 0
B55: TOTAL | D55: =SUM(D53:D54) -> 0 | F55: N/A | H55: =COUNTIFS(Oct[Fall Circumstances],$F55) -> 0
F56: TOTAL | H56: =SUM(H53:H55) -> 0
F58: Falls by BIMS Score
F59: BIMS Score | H59: Total
F60: Severe (1–7) | H60: =COUNTIFS(Oct[Cognitive Impairment],$F60) -> 0
F61: Moderate (8–12) | H61: =COUNTIFS(Oct[Cognitive Impairment],$F61) -> 0
F62: Intact (13–15) | H62: =COUNTIFS(Oct[Cognitive Impairment],$F62) -> 0
F63: TOTAL | H63: =SUM(H60:H62) -> 0
B65: Falls by Activity
B66: Activity | G66: Total
B67: {=IF(_xlfn._xlws.SORT(PriortoFall[What was the resident doing prior to fall?],1,1,TRUE)=0,"",(_xlfn._xlws.SORT(PriortoFall[What was the resident doing prior to fall?],1,1,TRUE)))} -> Ambulating with assistive device (walker, cane, wheelchair) | G67: =IF($B67="",NA(),COUNTIFS(Oct[What was resident doing prior to fall?],$B67)) -> 0
B68: Ambulating with staff assistance | G68: =IF($B68="",NA(),COUNTIFS(Oct[What was resident doing prior to fall?],$B68)) -> 0
B69: Ambulating without assistance or assistive device | G69: =IF($B69="",NA(),COUNTIFS(Oct[What was resident doing prior to fall?],$B69)) -> 0
B70: Changing position (e.g., in bed, chair) | G70: =IF($B70="",NA(),COUNTIFS(Oct[What was resident doing prior to fall?],$B70)) -> 0
B71: Dressing or undressing | G71: =IF($B71="",NA(),COUNTIFS(Oct[What was resident doing prior to fall?],$B71)) -> 0
B72: Other activity | G72: =IF($B72="",NA(),COUNTIFS(Oct[What was resident doing prior to fall?],$B72)) -> 0
B73: Reaching for an item | G73: =IF($B73="",NA(),COUNTIFS(Oct[What was resident doing prior to fall?],$B73)) -> 0
B74: Showering or bathing | G74: =IF($B74="",NA(),COUNTIFS(Oct[What was resident doing prior to fall?],$B74)) -> 0
B75: Toileting | G75: =IF($B75="",NA(),COUNTIFS(Oct[What was resident doing prior to fall?],$B75)) -> 0
B76: Transferring to or from bed, chair, wheelchair, etc. | G76: =IF($B76="",NA(),COUNTIFS(Oct[What was resident doing prior to fall?],$B76)) -> 0
B77: Unknown | G77: =IF($B77="",NA(),COUNTIFS(Oct[What was resident doing prior to fall?],$B77)) -> 0
G78: =IF($B78="",NA(),COUNTIFS(Oct[What was resident doing prior to fall?],$B78)) -> #N/A
G79: =IF($B79="",NA(),COUNTIFS(Oct[What was resident doing prior to fall?],$B79)) -> #N/A
G80: =IF($B80="",NA(),COUNTIFS(Oct[What was resident doing prior to fall?],$B80)) -> #N/A
G81: =IF($B81="",NA(),COUNTIFS(Oct[What was resident doing prior to fall?],$B81)) -> #N/A
G82: =IF($B82="",NA(),COUNTIFS(Oct[What was resident doing prior to fall?],$B82)) -> #N/A
G83: =IF($B83="",NA(),COUNTIFS(Oct[What was resident doing prior to fall?],$B83)) -> #N/A
G84: =IF($B84="",NA(),COUNTIFS(Oct[What was resident doing prior to fall?],$B84)) -> #N/A
G85: =IF($B85="",NA(),COUNTIFS(Oct[What was resident doing prior to fall?],$B85)) -> #N/A
G86: =IF($B86="",NA(),COUNTIFS(Oct[What was resident doing prior to fall?],$B86)) -> #N/A
G87: =IF($B87="",NA(),COUNTIFS(Oct[What was resident doing prior to fall?],$B87)) -> #N/A
G88: =IF($B88="",NA(),COUNTIFS(Oct[What was resident doing prior to fall?],$B88)) -> #N/A
G89: =IF($B89="",NA(),COUNTIFS(Oct[What was resident doing prior to fall?],$B89)) -> #N/A
G90: =IF($B90="",NA(),COUNTIFS(Oct[What was resident doing prior to fall?],$B90)) -> #N/A
B91: Total | G91: =_xlfn.AGGREGATE(9,6,G67:G90) -> 0
B93: Falls by Location
B94: Location | D94: Total
B95: {=IF(_xlfn._xlws.SORT(Location[Location],1,1,TRUE)=0,"",(_xlfn._xlws.SORT(Location[Location],1,1,TRUE)))} -> Activity Room | D95: =IF($B95="",NA(),COUNTIFS(Oct[Location],$B95)) -> 0
B96: Bedroom | D96: =IF($B96="",NA(),COUNTIFS(Oct[Location],$B96)) -> 0
B97: Bathroom | D97: =IF($B97="",NA(),COUNTIFS(Oct[Location],$B97)) -> 0
B98: Hallway | D98: =IF($B98="",NA(),COUNTIFS(Oct[Location],$B98)) -> 0
B99: Offsite | D99: =IF($B99="",NA(),COUNTIFS(Oct[Location],$B99)) -> 0
B100: Shower Room | D100: =IF($B100="",NA(),COUNTIFS(Oct[Location],$B100)) -> 0
B101: Dining Room | D101: =IF($B101="",NA(),COUNTIFS(Oct[Location],$B101)) -> 0
D102: =IF($B102="",NA(),COUNTIFS(Oct[Location],$B102)) -> #N/A
D103: =IF($B103="",NA(),COUNTIFS(Oct[Location],$B103)) -> #N/A
D104: =IF($B104="",NA(),COUNTIFS(Oct[Location],$B104)) -> #N/A
D105: =IF($B105="",NA(),COUNTIFS(Oct[Location],$B105)) -> #N/A
B106: TOTAL | D106: =_xlfn.AGGREGATE(9,6,D95:D105) -> 0
B108: ="Falls by Nursing Station " -> Falls by Nursing Station
B109: Station | D109: Total
B110: {=IF(_xlfn._xlws.SORT(NS[Nurses Stations],1,1,TRUE)=0,"",(_xlfn._xlws.SORT(NS[Nurses Stations],1,1,TRUE)))} -> 1 | D110: =IF($B110="",NA(),COUNTIFS(Oct[Station],$B110)) -> 0
B111: 2 | D111: =IF($B111="",NA(),COUNTIFS(Oct[Station],$B111)) -> 0
B112: 3 | D112: =IF($B112="",NA(),COUNTIFS(Oct[Station],$B112)) -> 0
B113: 4 | D113: =IF($B113="",NA(),COUNTIFS(Oct[Station],$B113)) -> 0
B114: 5 | D114: =IF($B114="",NA(),COUNTIFS(Oct[Station],$B114)) -> 0
D115: =IF($B115="",NA(),COUNTIFS(Oct[Station],$B115)) -> #N/A
D116: =IF($B116="",NA(),COUNTIFS(Oct[Station],$B116)) -> #N/A
D117: =IF($B117="",NA(),COUNTIFS(Oct[Station],$B117)) -> #N/A
D118: =IF($B118="",NA(),COUNTIFS(Oct[Station],$B118)) -> #N/A
D119: =IF($B119="",NA(),COUNTIFS(Oct[Station],$B119)) -> #N/A
D120: =IF($B120="",NA(),COUNTIFS(Oct[Station],$B120)) -> #N/A
B121: TOTAL | D121: =_xlfn.AGGREGATE(9,6,D110:D120) -> 0
B123: ="Falls by Day of the Week " -> Falls by Day of the Week
B124: Day | D124: Total
B125: Sun | D125: =COUNTIFS(Oct[Day],$B125) -> 0
B126: Mon | D126: =COUNTIFS(Oct[Day],$B126) -> 0
B127: Tue | D127: =COUNTIFS(Oct[Day],$B127) -> 0
B128: Wed | D128: =COUNTIFS(Oct[Day],$B128) -> 0
B129: Thu | D129: =COUNTIFS(Oct[Day],$B129) -> 0
B130: Fri | D130: =COUNTIFS(Oct[Day],$B130) -> 0
B131: Sat | D131: =COUNTIFS(Oct[Day],$B131) -> 0
B132: TOTAL | D132: =SUM(D125:D131) -> 0
B134: ="Falls by Shift" -> Falls by Shift
B135: Shift | D135: Total
B136: {=IF(_xlfn._xlws.SORT('Data Validation'!P3:P7,1,1,TRUE)=0,"",(_xlfn._xlws.SORT('Data Validation'!P3:P7,1,1,TRUE)))} -> 11-7 | D136: =IF($B136="",NA(),COUNTIFS(Oct[Shift],$B136)) -> 0
B137: 11–7 | D137: =IF($B137="",NA(),COUNTIFS(Oct[Shift],$B137)) -> 0
B138: 7–3 | D138: =IF($B138="",NA(),COUNTIFS(Oct[Shift],$B138)) -> 0
B139: 3–11 | D139: =IF($B139="",NA(),COUNTIFS(Oct[Shift],$B139)) -> 0
D140: =IF($B140="",NA(),COUNTIFS(Oct[Shift],$B140)) -> #N/A
B141: TOTAL | D141: =_xlfn.AGGREGATE(9,6,D136:D140) -> 0
...

Sheet Nov
B1: Year | C1: ='Data Validation'!$C$4 -> 0 | D1: =IF(OR($C$1="",$C$1=0),"Enter Year in Data Validation tab",'Data Validation'!$C$2&" November ") -> Enter Year in Data Validation tab | R1: Total Falls: | S1: =IF(COUNTIFS(Nov[Resident Name],"<>")=0,"No Data",COUNTIFS(Nov[Resident Name],"<>")) -> No Data | T1: Fall Rate: | U1: ='Fall Rate and Census'!$AF$35 -> No Data
B3: Room | C3: Resident Name | D3: Date of Incident | E3: Date of Post Fall Evaluation | F3: Witnessed Fall? | G3: Fall Circumstances | H3: Injury Type | I3: Location | J3: Station | K3: Day | L3: Hour | M3: Shift | N3: BIMS Score | O3: Cognitive Impairment | P3: What was resident doing prior to fall? | Q3: Notes on resident activity prior to fall. | R3: RCA Completed? | S3: Contributing Factors | T3: Nurse | U3: Certified Nurse Assistance | V3: Witness Name
K4: =IF(Nov[[#This Row],[Date of Incident]]="","",TEXT(Nov[[#This Row],[Date of Incident]],"ddd")) | M4: =IFERROR(VLOOKUP(Nov[[#This Row],[Hour]],Shifts[],2,FALSE),"") | O4: =IFERROR(VLOOKUP(Nov[[#This Row],[BIMS Score]],BIMS[],2,FALSE),"")
K5: =IF(Nov[[#This Row],[Date of Incident]]="","",TEXT(Nov[[#This Row],[Date of Incident]],"ddd")) | M5: =IFERROR(VLOOKUP(Nov[[#This Row],[Hour]],Shifts[],2,FALSE),"") | O5: =IFERROR(VLOOKUP(Nov[[#This Row],[BIMS Score]],BIMS[],2,FALSE),"")
K6: =IF(Nov[[#This Row],[Date of Incident]]="","",TEXT(Nov[[#This Row],[Date of Incident]],"ddd")) | M6: =IFERROR(VLOOKUP(Nov[[#This Row],[Hour]],Shifts[],2,FALSE),"") | O6: =IFERROR(VLOOKUP(Nov[[#This Row],[BIMS Score]],BIMS[],2,FALSE),"")
K7: =IF(Nov[[#This Row],[Date of Incident]]="","",TEXT(Nov[[#This Row],[Date of Incident]],"ddd")) | M7: =IFERROR(VLOOKUP(Nov[[#This Row],[Hour]],Shifts[],2,FALSE),"") | O7: =IFERROR(VLOOKUP(Nov[[#This Row],[BIMS Score]],BIMS[],2,FALSE),"")
K8: =IF(Nov[[#This Row],[Date of Incident]]="","",TEXT(Nov[[#This Row],[Date of Incident]],"ddd")) | M8: =IFERROR(VLOOKUP(Nov[[#This Row],[Hour]],Shifts[],2,FALSE),"") | O8: =IFERROR(VLOOKUP(Nov[[#This Row],[BIMS Score]],BIMS[],2,FALSE),"")
K9: =IF(Nov[[#This Row],[Date of Incident]]="","",TEXT(Nov[[#This Row],[Date of Incident]],"ddd")) | M9: =IFERROR(VLOOKUP(Nov[[#This Row],[Hour]],Shifts[],2,FALSE),"") | O9: =IFERROR(VLOOKUP(Nov[[#This Row],[BIMS Score]],BIMS[],2,FALSE),"")
K10: =IF(Nov[[#This Row],[Date of Incident]]="","",TEXT(Nov[[#This Row],[Date of Incident]],"ddd")) | M10: =IFERROR(VLOOKUP(Nov[[#This Row],[Hour]],Shifts[],2,FALSE),"") | O10: =IFERROR(VLOOKUP(Nov[[#This Row],[BIMS Score]],BIMS[],2,FALSE),"")
K11: =IF(Nov[[#This Row],[Date of Incident]]="","",TEXT(Nov[[#This Row],[Date of Incident]],"ddd")) | M11: =IFERROR(VLOOKUP(Nov[[#This Row],[Hour]],Shifts[],2,FALSE),"") | O11: =IFERROR(VLOOKUP(Nov[[#This Row],[BIMS Score]],BIMS[],2,FALSE),"")
K12: =IF(Nov[[#This Row],[Date of Incident]]="","",TEXT(Nov[[#This Row],[Date of Incident]],"ddd")) | M12: =IFERROR(VLOOKUP(Nov[[#This Row],[Hour]],Shifts[],2,FALSE),"") | O12: =IFERROR(VLOOKUP(Nov[[#This Row],[BIMS Score]],BIMS[],2,FALSE),"")
K13: =IF(Nov[[#This Row],[Date of Incident]]="","",TEXT(Nov[[#This Row],[Date of Incident]],"ddd")) | M13: =IFERROR(VLOOKUP(Nov[[#This Row],[Hour]],Shifts[],2,FALSE),"") | O13: =IFERROR(VLOOKUP(Nov[[#This Row],[BIMS Score]],BIMS[],2,FALSE),"")
K14: =IF(Nov[[#This Row],[Date of Incident]]="","",TEXT(Nov[[#This Row],[Date of Incident]],"ddd")) | M14: =IFERROR(VLOOKUP(Nov[[#This Row],[Hour]],Shifts[],2,FALSE),"") | O14: =IFERROR(VLOOKUP(Nov[[#This Row],[BIMS Score]],BIMS[],2,FALSE),"")
K15: =IF(Nov[[#This Row],[Date of Incident]]="","",TEXT(Nov[[#This Row],[Date of Incident]],"ddd")) | M15: =IFERROR(VLOOKUP(Nov[[#This Row],[Hour]],Shifts[],2,FALSE),"") | O15: =IFERROR(VLOOKUP(Nov[[#This Row],[BIMS Score]],BIMS[],2,FALSE),"")
... K40: =IF(Nov[[#This Row],[Date of Incident]]="","",TEXT(Nov[[#This Row],[Date of Incident]],"ddd")) | M40: =IFERROR(VLOOKUP(Nov[[#This Row],[Hour]],Shifts[],2,FALSE),"") | O40: =IFERROR(VLOOKUP(Nov[[#This Row],[BIMS Score]],BIMS[],2,FALSE),"")
B51: Witnessed Falls | F51: Fall Circumstances
B52: Result | D52: Total | F52: Result | H52: Total
B53: Yes | D53: =COUNTIFS(Nov[Witnessed Fall?],$B53) -> 0 | F53: Overwhelming Force | H53: =COUNTIFS(Nov[Fall Circumstances],$F53) -> 0
B54: No | D54: =COUNTIFS(Nov[Witnessed Fall?],$B54) -> 0 | F54: Intercepted | H54: =COUNTIFS(Nov[Fall Circumstances],$F54) -> 0
B55: TOTAL | D55: =SUM(D53:D54) -> 0 | F55: N/A | H55: =COUNTIFS(Nov[Fall Circumstances],$F55) -> 0
F56: TOTAL | H56: =SUM(H53:H55) -> 0
F58: Falls by BIMS Score
F59: BIMS Score | H59: Total
F60: Severe (1–7) | H60: =COUNTIFS(Nov[Cognitive Impairment],$F60) -> 0
F61: Moderate (8–12) | H61: =COUNTIFS(Nov[Cognitive Impairment],$F61) -> 0
F62: Intact (13–15) | H62: =COUNTIFS(Nov[Cognitive Impairment],$F62) -> 0
F63: TOTAL | H63: =SUM(H60:H62) -> 0
B65: Falls by Activity
B66: Activity | G66: Total
B67: {=IF(_xlfn._xlws.SORT(PriortoFall[What was the resident doing prior to fall?],1,1,TRUE)=0,"",(_xlfn._xlws.SORT(PriortoFall[What was the resident doing prior to fall?],1,1,TRUE)))} -> Ambulating with assistive device (walker, cane, wheelchair) | G67: =IF($B67="",NA(),COUNTIFS(Nov[What was resident doing prior to fall?],$B67)) -> 0
B68: Ambulating with staff assistance | G68: =IF($B68="",NA(),COUNTIFS(Nov[What was resident doing prior to fall?],$B68)) -> 0
B69: Ambulating without assistance or assistive device | G69: =IF($B69="",NA(),COUNTIFS(Nov[What was resident doing prior to fall?],$B69)) -> 0
B70: Changing position (e.g., in bed, chair) | G70: =IF($B70="",NA(),COUNTIFS(Nov[What was resident doing prior to fall?],$B70)) -> 0
B71: Dressing or undressing | G71: =IF($B71="",NA(),COUNTIFS(Nov[What was resident doing prior to fall?],$B71)) -> 0
B72: Other activity | G72: =IF($B72="",NA(),COUNTIFS(Nov[What was resident doing prior to fall?],$B72)) -> 0
B73: Reaching for an item | G73: =IF($B73="",NA(),COUNTIFS(Nov[What was resident doing prior to fall?],$B73)) -> 0
B74: Showering or bathing | G74: =IF($B74="",NA(),COUNTIFS(Nov[What was resident doing prior to fall?],$B74)) -> 0
B75: Toileting | G75: =IF($B75="",NA(),COUNTIFS(Nov[What was resident doing prior to fall?],$B75)) -> 0
B76: Transferring to or from bed, chair, wheelchair, etc. | G76: =IF($B76="",NA(),COUNTIFS(Nov[What was resident doing prior to fall?],$B76)) -> 0
B77: Unknown | G77: =IF($B77="",NA(),COUNTIFS(Nov[What was resident doing prior to fall?],$B77)) -> 0
G78: =IF($B78="",NA(),COUNTIFS(Nov[What was resident doing prior to fall?],$B78)) -> #N/A
G79: =IF($B79="",NA(),COUNTIFS(Nov[What was resident doing prior to fall?],$B79)) -> #N/A
G80: =IF($B80="",NA(),COUNTIFS(Nov[What was resident doing prior to fall?],$B80)) -> #N/A
G81: =IF($B81="",NA(),COUNTIFS(Nov[What was resident doing prior to fall?],$B81)) -> #N/A
G82: =IF($B82="",NA(),COUNTIFS(Nov[What was resident doing prior to fall?],$B82)) -> #N/A
G83: =IF($B83="",NA(),COUNTIFS(Nov[What was resident doing prior to fall?],$B83)) -> #N/A
G84: =IF($B84="",NA(),COUNTIFS(Nov[What was resident doing prior to fall?],$B84)) -> #N/A
G85: =IF($B85="",NA(),COUNTIFS(Nov[What was resident doing prior to fall?],$B85)) -> #N/A
G86: =IF($B86="",NA(),COUNTIFS(Nov[What was resident doing prior to fall?],$B86)) -> #N/A
G87: =IF($B87="",NA(),COUNTIFS(Nov[What was resident doing prior to fall?],$B87)) -> #N/A
G88: =IF($B88="",NA(),COUNTIFS(Nov[What was resident doing prior to fall?],$B88)) -> #N/A
G89: =IF($B89="",NA(),COUNTIFS(Nov[What was resident doing prior to fall?],$B89)) -> #N/A
G90: =IF($B90="",NA(),COUNTIFS(Nov[What was resident doing prior to fall?],$B90)) -> #N/A
B91: Total | G91: =_xlfn.AGGREGATE(9,6,G67:G90) -> 0
B93: Falls by Location
B94: Location | D94: Total
B95: {=IF(_xlfn._xlws.SORT(Location[Location],1,1,TRUE)=0,"",(_xlfn._xlws.SORT(Location[Location],1,1,TRUE)))} -> Activity Room | D95: =IF($B95="",NA(),COUNTIFS(Nov[Location],$B95)) -> 0
B96: Bedroom | D96: =IF($B96="",NA(),COUNTIFS(Nov[Location],$B96)) -> 0
B97: Bathroom | D97: =IF($B97="",NA(),COUNTIFS(Nov[Location],$B97)) -> 0
B98: Hallway | D98: =IF($B98="",NA(),COUNTIFS(Nov[Location],$B98)) -> 0
B99: Offsite | D99: =IF($B99="",NA(),COUNTIFS(Nov[Location],$B99)) -> 0
B100: Shower Room | D100: =IF($B100="",NA(),COUNTIFS(Nov[Location],$B100)) -> 0
B101: Dining Room | D101: =IF($B101="",NA(),COUNTIFS(Nov[Location],$B101)) -> 0
D102: =IF($B102="",NA(),COUNTIFS(Nov[Location],$B102)) -> #N/A
D103: =IF($B103="",NA(),COUNTIFS(Nov[Location],$B103)) -> #N/A
D104: =IF($B104="",NA(),COUNTIFS(Nov[Location],$B104)) -> #N/A
D105: =IF($B105="",NA(),COUNTIFS(Nov[Location],$B105)) -> #N/A
B106: TOTAL | D106: =_xlfn.AGGREGATE(9,6,D95:D105) -> 0
B108: ="Falls by Nursing Station " -> Falls by Nursing Station
B109: Station | D109: Total
B110: {=IF(_xlfn._xlws.SORT(NS[Nurses Stations],1,1,TRUE)=0,"",(_xlfn._xlws.SORT(NS[Nurses Stations],1,1,TRUE)))} -> 1 | D110: =IF($B110="",NA(),COUNTIFS(Nov[Station],$B110)) -> 0
B111: 2 | D111: =IF($B111="",NA(),COUNTIFS(Nov[Station],$B111)) -> 0
B112: 3 | D112: =IF($B112="",NA(),COUNTIFS(Nov[Station],$B112)) -> 0
B113: 4 | D113: =IF($B113="",NA(),COUNTIFS(Nov[Station],$B113)) -> 0
B114: 5 | D114: =IF($B114="",NA(),COUNTIFS(Nov[Station],$B114)) -> 0
D115: =IF($B115="",NA(),COUNTIFS(Nov[Station],$B115)) -> #N/A
D116: =IF($B116="",NA(),COUNTIFS(Nov[Station],$B116)) -> #N/A
D117: =IF($B117="",NA(),COUNTIFS(Nov[Station],$B117)) -> #N/A
D118: =IF($B118="",NA(),COUNTIFS(Nov[Station],$B118)) -> #N/A
D119: =IF($B119="",NA(),COUNTIFS(Nov[Station],$B119)) -> #N/A
D120: =IF($B120="",NA(),COUNTIFS(Nov[Station],$B120)) -> #N/A
B121: TOTAL | D121: =_xlfn.AGGREGATE(9,6,D110:D120) -> 0
B123: ="Falls by Day of the Week " -> Falls by Day of the Week
B124: Day | D124: Total
B125: Sun | D125: =COUNTIFS(Nov[Day],$B125) -> 0
B126: Mon | D126: =COUNTIFS(Nov[Day],$B126) -> 0
B127: Tue | D127: =COUNTIFS(Nov[Day],$B127) -> 0
B128: Wed | D128: =COUNTIFS(Nov[Day],$B128) -> 0
B129: Thu | D129: =COUNTIFS(Nov[Day],$B129) -> 0
B130: Fri | D130: =COUNTIFS(Nov[Day],$B130) -> 0
B131: Sat | D131: =COUNTIFS(Nov[Day],$B131) -> 0
B132: TOTAL | D132: =SUM(D125:D131) -> 0
B134: ="Falls by Shift" -> Falls by Shift
B135: Shift | D135: Total
B136: {=IF(_xlfn._xlws.SORT('Data Validation'!P3:P7,1,1,TRUE)=0,"",(_xlfn._xlws.SORT('Data Validation'!P3:P7,1,1,TRUE)))} -> 11-7 | D136: =IF($B136="",NA(),COUNTIFS(Nov[Shift],$B136)) -> 0
B137: 11–7 | D137: =IF($B137="",NA(),COUNTIFS(Nov[Shift],$B137)) -> 0
B138: 7–3 | D138: =IF($B138="",NA(),COUNTIFS(Nov[Shift],$B138)) -> 0
B139: 3–11 | D139: =IF($B139="",NA(),COUNTIFS(Nov[Shift],$B139)) -> 0
D140: =IF($B140="",NA(),COUNTIFS(Nov[Shift],$B140)) -> #N/A
B141: TOTAL | D141: =_xlfn.AGGREGATE(9,6,D136:D140) -> 0
...

Sheet Dec
B1: Year | C1: ='Data Validation'!$C$4 -> 0 | D1: =IF(OR($C$1="",$C$1=0),"Enter Year in Data Validation tab",'Data Validation'!$C$2&" December ") -> Enter Year in Data Validation tab | R1: Total Falls: | S1: =IF(COUNTIFS(Dec[Resident Name],"<>")=0,"No Data",COUNTIFS(Dec[Resident Name],"<>")) -> No Data | T1: Fall Rate: | U1: ='Fall Rate and Census'!$AI$36 -> No Data
B3: Room | C3: Resident Name | D3: Date of Incident | E3: Date of Post Fall Evaluation | F3: Witnessed Fall? | G3: Fall Circumstances | H3: Injury Type | I3: Location | J3: Station | K3: Day | L3: Hour | M3: Shift | N3: BIMS Score | O3: Cognitive Impairment | P3: What was resident doing prior to fall? | Q3: Notes on resident activity prior to fall. | R3: RCA Completed? | S3: Contributing Factors | T3: Nurse | U3: Certified Nurse Assistance | V3: Witness Name
K4: =IF(Dec[[#This Row],[Date of Incident]]="","",TEXT(Dec[[#This Row],[Date of Incident]],"ddd")) | M4: =IFERROR(VLOOKUP(Dec[[#This Row],[Hour]],Shifts[],2,FALSE),"") | O4: =IFERROR(VLOOKUP(Dec[[#This Row],[BIMS Score]],BIMS[],2,FALSE),"")
K5: =IF(Dec[[#This Row],[Date of Incident]]="","",TEXT(Dec[[#This Row],[Date of Incident]],"ddd")) | M5: =IFERROR(VLOOKUP(Dec[[#This Row],[Hour]],Shifts[],2,FALSE),"") | O5: =IFERROR(VLOOKUP(Dec[[#This Row],[BIMS Score]],BIMS[],2,FALSE),"")
K6: =IF(Dec[[#This Row],[Date of Incident]]="","",TEXT(Dec[[#This Row],[Date of Incident]],"ddd")) | M6: =IFERROR(VLOOKUP(Dec[[#This Row],[Hour]],Shifts[],2,FALSE),"") | O6: =IFERROR(VLOOKUP(Dec[[#This Row],[BIMS Score]],BIMS[],2,FALSE),"")
K7: =IF(Dec[[#This Row],[Date of Incident]]="","",TEXT(Dec[[#This Row],[Date of Incident]],"ddd")) | M7: =IFERROR(VLOOKUP(Dec[[#This Row],[Hour]],Shifts[],2,FALSE),"") | O7: =IFERROR(VLOOKUP(Dec[[#This Row],[BIMS Score]],BIMS[],2,FALSE),"")
K8: =IF(Dec[[#This Row],[Date of Incident]]="","",TEXT(Dec[[#This Row],[Date of Incident]],"ddd")) | M8: =IFERROR(VLOOKUP(Dec[[#This Row],[Hour]],Shifts[],2,FALSE),"") | O8: =IFERROR(VLOOKUP(Dec[[#This Row],[BIMS Score]],BIMS[],2,FALSE),"")
K9: =IF(Dec[[#This Row],[Date of Incident]]="","",TEXT(Dec[[#This Row],[Date of Incident]],"ddd")) | M9: =IFERROR(VLOOKUP(Dec[[#This Row],[Hour]],Shifts[],2,FALSE),"") | O9: =IFERROR(VLOOKUP(Dec[[#This Row],[BIMS Score]],BIMS[],2,FALSE),"")
K10: =IF(Dec[[#This Row],[Date of Incident]]="","",TEXT(Dec[[#This Row],[Date of Incident]],"ddd")) | M10: =IFERROR(VLOOKUP(Dec[[#This Row],[Hour]],Shifts[],2,FALSE),"") | O10: =IFERROR(VLOOKUP(Dec[[#This Row],[BIMS Score]],BIMS[],2,FALSE),"")
K11: =IF(Dec[[#This Row],[Date of Incident]]="","",TEXT(Dec[[#This Row],[Date of Incident]],"ddd")) | M11: =IFERROR(VLOOKUP(Dec[[#This Row],[Hour]],Shifts[],2,FALSE),"") | O11: =IFERROR(VLOOKUP(Dec[[#This Row],[BIMS Score]],BIMS[],2,FALSE),"")
K12: =IF(Dec[[#This Row],[Date of Incident]]="","",TEXT(Dec[[#This Row],[Date of Incident]],"ddd")) | M12: =IFERROR(VLOOKUP(Dec[[#This Row],[Hour]],Shifts[],2,FALSE),"") | O12: =IFERROR(VLOOKUP(Dec[[#This Row],[BIMS Score]],BIMS[],2,FALSE),"")
K13: =IF(Dec[[#This Row],[Date of Incident]]="","",TEXT(Dec[[#This Row],[Date of Incident]],"ddd")) | M13: =IFERROR(VLOOKUP(Dec[[#This Row],[Hour]],Shifts[],2,FALSE),"") | O13: =IFERROR(VLOOKUP(Dec[[#This Row],[BIMS Score]],BIMS[],2,FALSE),"")
K14: =IF(Dec[[#This Row],[Date of Incident]]="","",TEXT(Dec[[#This Row],[Date of Incident]],"ddd")) | M14: =IFERROR(VLOOKUP(Dec[[#This Row],[Hour]],Shifts[],2,FALSE),"") | O14: =IFERROR(VLOOKUP(Dec[[#This Row],[BIMS Score]],BIMS[],2,FALSE),"")
K15: =IF(Dec[[#This Row],[Date of Incident]]="","",TEXT(Dec[[#This Row],[Date of Incident]],"ddd")) | M15: =IFERROR(VLOOKUP(Dec[[#This Row],[Hour]],Shifts[],2,FALSE),"") | O15: =IFERROR(VLOOKUP(Dec[[#This Row],[BIMS Score]],BIMS[],2,FALSE),"")
... K40: =IF(Dec[[#This Row],[Date of Incident]]="","",TEXT(Dec[[#This Row],[Date of Incident]],"ddd")) | M40: =IFERROR(VLOOKUP(Dec[[#This Row],[Hour]],Shifts[],2,FALSE),"") | O40: =IFERROR(VLOOKUP(Dec[[#This Row],[BIMS Score]],BIMS[],2,FALSE),"")
B51: Witnessed Falls | F51: Fall Circumstances
B52: Result | D52: Total | F52: Result | H52: Total
B53: Yes | D53: =COUNTIFS(Dec[Witnessed Fall?],$B53) -> 0 | F53: Overwhelming Force | H53: =COUNTIFS(Dec[Fall Circumstances],$F53) -> 0
B54: No | D54: =COUNTIFS(Dec[Witnessed Fall?],$B54) -> 0 | F54: Intercepted | H54: =COUNTIFS(Dec[Fall Circumstances],$F54) -> 0
B55: TOTAL | D55: =SUM(D53:D54) -> 0 | F55: N/A | H55: =COUNTIFS(Dec[Fall Circumstances],$F55) -> 0
F56: TOTAL | H56: =SUM(H53:H55) -> 0
F58: Falls by BIMS Score
F59: BIMS Score | H59: Total
F60: Severe (1–7) | H60: =COUNTIFS(Dec[Cognitive Impairment],$F60) -> 0
F61: Moderate (8–12) | H61: =COUNTIFS(Dec[Cognitive Impairment],$F61) -> 0
F62: Intact (13–15) | H62: =COUNTIFS(Dec[Cognitive Impairment],$F62) -> 0
F63: TOTAL | H63: =SUM(H60:H62) -> 0
B65: Falls by Activity
B66: Activity | G66: Total
B67: {=IF(_xlfn._xlws.SORT(PriortoFall[What was the resident doing prior to fall?],1,1,TRUE)=0,"",(_xlfn._xlws.SORT(PriortoFall[What was the resident doing prior to fall?],1,1,TRUE)))} -> Ambulating with assistive device (walker, cane, wheelchair) | G67: =IF($B67="",NA(),COUNTIFS(Dec[What was resident doing prior to fall?],$B67)) -> 0
B68: Ambulating with staff assistance | G68: =IF($B68="",NA(),COUNTIFS(Dec[What was resident doing prior to fall?],$B68)) -> 0
B69: Ambulating without assistance or assistive device | G69: =IF($B69="",NA(),COUNTIFS(Dec[What was resident doing prior to fall?],$B69)) -> 0
B70: Changing position (e.g., in bed, chair) | G70: =IF($B70="",NA(),COUNTIFS(Dec[What was resident doing prior to fall?],$B70)) -> 0
B71: Dressing or undressing | G71: =IF($B71="",NA(),COUNTIFS(Dec[What was resident doing prior to fall?],$B71)) -> 0
B72: Other activity | G72: =IF($B72="",NA(),COUNTIFS(Dec[What was resident doing prior to fall?],$B72)) -> 0
B73: Reaching for an item | G73: =IF($B73="",NA(),COUNTIFS(Dec[What was resident doing prior to fall?],$B73)) -> 0
B74: Showering or bathing | G74: =IF($B74="",NA(),COUNTIFS(Dec[What was resident doing prior to fall?],$B74)) -> 0
B75: Toileting | G75: =IF($B75="",NA(),COUNTIFS(Dec[What was resident doing prior to fall?],$B75)) -> 0
B76: Transferring to or from bed, chair, wheelchair, etc. | G76: =IF($B76="",NA(),COUNTIFS(Dec[What was resident doing prior to fall?],$B76)) -> 0
B77: Unknown | G77: =IF($B77="",NA(),COUNTIFS(Dec[What was resident doing prior to fall?],$B77)) -> 0
G78: =IF($B78="",NA(),COUNTIFS(Dec[What was resident doing prior to fall?],$B78)) -> #N/A
G79: =IF($B79="",NA(),COUNTIFS(Dec[What was resident doing prior to fall?],$B79)) -> #N/A
G80: =IF($B80="",NA(),COUNTIFS(Dec[What was resident doing prior to fall?],$B80)) -> #N/A
G81: =IF($B81="",NA(),COUNTIFS(Dec[What was resident doing prior to fall?],$B81)) -> #N/A
G82: =IF($B82="",NA(),COUNTIFS(Dec[What was resident doing prior to fall?],$B82)) -> #N/A
G83: =IF($B83="",NA(),COUNTIFS(Dec[What was resident doing prior to fall?],$B83)) -> #N/A
G84: =IF($B84="",NA(),COUNTIFS(Dec[What was resident doing prior to fall?],$B84)) -> #N/A
G85: =IF($B85="",NA(),COUNTIFS(Dec[What was resident doing prior to fall?],$B85)) -> #N/A
G86: =IF($B86="",NA(),COUNTIFS(Dec[What was resident doing prior to fall?],$B86)) -> #N/A
G87: =IF($B87="",NA(),COUNTIFS(Dec[What was resident doing prior to fall?],$B87)) -> #N/A
G88: =IF($B88="",NA(),COUNTIFS(Dec[What was resident doing prior to fall?],$B88)) -> #N/A
G89: =IF($B89="",NA(),COUNTIFS(Dec[What was resident doing prior to fall?],$B89)) -> #N/A
G90: =IF($B90="",NA(),COUNTIFS(Dec[What was resident doing prior to fall?],$B90)) -> #N/A
B91: Total | G91: =_xlfn.AGGREGATE(9,6,G67:G90) -> 0
B93: Falls by Location
B94: Location | D94: Total
B95: {=IF(_xlfn._xlws.SORT(Location[Location],1,1,TRUE)=0,"",(_xlfn._xlws.SORT(Location[Location],1,1,TRUE)))} -> Activity Room | D95: =IF($B95="",NA(),COUNTIFS(Dec[Location],$B95)) -> 0
B96: Bedroom | D96: =IF($B96="",NA(),COUNTIFS(Dec[Location],$B96)) -> 0
B97: Bathroom | D97: =IF($B97="",NA(),COUNTIFS(Dec[Location],$B97)) -> 0
B98: Hallway | D98: =IF($B98="",NA(),COUNTIFS(Dec[Location],$B98)) -> 0
B99: Offsite | D99: =IF($B99="",NA(),COUNTIFS(Dec[Location],$B99)) -> 0
B100: Shower Room | D100: =IF($B100="",NA(),COUNTIFS(Dec[Location],$B100)) -> 0
B101: Dining Room | D101: =IF($B101="",NA(),COUNTIFS(Dec[Location],$B101)) -> 0
D102: =IF($B102="",NA(),COUNTIFS(Dec[Location],$B102)) -> #N/A
D103: =IF($B103="",NA(),COUNTIFS(Dec[Location],$B103)) -> #N/A
D104: =IF($B104="",NA(),COUNTIFS(Dec[Location],$B104)) -> #N/A
D105: =IF($B105="",NA(),COUNTIFS(Dec[Location],$B105)) -> #N/A
B106: TOTAL | D106: =_xlfn.AGGREGATE(9,6,D95:D105) -> 0
B108: ="Falls by Nursing Station " -> Falls by Nursing Station
B109: Station | D109: Total
B110: {=IF(_xlfn._xlws.SORT(NS[Nurses Stations],1,1,TRUE)=0,"",(_xlfn._xlws.SORT(NS[Nurses Stations],1,1,TRUE)))} -> 1 | D110: =IF($B110="",NA(),COUNTIFS(Dec[Station],$B110)) -> 0
B111: 2 | D111: =IF($B111="",NA(),COUNTIFS(Dec[Station],$B111)) -> 0
B112: 3 | D112: =IF($B112="",NA(),COUNTIFS(Dec[Station],$B112)) -> 0
B113: 4 | D113: =IF($B113="",NA(),COUNTIFS(Dec[Station],$B113)) -> 0
B114: 5 | D114: =IF($B114="",NA(),COUNTIFS(Dec[Station],$B114)) -> 0
D115: =IF($B115="",NA(),COUNTIFS(Dec[Station],$B115)) -> #N/A
D116: =IF($B116="",NA(),COUNTIFS(Dec[Station],$B116)) -> #N/A
D117: =IF($B117="",NA(),COUNTIFS(Dec[Station],$B117)) -> #N/A
D118: =IF($B118="",NA(),COUNTIFS(Dec[Station],$B118)) -> #N/A
D119: =IF($B119="",NA(),COUNTIFS(Dec[Station],$B119)) -> #N/A
D120: =IF($B120="",NA(),COUNTIFS(Dec[Station],$B120)) -> #N/A
B121: TOTAL | D121: =_xlfn.AGGREGATE(9,6,D110:D120) -> 0
B123: ="Falls by Day of the Week " -> Falls by Day of the Week
B124: Day | D124: Total
B125: Sun | D125: =COUNTIFS(Dec[Day],$B125) -> 0
B126: Mon | D126: =COUNTIFS(Dec[Day],$B126) -> 0
B127: Tue | D127: =COUNTIFS(Dec[Day],$B127) -> 0
B128: Wed | D128: =COUNTIFS(Dec[Day],$B128) -> 0
B129: Thu | D129: =COUNTIFS(Dec[Day],$B129) -> 0
B130: Fri | D130: =COUNTIFS(Dec[Day],$B130) -> 0
B131: Sat | D131: =COUNTIFS(Dec[Day],$B131) -> 0
B132: TOTAL | D132: =SUM(D125:D131) -> 0
B134: ="Falls by Shift" -> Falls by Shift
B135: Shift | D135: Total
B136: {=IF(_xlfn._xlws.SORT('Data Validation'!P3:P7,1,1,TRUE)=0,"",(_xlfn._xlws.SORT('Data Validation'!P3:P7,1,1,TRUE)))} -> 11-7 | D136: =IF($B136="",NA(),COUNTIFS(Dec[Shift],$B136)) -> 0
B137: 11–7 | D137: =IF($B137="",NA(),COUNTIFS(Dec[Shift],$B137)) -> 0
B138: 7–3 | D138: =IF($B138="",NA(),COUNTIFS(Dec[Shift],$B138)) -> 0
B139: 3–11 | D139: =IF($B139="",NA(),COUNTIFS(Dec[Shift],$B139)) -> 0
D140: =IF($B140="",NA(),COUNTIFS(Dec[Shift],$B140)) -> #N/A
B141: TOTAL | D141: =_xlfn.AGGREGATE(9,6,D136:D140) -> 0
...

Sheet Falls
B2: ="Number of Falls Per Month By Category "&IF(Jan!$C$1=0,"",Jan!$C$1) -> Number of Falls Per Month By Category
C3: January | D3: February | E3: March | F3: April | G3: May | H3: June | I3: July | J3: August | K3: September | L3: October | M3: November | N3: December | O3: TOTAL
B4: {=IF(_xlfn._xlws.SORT(FallType[Fall Type],1,1,TRUE)=0,"",(_xlfn._xlws.SORT(FallType[Fall Type],1,1,TRUE)))} -> Major Injury | C4: =IF(Jan!$S$1="No Data",NA(),COUNTIFS(Jan[Injury Type],$B4)) -> #N/A | D4: =IF(Feb!$S$1="No Data",NA(),COUNTIFS(Feb[Injury Type],$B4)) -> #N/A | E4: =IF(Mar!$S$1="No Data",NA(),COUNTIFS(Mar[Injury Type],$B4)) -> #N/A | F4: =IF(Apr!$S$1="No Data",NA(),COUNTIFS(Apr[Injury Type],$B4)) -> #N/A | G4: =IF(May!$S$1="No Data",NA(),COUNTIFS(May[Injury Type],$B4)) -> #N/A | H4: =IF(June!$S$1="No Data",NA(),COUNTIFS(June[Injury Type],$B4)) -> #N/A | I4: =IF(July!$S$1="No Data",NA(),COUNTIFS(July[Injury Type],$B4)) -> #N/A | J4: =IF(Aug!$S$1="No Data",NA(),COUNTIFS(Aug[Injury Type],$B4)) -> #N/A | K4: =IF(Sept!$S$1="No Data",NA(),COUNTIFS(Sept[Injury Type],$B4)) -> #N/A | L4: =IF(Oct!$S$1="No Data",NA(),COUNTIFS(Oct[Injury Type],$B4)) -> #N/A | M4: =IF(Nov!$S$1="No Data",NA(),COUNTIFS(Nov[Injury Type],$B4)) -> #N/A | N4: =IF(Dec!$S$1="No Data",NA(),COUNTIFS(Dec[Injury Type],$B4)) -> #N/A | O4: =_xlfn.AGGREGATE(9,6,C4:N4) -> 0
B5: Injury (Except Major) | C5: =IF(Jan!$S$1="No Data",NA(),COUNTIFS(Jan[Injury Type],$B5)) -> #N/A | D5: =IF(Feb!$S$1="No Data",NA(),COUNTIFS(Feb[Injury Type],$B5)) -> #N/A | E5: =IF(Mar!$S$1="No Data",NA(),COUNTIFS(Mar[Injury Type],$B5)) -> #N/A | F5: =IF(Apr!$S$1="No Data",NA(),COUNTIFS(Apr[Injury Type],$B5)) -> #N/A | G5: =IF(May!$S$1="No Data",NA(),COUNTIFS(May[Injury Type],$B5)) -> #N/A | H5: =IF(June!$S$1="No Data",NA(),COUNTIFS(June[Injury Type],$B5)) -> #N/A | I5: =IF(July!$S$1="No Data",NA(),COUNTIFS(July[Injury Type],$B5)) -> #N/A | J5: =IF(Aug!$S$1="No Data",NA(),COUNTIFS(Aug[Injury Type],$B5)) -> #N/A | K5: =IF(Sept!$S$1="No Data",NA(),COUNTIFS(Sept[Injury Type],$B5)) -> #N/A | L5: =IF(Oct!$S$1="No Data",NA(),COUNTIFS(Oct[Injury Type],$B5)) -> #N/A | M5: =IF(Nov!$S$1="No Data",NA(),COUNTIFS(Nov[Injury Type],$B5)) -> #N/A | N5: =IF(Dec!$S$1="No Data",NA(),COUNTIFS(Dec[Injury Type],$B5)) -> #N/A | O5: =_xlfn.AGGREGATE(9,6,C5:N5) -> 0
B6: No Injury | C6: =IF(Jan!$S$1="No Data",NA(),COUNTIFS(Jan[Injury Type],$B6)) -> #N/A | D6: =IF(Feb!$S$1="No Data",NA(),COUNTIFS(Feb[Injury Type],$B6)) -> #N/A | E6: =IF(Mar!$S$1="No Data",NA(),COUNTIFS(Mar[Injury Type],$B6)) -> #N/A | F6: =IF(Apr!$S$1="No Data",NA(),COUNTIFS(Apr[Injury Type],$B6)) -> #N/A | G6: =IF(May!$S$1="No Data",NA(),COUNTIFS(May[Injury Type],$B6)) -> #N/A | H6: =IF(June!$S$1="No Data",NA(),COUNTIFS(June[Injury Type],$B6)) -> #N/A | I6: =IF(July!$S$1="No Data",NA(),COUNTIFS(July[Injury Type],$B6)) -> #N/A | J6: =IF(Aug!$S$1="No Data",NA(),COUNTIFS(Aug[Injury Type],$B6)) -> #N/A | K6: =IF(Sept!$S$1="No Data",NA(),COUNTIFS(Sept[Injury Type],$B6)) -> #N/A | L6: =IF(Oct!$S$1="No Data",NA(),COUNTIFS(Oct[Injury Type],$B6)) -> #N/A | M6: =IF(Nov!$S$1="No Data",NA(),COUNTIFS(Nov[Injury Type],$B6)) -> #N/A | N6: =IF(Dec!$S$1="No Data",NA(),COUNTIFS(Dec[Injury Type],$B6)) -> #N/A | O6: =_xlfn.AGGREGATE(9,6,C6:N6) -> 0
B7: All Falls | C7: =IFERROR(SUM(C4:C6),NA()) -> #N/A | D7: =IFERROR(SUM(D4:D6),NA()) -> #N/A | E7: =IFERROR(SUM(E4:E6),NA()) -> #N/A | F7: =IFERROR(SUM(F4:F6),NA()) -> #N/A | G7: =IFERROR(SUM(G4:G6),NA()) -> #N/A | H7: =IFERROR(SUM(H4:H6),NA()) -> #N/A | I7: =IFERROR(SUM(I4:I6),NA()) -> #N/A | J7: =IFERROR(SUM(J4:J6),NA()) -> #N/A | ... N7: =IFERROR(SUM(N4:N6),NA()) -> #N/A | O7: =SUM(O4:O6) -> 0
B8: Goal | C8: 10 | D8: 10 | E8: 10 | F8: 10 | G8: 10 | H8: 10 | I8: 10 | J8: 10 | K8: 10 | L8: 10 | M8: 10 | N8: 10 | O8: =SUM(C8:N8) -> 120
B32: ="Fall Rate by Month "&IF(Jan!$C$1=0,"",Jan!$C$1) -> Fall Rate by Month
C33: January | D33: February | E33: March | F33: April | G33: May | H33: June | I33: July | J33: August | K33: September | L33: October | M33: November | N33: December | O33: Avg
B34: Facility Rate | C34: =IF('Fall Rate and Census'!$B$36="No Data",NA(),'Fall Rate and Census'!$B$36) -> #N/A | D34: =IF('Fall Rate and Census'!$E$33="No Data",NA(),'Fall Rate and Census'!$E$33) -> #N/A | E34: =IF('Fall Rate and Census'!$H$36="No Data",NA(),'Fall Rate and Census'!$H$36) -> #N/A | F34: =IF('Fall Rate and Census'!$K$35="No Data",NA(),'Fall Rate and Census'!$K$35) -> #N/A | G34: =IF('Fall Rate and Census'!$N$36="No Data",NA(),'Fall Rate and Census'!$N$36) -> #N/A | H34: =IF('Fall Rate and Census'!$Q$35="No Data",NA(),'Fall Rate and Census'!$Q$35) -> #N/A | I34: =IF('Fall Rate and Census'!$T$36="No Data",NA(),'Fall Rate and Census'!$T$36) -> #N/A | J34: =IF('Fall Rate and Census'!$W$36="No Data",NA(),'Fall Rate and Census'!$W$36) -> #N/A | K34: =IF('Fall Rate and Census'!$Z$35="No Data",NA(),'Fall Rate and Census'!$Z$35) -> #N/A | L34: =IF('Fall Rate and Census'!$AC$36="No Data",NA(),'Fall Rate and Census'!$AC$36) -> #N/A | M34: =IF('Fall Rate and Census'!$AF$35="No Data",NA(),'Fall Rate and Census'!$AF$35) -> #N/A | N34: =IF('Fall Rate and Census'!$AI$36="No Data",NA(),'Fall Rate and Census'!$AI$36) -> #N/A | O34: =IFERROR(_xlfn.AGGREGATE(1,6,C34:N34),"")
B35: Goal | C35: 2.1 | D35: 2.1 | E35: 2.1 | F35: 2.1 | G35: 2.1 | H35: 2.1 | I35: 2.1 | J35: 2.1 | K35: 2.1 | L35: 2.1 | M35: 2.1 | N35: 2.1 | O35: =AVERAGE(C35:N35) -> 2.1

Sheet BIMS RCA
B2: ="BIMS Scores of Residents with Falls "&IF(Jan!$C$1=0,"",Jan!$C$1) -> BIMS Scores of Residents with Falls
B3: BIMS Score | D3: January | E3: February | F3: March | G3: April | H3: May | I3: June | J3: July | K3: August | L3: September | M3: October | N3: November | O3: December | P3: TOTAL
B4: Severe (1–7) | D4: =COUNTIFS(Jan[Cognitive Impairment],$B4) -> 0 | E4: =COUNTIFS(Feb[Cognitive Impairment],$B4) -> 0 | F4: =COUNTIFS(Mar[Cognitive Impairment],$B4) -> 0 | G4: =COUNTIFS(Apr[Cognitive Impairment],$B4) -> 0 | H4: =COUNTIFS(May[Cognitive Impairment],$B4) -> 0 | I4: =COUNTIFS(June[Cognitive Impairment],$B4) -> 0 | J4: =COUNTIFS(July[Cognitive Impairment],$B4) -> 0 | K4: =COUNTIFS(Aug[Cognitive Impairment],$B4) -> 0 | L4: =COUNTIFS(Sept[Cognitive Impairment],$B4) -> 0 | M4: =COUNTIFS(Oct[Cognitive Impairment],$B4) -> 0 | N4: =COUNTIFS(Nov[Cognitive Impairment],$B4) -> 0 | O4: =COUNTIFS(Dec[Cognitive Impairment],$B4) -> 0 | P4: =IF($B4="","",_xlfn.AGGREGATE(9,6,D4:O4)) -> 0
B5: Moderate (8–12) | D5: =COUNTIFS(Jan[Cognitive Impairment],$B5) -> 0 | E5: =COUNTIFS(Feb[Cognitive Impairment],$B5) -> 0 | F5: =COUNTIFS(Mar[Cognitive Impairment],$B5) -> 0 | G5: =COUNTIFS(Apr[Cognitive Impairment],$B5) -> 0 | H5: =COUNTIFS(May[Cognitive Impairment],$B5) -> 0 | I5: =COUNTIFS(June[Cognitive Impairment],$B5) -> 0 | J5: =COUNTIFS(July[Cognitive Impairment],$B5) -> 0 | K5: =COUNTIFS(Aug[Cognitive Impairment],$B5) -> 0 | L5: =COUNTIFS(Sept[Cognitive Impairment],$B5) -> 0 | M5: =COUNTIFS(Oct[Cognitive Impairment],$B5) -> 0 | N5: =COUNTIFS(Nov[Cognitive Impairment],$B5) -> 0 | O5: =COUNTIFS(Dec[Cognitive Impairment],$B5) -> 0 | P5: =IF($B5="","",_xlfn.AGGREGATE(9,6,D5:O5)) -> 0
B6: Intact (13–15) | D6: =COUNTIFS(Jan[Cognitive Impairment],$B6) -> 0 | E6: =COUNTIFS(Feb[Cognitive Impairment],$B6) -> 0 | F6: =COUNTIFS(Mar[Cognitive Impairment],$B6) -> 0 | G6: =COUNTIFS(Apr[Cognitive Impairment],$B6) -> 0 | H6: =COUNTIFS(May[Cognitive Impairment],$B6) -> 0 | I6: =COUNTIFS(June[Cognitive Impairment],$B6) -> 0 | J6: =COUNTIFS(July[Cognitive Impairment],$B6) -> 0 | K6: =COUNTIFS(Aug[Cognitive Impairment],$B6) -> 0 | L6: =COUNTIFS(Sept[Cognitive Impairment],$B6) -> 0 | M6: =COUNTIFS(Oct[Cognitive Impairment],$B6) -> 0 | N6: =COUNTIFS(Nov[Cognitive Impairment],$B6) -> 0 | O6: =COUNTIFS(Dec[Cognitive Impairment],$B6) -> 0 | P6: =IF($B6="","",_xlfn.AGGREGATE(9,6,D6:O6)) -> 0
B7: Total | D7: =SUM(D4:D6) -> 0 | E7: =SUM(E4:E6) -> 0 | F7: =SUM(F4:F6) -> 0 | G7: =SUM(G4:G6) -> 0 | H7: =SUM(H4:H6) -> 0 | I7: =SUM(I4:I6) -> 0 | J7: =SUM(J4:J6) -> 0 | K7: =SUM(K4:K6) -> 0 | ... P7: =SUM(P4:P6) -> 0
B9: BIMS Scores of Resident Falls
B10: Score | D10: Total
B11: Severe | D11: =$P$4 -> 0
B12: Moderate | D12: =$P$5 -> 0
B13: Intact | D13: =$P$6 -> 0
B14: Total | D14: =SUM(D11:D13) -> 0
B16: ="Fall Circumstances "&IF(Jan!$C$1=0,"",Jan!$C$1) -> Fall Circumstances
B17: Fall Circumstances | D17: January | E17: February | F17: March | G17: April | H17: May | I17: June | J17: July | K17: August | L17: September | M17: October | N17: November | O17: December | P17: TOTAL
B18: Overwhelming Force | D18: =COUNTIFS(Jan[Fall Circumstances],$B18) -> 0 | E18: =COUNTIFS(Feb[Fall Circumstances],$B18) -> 0 | F18: =COUNTIFS(Mar[Fall Circumstances],$B18) -> 0 | G18: =COUNTIFS(Apr[Fall Circumstances],$B18) -> 0 | H18: =COUNTIFS(May[Fall Circumstances],$B18) -> 0 | I18: =COUNTIFS(June[Fall Circumstances],$B18) -> 0 | J18: =COUNTIFS(July[Fall Circumstances],$B18) -> 0 | K18: =COUNTIFS(Aug[Fall Circumstances],$B18) -> 0 | L18: =COUNTIFS(Sept[Fall Circumstances],$B18) -> 0 | M18: =COUNTIFS(Oct[Fall Circumstances],$B18) -> 0 | N18: =COUNTIFS(Nov[Fall Circumstances],$B18) -> 0 | O18: =COUNTIFS(Dec[Fall Circumstances],$B18) -> 0 | P18: =IF($B18="","",_xlfn.AGGREGATE(9,6,D18:O18)) -> 0
B19: Intercepted | D19: =COUNTIFS(Jan[Fall Circumstances],$B19) -> 0 | E19: =COUNTIFS(Feb[Fall Circumstances],$B19) -> 0 | F19: =COUNTIFS(Mar[Fall Circumstances],$B19) -> 0 | G19: =COUNTIFS(Apr[Fall Circumstances],$B19) -> 0 | H19: =COUNTIFS(May[Fall Circumstances],$B19) -> 0 | I19: =COUNTIFS(June[Fall Circumstances],$B19) -> 0 | J19: =COUNTIFS(July[Fall Circumstances],$B19) -> 0 | K19: =COUNTIFS(Aug[Fall Circumstances],$B19) -> 0 | L19: =COUNTIFS(Sept[Fall Circumstances],$B19) -> 0 | M19: =COUNTIFS(Oct[Fall Circumstances],$B19) -> 0 | N19: =COUNTIFS(Nov[Fall Circumstances],$B19) -> 0 | O19: =COUNTIFS(Dec[Fall Circumstances],$B19) -> 0 | P19: =IF($B19="","",_xlfn.AGGREGATE(9,6,D19:O19)) -> 0
B20: N/A | D20: =COUNTIFS(Jan[Fall Circumstances],$B20) -> 0 | E20: =COUNTIFS(Feb[Fall Circumstances],$B20) -> 0 | F20: =COUNTIFS(Mar[Fall Circumstances],$B20) -> 0 | G20: =COUNTIFS(Apr[Fall Circumstances],$B20) -> 0 | H20: =COUNTIFS(May[Fall Circumstances],$B20) -> 0 | I20: =COUNTIFS(June[Fall Circumstances],$B20) -> 0 | J20: =COUNTIFS(July[Fall Circumstances],$B20) -> 0 | K20: =COUNTIFS(Aug[Fall Circumstances],$B20) -> 0 | L20: =COUNTIFS(Sept[Fall Circumstances],$B20) -> 0 | M20: =COUNTIFS(Oct[Fall Circumstances],$B20) -> 0 | N20: =COUNTIFS(Nov[Fall Circumstances],$B20) -> 0 | O20: =COUNTIFS(Dec[Fall Circumstances],$B20) -> 0 | P20: =IF($B20="","",_xlfn.AGGREGATE(9,6,D20:O20)) -> 0
B21: Total | D21: =SUM(D18:D20) -> 0 | E21: =SUM(E18:E20) -> 0 | F21: =SUM(F18:F20) -> 0 | G21: =SUM(G18:G20) -> 0 | H21: =SUM(H18:H20) -> 0 | I21: =SUM(I18:I20) -> 0 | J21: =SUM(J18:J20) -> 0 | K21: =SUM(K18:K20) -> 0 | ... P21: =SUM(P18:P20) -> 0
B23: Fall Circumstances
B24: Fall Circumstances | D24: Total
B25: Overwhelming Force | D25: =$P$18 -> 0
B26: Intercepted | D26: =$P$19 -> 0
B27: N/A | D27: =$P$20 -> 0
B28: TOTAL | D28: =SUM(D25:D27) -> 0
B30: ="Witnessed Falls "&IF(Jan!$C$1=0,"",Jan!$C$1) -> Witnessed Falls
B31: Witnessed | D31: January | E31: February | F31: March | G31: April | H31: May | I31: June | J31: July | K31: August | L31: September | M31: October | N31: November | O31: December | P31: TOTAL
B32: Yes | D32: =COUNTIFS(Jan[Witnessed Fall?],$B32) -> 0 | E32: =COUNTIFS(Feb[Witnessed Fall?],$B32) -> 0 | F32: =COUNTIFS(Mar[Witnessed Fall?],$B32) -> 0 | G32: =COUNTIFS(Apr[Witnessed Fall?],$B32) -> 0 | H32: =COUNTIFS(May[Witnessed Fall?],$B32) -> 0 | I32: =COUNTIFS(June[Witnessed Fall?],$B32) -> 0 | J32: =COUNTIFS(July[Witnessed Fall?],$B32) -> 0 | K32: =COUNTIFS(Aug[Witnessed Fall?],$B32) -> 0 | L32: =COUNTIFS(Sept[Witnessed Fall?],$B32) -> 0 | M32: =COUNTIFS(Oct[Witnessed Fall?],$B32) -> 0 | N32: =COUNTIFS(Nov[Witnessed Fall?],$B32) -> 0 | O32: =COUNTIFS(Dec[Witnessed Fall?],$B32) -> 0 | P32: =IF($B32="","",_xlfn.AGGREGATE(9,6,D32:O32)) -> 0
B33: No | D33: =COUNTIFS(Jan[Witnessed Fall?],$B33) -> 0 | E33: =COUNTIFS(Feb[Witnessed Fall?],$B33) -> 0 | F33: =COUNTIFS(Mar[Witnessed Fall?],$B33) -> 0 | G33: =COUNTIFS(Apr[Witnessed Fall?],$B33) -> 0 | H33: =COUNTIFS(May[Witnessed Fall?],$B33) -> 0 | I33: =COUNTIFS(June[Witnessed Fall?],$B33) -> 0 | J33: =COUNTIFS(July[Witnessed Fall?],$B33) -> 0 | K33: =COUNTIFS(Aug[Witnessed Fall?],$B33) -> 0 | L33: =COUNTIFS(Sept[Witnessed Fall?],$B33) -> 0 | M33: =COUNTIFS(Oct[Witnessed Fall?],$B33) -> 0 | N33: =COUNTIFS(Nov[Witnessed Fall?],$B33) -> 0 | O33: =COUNTIFS(Dec[Witnessed Fall?],$B33) -> 0 | P33: =IF($B33="","",_xlfn.AGGREGATE(9,6,D33:O33)) -> 0
B34: TOTAL | D34: =SUM(D32:D33) -> 0 | E34: =SUM(E32:E33) -> 0 | F34: =SUM(F32:F33) -> 0 | G34: =SUM(G32:G33) -> 0 | H34: =SUM(H32:H33) -> 0 | I34: =SUM(I32:I33) -> 0 | J34: =SUM(J32:J33) -> 0 | K34: =SUM(K32:K33) -> 0 | ... P34: =SUM(P32:P33) -> 0
B36: Witnessed Falls
B37: Result | C37: Total
B38: Yes | C38: =$P$32 -> 0
B39: No | C39: =$P$33 -> 0
B40: TOTAL | C40: =SUM(C38:C39) -> 0
B43: ="Falls by Activity "&IF(Jan!$C$1=0,"",Jan!$C$1) -> Falls by Activity
B44: Activity | G44: January | H44: February | I44: March | J44: April | K44: May | L44: June | M44: July | N44: August | O44: September | P44: October | Q44: November | R44: December | S44: TOTAL
B45: {=IF(_xlfn._xlws.SORT(PriortoFall[What was the resident doing prior to fall?],1,1,TRUE)=0,"",(_xlfn._xlws.SORT(PriortoFall[What was the resident doing prior to fall?],1,1,TRUE)))} -> Ambulating with assistive device (walker, cane, wheelchair) | G45: =IF($B45="","",COUNTIFS(Jan[What was resident doing prior to fall?],$B45)) -> 0 | H45: =IF($B45="","",COUNTIFS(Feb[What was resident doing prior to fall?],$B45)) -> 0 | I45: =IF($B45="","",COUNTIFS(Mar[What was resident doing prior to fall?],$B45)) -> 0 | J45: =IF($B45="","",COUNTIFS(Apr[What was resident doing prior to fall?],$B45)) -> 0 | K45: =IF($B45="","",COUNTIFS(May[What was resident doing prior to fall?],$B45)) -> 0 | L45: =IF($B45="","",COUNTIFS(June[What was resident doing prior to fall?],$B45)) -> 0 | M45: =IF($B45="","",COUNTIFS(July[What was resident doing prior to fall?],$B45)) -> 0 | N45: =IF($B45="","",COUNTIFS(Aug[What was resident doing prior to fall?],$B45)) -> 0 | O45: =IF($B45="","",COUNTIFS(Sept[What was resident doing prior to fall?],$B45)) -> 0 | P45: =IF($B45="","",COUNTIFS(Oct[What was resident doing prior to fall?],$B45)) -> 0 | Q45: =IF($B45="","",COUNTIFS(Nov[What was resident doing prior to fall?],$B45)) -> 0 | R45: =IF($B45="","",COUNTIFS(Dec[What was resident doing prior to fall?],$B45)) -> 0 | S45: =IF($B45="","",_xlfn.AGGREGATE(9,6,G45:R45)) -> 0
B46: Ambulating with staff assistance | G46: =IF($B46="","",COUNTIFS(Jan[What was resident doing prior to fall?],$B46)) -> 0 | H46: =IF($B46="","",COUNTIFS(Feb[What was resident doing prior to fall?],$B46)) -> 0 | I46: =IF($B46="","",COUNTIFS(Mar[What was resident doing prior to fall?],$B46)) -> 0 | J46: =IF($B46="","",COUNTIFS(Apr[What was resident doing prior to fall?],$B46)) -> 0 | K46: =IF($B46="","",COUNTIFS(May[What was resident doing prior to fall?],$B46)) -> 0 | L46: =IF($B46="","",COUNTIFS(June[What was resident doing prior to fall?],$B46)) -> 0 | M46: =IF($B46="","",COUNTIFS(July[What was resident doing prior to fall?],$B46)) -> 0 | N46: =IF($B46="","",COUNTIFS(Aug[What was resident doing prior to fall?],$B46)) -> 0 | O46: =IF($B46="","",COUNTIFS(Sept[What was resident doing prior to fall?],$B46)) -> 0 | P46: =IF($B46="","",COUNTIFS(Oct[What was resident doing prior to fall?],$B46)) -> 0 | Q46: =IF($B46="","",COUNTIFS(Nov[What was resident doing prior to fall?],$B46)) -> 0 | R46: =IF($B46="","",COUNTIFS(Dec[What was resident doing prior to fall?],$B46)) -> 0 | S46: =IF($B46="","",_xlfn.AGGREGATE(9,6,G46:R46)) -> 0
B47: Ambulating without assistance or assistive device | G47: =IF($B47="","",COUNTIFS(Jan[What was resident doing prior to fall?],$B47)) -> 0 | H47: =IF($B47="","",COUNTIFS(Feb[What was resident doing prior to fall?],$B47)) -> 0 | I47: =IF($B47="","",COUNTIFS(Mar[What was resident doing prior to fall?],$B47)) -> 0 | J47: =IF($B47="","",COUNTIFS(Apr[What was resident doing prior to fall?],$B47)) -> 0 | K47: =IF($B47="","",COUNTIFS(May[What was resident doing prior to fall?],$B47)) -> 0 | L47: =IF($B47="","",COUNTIFS(June[What was resident doing prior to fall?],$B47)) -> 0 | M47: =IF($B47="","",COUNTIFS(July[What was resident doing prior to fall?],$B47)) -> 0 | N47: =IF($B47="","",COUNTIFS(Aug[What was resident doing prior to fall?],$B47)) -> 0 | O47: =IF($B47="","",COUNTIFS(Sept[What was resident doing prior to fall?],$B47)) -> 0 | P47: =IF($B47="","",COUNTIFS(Oct[What was resident doing prior to fall?],$B47)) -> 0 | Q47: =IF($B47="","",COUNTIFS(Nov[What was resident doing prior to fall?],$B47)) -> 0 | R47: =IF($B47="","",COUNTIFS(Dec[What was resident doing prior to fall?],$B47)) -> 0 | S47: =IF($B47="","",_xlfn.AGGREGATE(9,6,G47:R47)) -> 0
B48: Changing position (e.g., in bed, chair) | G48: =IF($B48="","",COUNTIFS(Jan[What was resident doing prior to fall?],$B48)) -> 0 | H48: =IF($B48="","",COUNTIFS(Feb[What was resident doing prior to fall?],$B48)) -> 0 | I48: =IF($B48="","",COUNTIFS(Mar[What was resident doing prior to fall?],$B48)) -> 0 | J48: =IF($B48="","",COUNTIFS(Apr[What was resident doing prior to fall?],$B48)) -> 0 | K48: =IF($B48="","",COUNTIFS(May[What was resident doing prior to fall?],$B48)) -> 0 | L48: =IF($B48="","",COUNTIFS(June[What was resident doing prior to fall?],$B48)) -> 0 | M48: =IF($B48="","",COUNTIFS(July[What was resident doing prior to fall?],$B48)) -> 0 | N48: =IF($B48="","",COUNTIFS(Aug[What was resident doing prior to fall?],$B48)) -> 0 | O48: =IF($B48="","",COUNTIFS(Sept[What was resident doing prior to fall?],$B48)) -> 0 | P48: =IF($B48="","",COUNTIFS(Oct[What was resident doing prior to fall?],$B48)) -> 0 | Q48: =IF($B48="","",COUNTIFS(Nov[What was resident doing prior to fall?],$B48)) -> 0 | R48: =IF($B48="","",COUNTIFS(Dec[What was resident doing prior to fall?],$B48)) -> 0 | S48: =IF($B48="","",_xlfn.AGGREGATE(9,6,G48:R48)) -> 0
B49: Dressing or undressing | G49: =IF($B49="","",COUNTIFS(Jan[What was resident doing prior to fall?],$B49)) -> 0 | H49: =IF($B49="","",COUNTIFS(Feb[What was resident doing prior to fall?],$B49)) -> 0 | I49: =IF($B49="","",COUNTIFS(Mar[What was resident doing prior to fall?],$B49)) -> 0 | J49: =IF($B49="","",COUNTIFS(Apr[What was resident doing prior to fall?],$B49)) -> 0 | K49: =IF($B49="","",COUNTIFS(May[What was resident doing prior to fall?],$B49)) -> 0 | L49: =IF($B49="","",COUNTIFS(June[What was resident doing prior to fall?],$B49)) -> 0 | M49: =IF($B49="","",COUNTIFS(July[What was resident doing prior to fall?],$B49)) -> 0 | N49: =IF($B49="","",COUNTIFS(Aug[What was resident doing prior to fall?],$B49)) -> 0 | O49: =IF($B49="","",COUNTIFS(Sept[What was resident doing prior to fall?],$B49)) -> 0 | P49: =IF($B49="","",COUNTIFS(Oct[What was resident doing prior to fall?],$B49)) -> 0 | Q49: =IF($B49="","",COUNTIFS(Nov[What was resident doing prior to fall?],$B49)) -> 0 | R49: =IF($B49="","",COUNTIFS(Dec[What was resident doing prior to fall?],$B49)) -> 0 | S49: =IF($B49="","",_xlfn.AGGREGATE(9,6,G49:R49)) -> 0
B50: Other activity | G50: =IF($B50="","",COUNTIFS(Jan[What was resident doing prior to fall?],$B50)) -> 0 | H50: =IF($B50="","",COUNTIFS(Feb[What was resident doing prior to fall?],$B50)) -> 0 | I50: =IF($B50="","",COUNTIFS(Mar[What was resident doing prior to fall?],$B50)) -> 0 | J50: =IF($B50="","",COUNTIFS(Apr[What was resident doing prior to fall?],$B50)) -> 0 | K50: =IF($B50="","",COUNTIFS(May[What was resident doing prior to fall?],$B50)) -> 0 | L50: =IF($B50="","",COUNTIFS(June[What was resident doing prior to fall?],$B50)) -> 0 | M50: =IF($B50="","",COUNTIFS(July[What was resident doing prior to fall?],$B50)) -> 0 | N50: =IF($B50="","",COUNTIFS(Aug[What was resident doing prior to fall?],$B50)) -> 0 | O50: =IF($B50="","",COUNTIFS(Sept[What was resident doing prior to fall?],$B50)) -> 0 | P50: =IF($B50="","",COUNTIFS(Oct[What was resident doing prior to fall?],$B50)) -> 0 | Q50: =IF($B50="","",COUNTIFS(Nov[What was resident doing prior to fall?],$B50)) -> 0 | R50: =IF($B50="","",COUNTIFS(Dec[What was resident doing prior to fall?],$B50)) -> 0 | S50: =IF($B50="","",_xlfn.AGGREGATE(9,6,G50:R50)) -> 0
B51: Reaching for an item | G51: =IF($B51="","",COUNTIFS(Jan[What was resident doing prior to fall?],$B51)) -> 0 | H51: =IF($B51="","",COUNTIFS(Feb[What was resident doing prior to fall?],$B51)) -> 0 | I51: =IF($B51="","",COUNTIFS(Mar[What was resident doing prior to fall?],$B51)) -> 0 | J51: =IF($B51="","",COUNTIFS(Apr[What was resident doing prior to fall?],$B51)) -> 0 | K51: =IF($B51="","",COUNTIFS(May[What was resident doing prior to fall?],$B51)) -> 0 | L51: =IF($B51="","",COUNTIFS(June[What was resident doing prior to fall?],$B51)) -> 0 | M51: =IF($B51="","",COUNTIFS(July[What was resident doing prior to fall?],$B51)) -> 0 | N51: =IF($B51="","",COUNTIFS(Aug[What was resident doing prior to fall?],$B51)) -> 0 | O51: =IF($B51="","",COUNTIFS(Sept[What was resident doing prior to fall?],$B51)) -> 0 | P51: =IF($B51="","",COUNTIFS(Oct[What was resident doing prior to fall?],$B51)) -> 0 | Q51: =IF($B51="","",COUNTIFS(Nov[What was resident doing prior to fall?],$B51)) -> 0 | R51: =IF($B51="","",COUNTIFS(Dec[What was resident doing prior to fall?],$B51)) -> 0 | S51: =IF($B51="","",_xlfn.AGGREGATE(9,6,G51:R51)) -> 0
B52: Showering or bathing | G52: =IF($B52="","",COUNTIFS(Jan[What was resident doing prior to fall?],$B52)) -> 0 | H52: =IF($B52="","",COUNTIFS(Feb[What was resident doing prior to fall?],$B52)) -> 0 | I52: =IF($B52="","",COUNTIFS(Mar[What was resident doing prior to fall?],$B52)) -> 0 | J52: =IF($B52="","",COUNTIFS(Apr[What was resident doing prior to fall?],$B52)) -> 0 | K52: =IF($B52="","",COUNTIFS(May[What was resident doing prior to fall?],$B52)) -> 0 | L52: =IF($B52="","",COUNTIFS(June[What was resident doing prior to fall?],$B52)) -> 0 | M52: =IF($B52="","",COUNTIFS(July[What was resident doing prior to fall?],$B52)) -> 0 | N52: =IF($B52="","",COUNTIFS(Aug[What was resident doing prior to fall?],$B52)) -> 0 | O52: =IF($B52="","",COUNTIFS(Sept[What was resident doing prior to fall?],$B52)) -> 0 | P52: =IF($B52="","",COUNTIFS(Oct[What was resident doing prior to fall?],$B52)) -> 0 | Q52: =IF($B52="","",COUNTIFS(Nov[What was resident doing prior to fall?],$B52)) -> 0 | R52: =IF($B52="","",COUNTIFS(Dec[What was resident doing prior to fall?],$B52)) -> 0 | S52: =IF($B52="","",_xlfn.AGGREGATE(9,6,G52:R52)) -> 0
B53: Toileting | G53: =IF($B53="","",COUNTIFS(Jan[What was resident doing prior to fall?],$B53)) -> 0 | H53: =IF($B53="","",COUNTIFS(Feb[What was resident doing prior to fall?],$B53)) -> 0 | I53: =IF($B53="","",COUNTIFS(Mar[What was resident doing prior to fall?],$B53)) -> 0 | J53: =IF($B53="","",COUNTIFS(Apr[What was resident doing prior to fall?],$B53)) -> 0 | K53: =IF($B53="","",COUNTIFS(May[What was resident doing prior to fall?],$B53)) -> 0 | L53: =IF($B53="","",COUNTIFS(June[What was resident doing prior to fall?],$B53)) -> 0 | M53: =IF($B53="","",COUNTIFS(July[What was resident doing prior to fall?],$B53)) -> 0 | N53: =IF($B53="","",COUNTIFS(Aug[What was resident doing prior to fall?],$B53)) -> 0 | O53: =IF($B53="","",COUNTIFS(Sept[What was resident doing prior to fall?],$B53)) -> 0 | P53: =IF($B53="","",COUNTIFS(Oct[What was resident doing prior to fall?],$B53)) -> 0 | Q53: =IF($B53="","",COUNTIFS(Nov[What was resident doing prior to fall?],$B53)) -> 0 | R53: =IF($B53="","",COUNTIFS(Dec[What was resident doing prior to fall?],$B53)) -> 0 | S53: =IF($B53="","",_xlfn.AGGREGATE(9,6,G53:R53)) -> 0
B54: Transferring to or from bed, chair, wheelchair, etc. | G54: =IF($B54="","",COUNTIFS(Jan[What was resident doing prior to fall?],$B54)) -> 0 | H54: =IF($B54="","",COUNTIFS(Feb[What was resident doing prior to fall?],$B54)) -> 0 | I54: =IF($B54="","",COUNTIFS(Mar[What was resident doing prior to fall?],$B54)) -> 0 | J54: =IF($B54="","",COUNTIFS(Apr[What was resident doing prior to fall?],$B54)) -> 0 | K54: =IF($B54="","",COUNTIFS(May[What was resident doing prior to fall?],$B54)) -> 0 | L54: =IF($B54="","",COUNTIFS(June[What was resident doing prior to fall?],$B54)) -> 0 | M54: =IF($B54="","",COUNTIFS(July[What was resident doing prior to fall?],$B54)) -> 0 | N54: =IF($B54="","",COUNTIFS(Aug[What was resident doing prior to fall?],$B54)) -> 0 | O54: =IF($B54="","",COUNTIFS(Sept[What was resident doing prior to fall?],$B54)) -> 0 | P54: =IF($B54="","",COUNTIFS(Oct[What was resident doing prior to fall?],$B54)) -> 0 | Q54: =IF($B54="","",COUNTIFS(Nov[What was resident doing prior to fall?],$B54)) -> 0 | R54: =IF($B54="","",COUNTIFS(Dec[What was resident doing prior to fall?],$B54)) -> 0 | S54: =IF($B54="","",_xlfn.AGGREGATE(9,6,G54:R54)) -> 0
B55: Unknown | G55: =IF($B55="","",COUNTIFS(Jan[What was resident doing prior to fall?],$B55)) -> 0 | H55: =IF($B55="","",COUNTIFS(Feb[What was resident doing prior to fall?],$B55)) -> 0 | I55: =IF($B55="","",COUNTIFS(Mar[What was resident doing prior to fall?],$B55)) -> 0 | J55: =IF($B55="","",COUNTIFS(Apr[What was resident doing prior to fall?],$B55)) -> 0 | K55: =IF($B55="","",COUNTIFS(May[What was resident doing prior to fall?],$B55)) -> 0 | L55: =IF($B55="","",COUNTIFS(June[What was resident doing prior to fall?],$B55)) -> 0 | M55: =IF($B55="","",COUNTIFS(July[What was resident doing prior to fall?],$B55)) -> 0 | N55: =IF($B55="","",COUNTIFS(Aug[What was resident doing prior to fall?],$B55)) -> 0 | O55: =IF($B55="","",COUNTIFS(Sept[What was resident doing prior to fall?],$B55)) -> 0 | P55: =IF($B55="","",COUNTIFS(Oct[What was resident doing prior to fall?],$B55)) -> 0 | Q55: =IF($B55="","",COUNTIFS(Nov[What was resident doing prior to fall?],$B55)) -> 0 | R55: =IF($B55="","",COUNTIFS(Dec[What was resident doing prior to fall?],$B55)) -> 0 | S55: =IF($B55="","",_xlfn.AGGREGATE(9,6,G55:R55)) -> 0
G56: =IF($B56="","",COUNTIFS(Jan[What was resident doing prior to fall?],$B56)) | H56: =IF($B56="","",COUNTIFS(Feb[What was resident doing prior to fall?],$B56)) | I56: =IF($B56="","",COUNTIFS(Mar[What was resident doing prior to fall?],$B56)) | J56: =IF($B56="","",COUNTIFS(Apr[What was resident doing prior to fall?],$B56)) | K56: =IF($B56="","",COUNTIFS(May[What was resident doing prior to fall?],$B56)) | L56: =IF($B56="","",COUNTIFS(June[What was resident doing prior to fall?],$B56)) | M56: =IF($B56="","",COUNTIFS(July[What was resident doing prior to fall?],$B56)) | N56: =IF($B56="","",COUNTIFS(Aug[What was resident doing prior to fall?],$B56)) | O56: =IF($B56="","",COUNTIFS(Sept[What was resident doing prior to fall?],$B56)) | P56: =IF($B56="","",COUNTIFS(Oct[What was resident doing prior to fall?],$B56)) | Q56: =IF($B56="","",COUNTIFS(Nov[What was resident doing prior to fall?],$B56)) | R56: =IF($B56="","",COUNTIFS(Dec[What was resident doing prior to fall?],$B56)) | S56: =IF($B56="","",_xlfn.AGGREGATE(9,6,G56:R56))
G57: =IF($B57="","",COUNTIFS(Jan[What was resident doing prior to fall?],$B57)) | H57: =IF($B57="","",COUNTIFS(Feb[What was resident doing prior to fall?],$B57)) | I57: =IF($B57="","",COUNTIFS(Mar[What was resident doing prior to fall?],$B57)) | J57: =IF($B57="","",COUNTIFS(Apr[What was resident doing prior to fall?],$B57)) | K57: =IF($B57="","",COUNTIFS(May[What was resident doing prior to fall?],$B57)) | L57: =IF($B57="","",COUNTIFS(June[What was resident doing prior to fall?],$B57)) | M57: =IF($B57="","",COUNTIFS(July[What was resident doing prior to fall?],$B57)) | N57: =IF($B57="","",COUNTIFS(Aug[What was resident doing prior to fall?],$B57)) | O57: =IF($B57="","",COUNTIFS(Sept[What was resident doing prior to fall?],$B57)) | P57: =IF($B57="","",COUNTIFS(Oct[What was resident doing prior to fall?],$B57)) | Q57: =IF($B57="","",COUNTIFS(Nov[What was resident doing prior to fall?],$B57)) | R57: =IF($B57="","",COUNTIFS(Dec[What was resident doing prior to fall?],$B57)) | S57: =IF($B57="","",_xlfn.AGGREGATE(9,6,G57:R57))
G58: =IF($B58="","",COUNTIFS(Jan[What was resident doing prior to fall?],$B58)) | H58: =IF($B58="","",COUNTIFS(Feb[What was resident doing prior to fall?],$B58)) | I58: =IF($B58="","",COUNTIFS(Mar[What was resident doing prior to fall?],$B58)) | J58: =IF($B58="","",COUNTIFS(Apr[What was resident doing prior to fall?],$B58)) | K58: =IF($B58="","",COUNTIFS(May[What was resident doing prior to fall?],$B58)) | L58: =IF($B58="","",COUNTIFS(June[What was resident doing prior to fall?],$B58)) | M58: =IF($B58="","",COUNTIFS(July[What was resident doing prior to fall?],$B58)) | N58: =IF($B58="","",COUNTIFS(Aug[What was resident doing prior to fall?],$B58)) | O58: =IF($B58="","",COUNTIFS(Sept[What was resident doing prior to fall?],$B58)) | P58: =IF($B58="","",COUNTIFS(Oct[What was resident doing prior to fall?],$B58)) | Q58: =IF($B58="","",COUNTIFS(Nov[What was resident doing prior to fall?],$B58)) | R58: =IF($B58="","",COUNTIFS(Dec[What was resident doing prior to fall?],$B58)) | S58: =IF($B58="","",_xlfn.AGGREGATE(9,6,G58:R58))
G59: =IF($B59="","",COUNTIFS(Jan[What was resident doing prior to fall?],$B59)) | H59: =IF($B59="","",COUNTIFS(Feb[What was resident doing prior to fall?],$B59)) | I59: =IF($B59="","",COUNTIFS(Mar[What was resident doing prior to fall?],$B59)) | J59: =IF($B59="","",COUNTIFS(Apr[What was resident doing prior to fall?],$B59)) | K59: =IF($B59="","",COUNTIFS(May[What was resident doing prior to fall?],$B59)) | L59: =IF($B59="","",COUNTIFS(June[What was resident doing prior to fall?],$B59)) | M59: =IF($B59="","",COUNTIFS(July[What was resident doing prior to fall?],$B59)) | N59: =IF($B59="","",COUNTIFS(Aug[What was resident doing prior to fall?],$B59)) | O59: =IF($B59="","",COUNTIFS(Sept[What was resident doing prior to fall?],$B59)) | P59: =IF($B59="","",COUNTIFS(Oct[What was resident doing prior to fall?],$B59)) | Q59: =IF($B59="","",COUNTIFS(Nov[What was resident doing prior to fall?],$B59)) | R59: =IF($B59="","",COUNTIFS(Dec[What was resident doing prior to fall?],$B59)) | S59: =IF($B59="","",_xlfn.AGGREGATE(9,6,G59:R59))
G60: =IF($B60="","",COUNTIFS(Jan[What was resident doing prior to fall?],$B60)) | H60: =IF($B60="","",COUNTIFS(Feb[What was resident doing prior to fall?],$B60)) | I60: =IF($B60="","",COUNTIFS(Mar[What was resident doing prior to fall?],$B60)) | J60: =IF($B60="","",COUNTIFS(Apr[What was resident doing prior to fall?],$B60)) | K60: =IF($B60="","",COUNTIFS(May[What was resident doing prior to fall?],$B60)) | L60: =IF($B60="","",COUNTIFS(June[What was resident doing prior to fall?],$B60)) | M60: =IF($B60="","",COUNTIFS(July[What was resident doing prior to fall?],$B60)) | N60: =IF($B60="","",COUNTIFS(Aug[What was resident doing prior to fall?],$B60)) | O60: =IF($B60="","",COUNTIFS(Sept[What was resident doing prior to fall?],$B60)) | P60: =IF($B60="","",COUNTIFS(Oct[What was resident doing prior to fall?],$B60)) | Q60: =IF($B60="","",COUNTIFS(Nov[What was resident doing prior to fall?],$B60)) | R60: =IF($B60="","",COUNTIFS(Dec[What was resident doing prior to fall?],$B60)) | S60: =IF($B60="","",_xlfn.AGGREGATE(9,6,G60:R60))
G61: =IF($B61="","",COUNTIFS(Jan[What was resident doing prior to fall?],$B61)) | H61: =IF($B61="","",COUNTIFS(Feb[What was resident doing prior to fall?],$B61)) | I61: =IF($B61="","",COUNTIFS(Mar[What was resident doing prior to fall?],$B61)) | J61: =IF($B61="","",COUNTIFS(Apr[What was resident doing prior to fall?],$B61)) | K61: =IF($B61="","",COUNTIFS(May[What was resident doing prior to fall?],$B61)) | L61: =IF($B61="","",COUNTIFS(June[What was resident doing prior to fall?],$B61)) | M61: =IF($B61="","",COUNTIFS(July[What was resident doing prior to fall?],$B61)) | N61: =IF($B61="","",COUNTIFS(Aug[What was resident doing prior to fall?],$B61)) | O61: =IF($B61="","",COUNTIFS(Sept[What was resident doing prior to fall?],$B61)) | P61: =IF($B61="","",COUNTIFS(Oct[What was resident doing prior to fall?],$B61)) | Q61: =IF($B61="","",COUNTIFS(Nov[What was resident doing prior to fall?],$B61)) | R61: =IF($B61="","",COUNTIFS(Dec[What was resident doing prior to fall?],$B61)) | S61: =IF($B61="","",_xlfn.AGGREGATE(9,6,G61:R61))
G62: =IF($B62="","",COUNTIFS(Jan[What was resident doing prior to fall?],$B62)) | H62: =IF($B62="","",COUNTIFS(Feb[What was resident doing prior to fall?],$B62)) | I62: =IF($B62="","",COUNTIFS(Mar[What was resident doing prior to fall?],$B62)) | J62: =IF($B62="","",COUNTIFS(Apr[What was resident doing prior to fall?],$B62)) | K62: =IF($B62="","",COUNTIFS(May[What was resident doing prior to fall?],$B62)) | L62: =IF($B62="","",COUNTIFS(June[What was resident doing prior to fall?],$B62)) | M62: =IF($B62="","",COUNTIFS(July[What was resident doing prior to fall?],$B62)) | N62: =IF($B62="","",COUNTIFS(Aug[What was resident doing prior to fall?],$B62)) | O62: =IF($B62="","",COUNTIFS(Sept[What was resident doing prior to fall?],$B62)) | P62: =IF($B62="","",COUNTIFS(Oct[What was resident doing prior to fall?],$B62)) | Q62: =IF($B62="","",COUNTIFS(Nov[What was resident doing prior to fall?],$B62)) | R62: =IF($B62="","",COUNTIFS(Dec[What was resident doing prior to fall?],$B62)) | S62: =IF($B62="","",_xlfn.AGGREGATE(9,6,G62:R62))
G63: =IF($B63="","",COUNTIFS(Jan[What was resident doing prior to fall?],$B63)) | H63: =IF($B63="","",COUNTIFS(Feb[What was resident doing prior to fall?],$B63)) | I63: =IF($B63="","",COUNTIFS(Mar[What was resident doing prior to fall?],$B63)) | J63: =IF($B63="","",COUNTIFS(Apr[What was resident doing prior to fall?],$B63)) | K63: =IF($B63="","",COUNTIFS(May[What was resident doing prior to fall?],$B63)) | L63: =IF($B63="","",COUNTIFS(June[What was resident doing prior to fall?],$B63)) | M63: =IF($B63="","",COUNTIFS(July[What was resident doing prior to fall?],$B63)) | N63: =IF($B63="","",COUNTIFS(Aug[What was resident doing prior to fall?],$B63)) | O63: =IF($B63="","",COUNTIFS(Sept[What was resident doing prior to fall?],$B63)) | P63: =IF($B63="","",COUNTIFS(Oct[What was resident doing prior to fall?],$B63)) | Q63: =IF($B63="","",COUNTIFS(Nov[What was resident doing prior to fall?],$B63)) | R63: =IF($B63="","",COUNTIFS(Dec[What was resident doing prior to fall?],$B63)) | S63: =IF($B63="","",_xlfn.AGGREGATE(9,6,G63:R63))
G64: =IF($B64="","",COUNTIFS(Jan[What was resident doing prior to fall?],$B64)) | H64: =IF($B64="","",COUNTIFS(Feb[What was resident doing prior to fall?],$B64)) | I64: =IF($B64="","",COUNTIFS(Mar[What was resident doing prior to fall?],$B64)) | J64: =IF($B64="","",COUNTIFS(Apr[What was resident doing prior to fall?],$B64)) | K64: =IF($B64="","",COUNTIFS(May[What was resident doing prior to fall?],$B64)) | L64: =IF($B64="","",COUNTIFS(June[What was resident doing prior to fall?],$B64)) | M64: =IF($B64="","",COUNTIFS(July[What was resident doing prior to fall?],$B64)) | N64: =IF($B64="","",COUNTIFS(Aug[What was resident doing prior to fall?],$B64)) | O64: =IF($B64="","",COUNTIFS(Sept[What was resident doing prior to fall?],$B64)) | P64: =IF($B64="","",COUNTIFS(Oct[What was resident doing prior to fall?],$B64)) | Q64: =IF($B64="","",COUNTIFS(Nov[What was resident doing prior to fall?],$B64)) | R64: =IF($B64="","",COUNTIFS(Dec[What was resident doing prior to fall?],$B64)) | S64: =IF($B64="","",_xlfn.AGGREGATE(9,6,G64:R64))
G65: =IF($B65="","",COUNTIFS(Jan[What was resident doing prior to fall?],$B65)) | H65: =IF($B65="","",COUNTIFS(Feb[What was resident doing prior to fall?],$B65)) | I65: =IF($B65="","",COUNTIFS(Mar[What was resident doing prior to fall?],$B65)) | J65: =IF($B65="","",COUNTIFS(Apr[What was resident doing prior to fall?],$B65)) | K65: =IF($B65="","",COUNTIFS(May[What was resident doing prior to fall?],$B65)) | L65: =IF($B65="","",COUNTIFS(June[What was resident doing prior to fall?],$B65)) | M65: =IF($B65="","",COUNTIFS(July[What was resident doing prior to fall?],$B65)) | N65: =IF($B65="","",COUNTIFS(Aug[What was resident doing prior to fall?],$B65)) | O65: =IF($B65="","",COUNTIFS(Sept[What was resident doing prior to fall?],$B65)) | P65: =IF($B65="","",COUNTIFS(Oct[What was resident doing prior to fall?],$B65)) | Q65: =IF($B65="","",COUNTIFS(Nov[What was resident doing prior to fall?],$B65)) | R65: =IF($B65="","",COUNTIFS(Dec[What was resident doing prior to fall?],$B65)) | S65: =IF($B65="","",_xlfn.AGGREGATE(9,6,G65:R65))
G66: =IF($B66="","",COUNTIFS(Jan[What was resident doing prior to fall?],$B66)) | H66: =IF($B66="","",COUNTIFS(Feb[What was resident doing prior to fall?],$B66)) | I66: =IF($B66="","",COUNTIFS(Mar[What was resident doing prior to fall?],$B66)) | J66: =IF($B66="","",COUNTIFS(Apr[What was resident doing prior to fall?],$B66)) | K66: =IF($B66="","",COUNTIFS(May[What was resident doing prior to fall?],$B66)) | L66: =IF($B66="","",COUNTIFS(June[What was resident doing prior to fall?],$B66)) | M66: =IF($B66="","",COUNTIFS(July[What was resident doing prior to fall?],$B66)) | N66: =IF($B66="","",COUNTIFS(Aug[What was resident doing prior to fall?],$B66)) | O66: =IF($B66="","",COUNTIFS(Sept[What was resident doing prior to fall?],$B66)) | P66: =IF($B66="","",COUNTIFS(Oct[What was resident doing prior to fall?],$B66)) | Q66: =IF($B66="","",COUNTIFS(Nov[What was resident doing prior to fall?],$B66)) | R66: =IF($B66="","",COUNTIFS(Dec[What was resident doing prior to fall?],$B66)) | S66: =IF($B66="","",_xlfn.AGGREGATE(9,6,G66:R66))
G67: =IF($B67="","",COUNTIFS(Jan[What was resident doing prior to fall?],$B67)) | H67: =IF($B67="","",COUNTIFS(Feb[What was resident doing prior to fall?],$B67)) | I67: =IF($B67="","",COUNTIFS(Mar[What was resident doing prior to fall?],$B67)) | J67: =IF($B67="","",COUNTIFS(Apr[What was resident doing prior to fall?],$B67)) | K67: =IF($B67="","",COUNTIFS(May[What was resident doing prior to fall?],$B67)) | L67: =IF($B67="","",COUNTIFS(June[What was resident doing prior to fall?],$B67)) | M67: =IF($B67="","",COUNTIFS(July[What was resident doing prior to fall?],$B67)) | N67: =IF($B67="","",COUNTIFS(Aug[What was resident doing prior to fall?],$B67)) | O67: =IF($B67="","",COUNTIFS(Sept[What was resident doing prior to fall?],$B67)) | P67: =IF($B67="","",COUNTIFS(Oct[What was resident doing prior to fall?],$B67)) | Q67: =IF($B67="","",COUNTIFS(Nov[What was resident doing prior to fall?],$B67)) | R67: =IF($B67="","",COUNTIFS(Dec[What was resident doing prior to fall?],$B67)) | S67: =IF($B67="","",_xlfn.AGGREGATE(9,6,G67:R67))
G68: =IF($B68="","",COUNTIFS(Jan[What was resident doing prior to fall?],$B68)) | H68: =IF($B68="","",COUNTIFS(Feb[What was resident doing prior to fall?],$B68)) | I68: =IF($B68="","",COUNTIFS(Mar[What was resident doing prior to fall?],$B68)) | J68: =IF($B68="","",COUNTIFS(Apr[What was resident doing prior to fall?],$B68)) | K68: =IF($B68="","",COUNTIFS(May[What was resident doing prior to fall?],$B68)) | L68: =IF($B68="","",COUNTIFS(June[What was resident doing prior to fall?],$B68)) | M68: =IF($B68="","",COUNTIFS(July[What was resident doing prior to fall?],$B68)) | N68: =IF($B68="","",COUNTIFS(Aug[What was resident doing prior to fall?],$B68)) | O68: =IF($B68="","",COUNTIFS(Sept[What was resident doing prior to fall?],$B68)) | P68: =IF($B68="","",COUNTIFS(Oct[What was resident doing prior to fall?],$B68)) | Q68: =IF($B68="","",COUNTIFS(Nov[What was resident doing prior to fall?],$B68)) | R68: =IF($B68="","",COUNTIFS(Dec[What was resident doing prior to fall?],$B68)) | S68: =IF($B68="","",_xlfn.AGGREGATE(9,6,G68:R68))
B69: Total | G69: =SUM(G45:G68) -> 0 | H69: =SUM(H45:H68) -> 0 | I69: =SUM(I45:I68) -> 0 | J69: =SUM(J45:J68) -> 0 | K69: =SUM(K45:K68) -> 0 | L69: =SUM(L45:L68) -> 0 | M69: =SUM(M45:M68) -> 0 | N69: =SUM(N45:N68) -> 0 | ... S69: =SUM(S45:S68) -> 0
B71: ="Falls by Activity " -> Falls by Activity
B72: Activity | G72: Total
B73: {=IF(_xlfn._xlws.SORT(PriortoFall[What was the resident doing prior to fall?],1,1,TRUE)=0,"",(_xlfn._xlws.SORT(PriortoFall[What was the resident doing prior to fall?],1,1,TRUE)))} -> Ambulating with assistive device (walker, cane, wheelchair) | G73: =IF($B73="",NA(),$S45) -> 0
B74: Ambulating with staff assistance | G74: =IF($B74="",NA(),$S46) -> 0
B75: Ambulating without assistance or assistive device | G75: =IF($B75="",NA(),$S47) -> 0
B76: Changing position (e.g., in bed, chair) | G76: =IF($B76="",NA(),$S48) -> 0
B77: Dressing or undressing | G77: =IF($B77="",NA(),$S49) -> 0
B78: Other activity | G78: =IF($B78="",NA(),$S50) -> 0
B79: Reaching for an item | G79: =IF($B79="",NA(),$S51) -> 0
B80: Showering or bathing | G80: =IF($B80="",NA(),$S52) -> 0
B81: Toileting | G81: =IF($B81="",NA(),$S53) -> 0
B82: Transferring to or from bed, chair, wheelchair, etc. | G82: =IF($B82="",NA(),$S54) -> 0
B83: Unknown | G83: =IF($B83="",NA(),$S55) -> 0
G84: =IF($B84="",NA(),$S56) -> #N/A
G85: =IF($B85="",NA(),$S57) -> #N/A
G86: =IF($B86="",NA(),$S58) -> #N/A
G87: =IF($B87="",NA(),$S59) -> #N/A
G88: =IF($B88="",NA(),$S60) -> #N/A
G89: =IF($B89="",NA(),$S61) -> #N/A
G90: =IF($B90="",NA(),$S62) -> #N/A
G91: =IF($B91="",NA(),$S63) -> #N/A
G92: =IF($B92="",NA(),$S64) -> #N/A
G93: =IF($B93="",NA(),$S65) -> #N/A
G94: =IF($B94="",NA(),$S66) -> #N/A
G95: =IF($B95="",NA(),$S67) -> #N/A
G96: =IF($B96="",NA(),$S68) -> #N/A
B97: Total | G97: =_xlfn.AGGREGATE(9,6,G73:G96) -> 0
B99: ="Falls by Contributing Factors "&IF(Jan!$C$1=0,"",Jan!$C$1) -> Falls by Contributing Factors
B100: Contributing Factors | G100: January | H100: February | I100: March | J100: April | K100: May | L100: June | M100: July | N100: August | O100: September | P100: October | Q100: November | R100: December | S100: TOTAL
B101: {=IF(_xlfn._xlws.SORT(CF[Contributing Factors],1,1,TRUE)=0,"",(_xlfn._xlws.SORT(CF[Contributing Factors],1,1,TRUE)))} -> Assisted/caregiver transfer | G101: =IF($B101="","",COUNTIFS(Jan[Contributing Factors],$B101)) -> 0 | H101: =IF($B101="","",COUNTIFS(Feb[Contributing Factors],$B101)) -> 0 | I101: =IF($B101="","",COUNTIFS(Mar[Contributing Factors],$B101)) -> 0 | J101: =IF($B101="","",COUNTIFS(Apr[Contributing Factors],$B101)) -> 0 | K101: =IF($B101="","",COUNTIFS(May[Contributing Factors],$B101)) -> 0 | L101: =IF($B101="","",COUNTIFS(June[Contributing Factors],$B101)) -> 0 | M101: =IF($B101="","",COUNTIFS(July[Contributing Factors],$B101)) -> 0 | N101: =IF($B101="","",COUNTIFS(Aug[Contributing Factors],$B101)) -> 0 | O101: =IF($B101="","",COUNTIFS(Sept[Contributing Factors],$B101)) -> 0 | P101: =IF($B101="","",COUNTIFS(Oct[Contributing Factors],$B101)) -> 0 | Q101: =IF($B101="","",COUNTIFS(Nov[Contributing Factors],$B101)) -> 0 | R101: =IF($B101="","",COUNTIFS(Dec[Contributing Factors],$B101)) -> 0 | S101: =IF($B101="","",_xlfn.AGGREGATE(9,6,G101:R101)) -> 0
B102: Bowel and bladder (B&B) needs | G102: =IF($B102="","",COUNTIFS(Jan[Contributing Factors],$B102)) -> 0 | H102: =IF($B102="","",COUNTIFS(Feb[Contributing Factors],$B102)) -> 0 | I102: =IF($B102="","",COUNTIFS(Mar[Contributing Factors],$B102)) -> 0 | J102: =IF($B102="","",COUNTIFS(Apr[Contributing Factors],$B102)) -> 0 | K102: =IF($B102="","",COUNTIFS(May[Contributing Factors],$B102)) -> 0 | L102: =IF($B102="","",COUNTIFS(June[Contributing Factors],$B102)) -> 0 | M102: =IF($B102="","",COUNTIFS(July[Contributing Factors],$B102)) -> 0 | N102: =IF($B102="","",COUNTIFS(Aug[Contributing Factors],$B102)) -> 0 | O102: =IF($B102="","",COUNTIFS(Sept[Contributing Factors],$B102)) -> 0 | P102: =IF($B102="","",COUNTIFS(Oct[Contributing Factors],$B102)) -> 0 | Q102: =IF($B102="","",COUNTIFS(Nov[Contributing Factors],$B102)) -> 0 | R102: =IF($B102="","",COUNTIFS(Dec[Contributing Factors],$B102)) -> 0 | S102: =IF($B102="","",_xlfn.AGGREGATE(9,6,G102:R102)) -> 0
B103: Behavioral or situational | G103: =IF($B103="","",COUNTIFS(Jan[Contributing Factors],$B103)) -> 0 | H103: =IF($B103="","",COUNTIFS(Feb[Contributing Factors],$B103)) -> 0 | I103: =IF($B103="","",COUNTIFS(Mar[Contributing Factors],$B103)) -> 0 | J103: =IF($B103="","",COUNTIFS(Apr[Contributing Factors],$B103)) -> 0 | K103: =IF($B103="","",COUNTIFS(May[Contributing Factors],$B103)) -> 0 | L103: =IF($B103="","",COUNTIFS(June[Contributing Factors],$B103)) -> 0 | M103: =IF($B103="","",COUNTIFS(July[Contributing Factors],$B103)) -> 0 | N103: =IF($B103="","",COUNTIFS(Aug[Contributing Factors],$B103)) -> 0 | O103: =IF($B103="","",COUNTIFS(Sept[Contributing Factors],$B103)) -> 0 | P103: =IF($B103="","",COUNTIFS(Oct[Contributing Factors],$B103)) -> 0 | Q103: =IF($B103="","",COUNTIFS(Nov[Contributing Factors],$B103)) -> 0 | R103: =IF($B103="","",COUNTIFS(Dec[Contributing Factors],$B103)) -> 0 | S103: =IF($B103="","",_xlfn.AGGREGATE(9,6,G103:R103)) -> 0
B104: Change of condition | G104: =IF($B104="","",COUNTIFS(Jan[Contributing Factors],$B104)) -> 0 | H104: =IF($B104="","",COUNTIFS(Feb[Contributing Factors],$B104)) -> 0 | I104: =IF($B104="","",COUNTIFS(Mar[Contributing Factors],$B104)) -> 0 | J104: =IF($B104="","",COUNTIFS(Apr[Contributing Factors],$B104)) -> 0 | K104: =IF($B104="","",COUNTIFS(May[Contributing Factors],$B104)) -> 0 | L104: =IF($B104="","",COUNTIFS(June[Contributing Factors],$B104)) -> 0 | M104: =IF($B104="","",COUNTIFS(July[Contributing Factors],$B104)) -> 0 | N104: =IF($B104="","",COUNTIFS(Aug[Contributing Factors],$B104)) -> 0 | O104: =IF($B104="","",COUNTIFS(Sept[Contributing Factors],$B104)) -> 0 | P104: =IF($B104="","",COUNTIFS(Oct[Contributing Factors],$B104)) -> 0 | Q104: =IF($B104="","",COUNTIFS(Nov[Contributing Factors],$B104)) -> 0 | R104: =IF($B104="","",COUNTIFS(Dec[Contributing Factors],$B104)) -> 0 | S104: =IF($B104="","",_xlfn.AGGREGATE(9,6,G104:R104)) -> 0
B105: Environmental factors | G105: =IF($B105="","",COUNTIFS(Jan[Contributing Factors],$B105)) -> 0 | H105: =IF($B105="","",COUNTIFS(Feb[Contributing Factors],$B105)) -> 0 | I105: =IF($B105="","",COUNTIFS(Mar[Contributing Factors],$B105)) -> 0 | J105: =IF($B105="","",COUNTIFS(Apr[Contributing Factors],$B105)) -> 0 | K105: =IF($B105="","",COUNTIFS(May[Contributing Factors],$B105)) -> 0 | L105: =IF($B105="","",COUNTIFS(June[Contributing Factors],$B105)) -> 0 | M105: =IF($B105="","",COUNTIFS(July[Contributing Factors],$B105)) -> 0 | N105: =IF($B105="","",COUNTIFS(Aug[Contributing Factors],$B105)) -> 0 | O105: =IF($B105="","",COUNTIFS(Sept[Contributing Factors],$B105)) -> 0 | P105: =IF($B105="","",COUNTIFS(Oct[Contributing Factors],$B105)) -> 0 | Q105: =IF($B105="","",COUNTIFS(Nov[Contributing Factors],$B105)) -> 0 | R105: =IF($B105="","",COUNTIFS(Dec[Contributing Factors],$B105)) -> 0 | S105: =IF($B105="","",_xlfn.AGGREGATE(9,6,G105:R105)) -> 0
B106: Equipment malfunction | G106: =IF($B106="","",COUNTIFS(Jan[Contributing Factors],$B106)) -> 0 | H106: =IF($B106="","",COUNTIFS(Feb[Contributing Factors],$B106)) -> 0 | I106: =IF($B106="","",COUNTIFS(Mar[Contributing Factors],$B106)) -> 0 | J106: =IF($B106="","",COUNTIFS(Apr[Contributing Factors],$B106)) -> 0 | K106: =IF($B106="","",COUNTIFS(May[Contributing Factors],$B106)) -> 0 | L106: =IF($B106="","",COUNTIFS(June[Contributing Factors],$B106)) -> 0 | M106: =IF($B106="","",COUNTIFS(July[Contributing Factors],$B106)) -> 0 | N106: =IF($B106="","",COUNTIFS(Aug[Contributing Factors],$B106)) -> 0 | O106: =IF($B106="","",COUNTIFS(Sept[Contributing Factors],$B106)) -> 0 | P106: =IF($B106="","",COUNTIFS(Oct[Contributing Factors],$B106)) -> 0 | Q106: =IF($B106="","",COUNTIFS(Nov[Contributing Factors],$B106)) -> 0 | R106: =IF($B106="","",COUNTIFS(Dec[Contributing Factors],$B106)) -> 0 | S106: =IF($B106="","",_xlfn.AGGREGATE(9,6,G106:R106)) -> 0
B107: Equipment or assistive device | G107: =IF($B107="","",COUNTIFS(Jan[Contributing Factors],$B107)) -> 0 | H107: =IF($B107="","",COUNTIFS(Feb[Contributing Factors],$B107)) -> 0 | I107: =IF($B107="","",COUNTIFS(Mar[Contributing Factors],$B107)) -> 0 | J107: =IF($B107="","",COUNTIFS(Apr[Contributing Factors],$B107)) -> 0 | K107: =IF($B107="","",COUNTIFS(May[Contributing Factors],$B107)) -> 0 | L107: =IF($B107="","",COUNTIFS(June[Contributing Factors],$B107)) -> 0 | M107: =IF($B107="","",COUNTIFS(July[Contributing Factors],$B107)) -> 0 | N107: =IF($B107="","",COUNTIFS(Aug[Contributing Factors],$B107)) -> 0 | O107: =IF($B107="","",COUNTIFS(Sept[Contributing Factors],$B107)) -> 0 | P107: =IF($B107="","",COUNTIFS(Oct[Contributing Factors],$B107)) -> 0 | Q107: =IF($B107="","",COUNTIFS(Nov[Contributing Factors],$B107)) -> 0 | R107: =IF($B107="","",COUNTIFS(Dec[Contributing Factors],$B107)) -> 0 | S107: =IF($B107="","",_xlfn.AGGREGATE(9,6,G107:R107)) -> 0
B108: Medication related | G108: =IF($B108="","",COUNTIFS(Jan[Contributing Factors],$B108)) -> 0 | H108: =IF($B108="","",COUNTIFS(Feb[Contributing Factors],$B108)) -> 0 | I108: =IF($B108="","",COUNTIFS(Mar[Contributing Factors],$B108)) -> 0 | J108: =IF($B108="","",COUNTIFS(Apr[Contributing Factors],$B108)) -> 0 | K108: =IF($B108="","",COUNTIFS(May[Contributing Factors],$B108)) -> 0 | L108: =IF($B108="","",COUNTIFS(June[Contributing Factors],$B108)) -> 0 | M108: =IF($B108="","",COUNTIFS(July[Contributing Factors],$B108)) -> 0 | N108: =IF($B108="","",COUNTIFS(Aug[Contributing Factors],$B108)) -> 0 | O108: =IF($B108="","",COUNTIFS(Sept[Contributing Factors],$B108)) -> 0 | P108: =IF($B108="","",COUNTIFS(Oct[Contributing Factors],$B108)) -> 0 | Q108: =IF($B108="","",COUNTIFS(Nov[Contributing Factors],$B108)) -> 0 | R108: =IF($B108="","",COUNTIFS(Dec[Contributing Factors],$B108)) -> 0 | S108: =IF($B108="","",_xlfn.AGGREGATE(9,6,G108:R108)) -> 0
B109: Process(s) not followed | G109: =IF($B109="","",COUNTIFS(Jan[Contributing Factors],$B109)) -> 0 | H109: =IF($B109="","",COUNTIFS(Feb[Contributing Factors],$B109)) -> 0 | I109: =IF($B109="","",COUNTIFS(Mar[Contributing Factors],$B109)) -> 0 | J109: =IF($B109="","",COUNTIFS(Apr[Contributing Factors],$B109)) -> 0 | K109: =IF($B109="","",COUNTIFS(May[Contributing Factors],$B109)) -> 0 | L109: =IF($B109="","",COUNTIFS(June[Contributing Factors],$B109)) -> 0 | M109: =IF($B109="","",COUNTIFS(July[Contributing Factors],$B109)) -> 0 | N109: =IF($B109="","",COUNTIFS(Aug[Contributing Factors],$B109)) -> 0 | O109: =IF($B109="","",COUNTIFS(Sept[Contributing Factors],$B109)) -> 0 | P109: =IF($B109="","",COUNTIFS(Oct[Contributing Factors],$B109)) -> 0 | Q109: =IF($B109="","",COUNTIFS(Nov[Contributing Factors],$B109)) -> 0 | R109: =IF($B109="","",COUNTIFS(Dec[Contributing Factors],$B109)) -> 0 | S109: =IF($B109="","",_xlfn.AGGREGATE(9,6,G109:R109)) -> 0
B110: Resident health conditions | G110: =IF($B110="","",COUNTIFS(Jan[Contributing Factors],$B110)) -> 0 | H110: =IF($B110="","",COUNTIFS(Feb[Contributing Factors],$B110)) -> 0 | I110: =IF($B110="","",COUNTIFS(Mar[Contributing Factors],$B110)) -> 0 | J110: =IF($B110="","",COUNTIFS(Apr[Contributing Factors],$B110)) -> 0 | K110: =IF($B110="","",COUNTIFS(May[Contributing Factors],$B110)) -> 0 | L110: =IF($B110="","",COUNTIFS(June[Contributing Factors],$B110)) -> 0 | M110: =IF($B110="","",COUNTIFS(July[Contributing Factors],$B110)) -> 0 | N110: =IF($B110="","",COUNTIFS(Aug[Contributing Factors],$B110)) -> 0 | O110: =IF($B110="","",COUNTIFS(Sept[Contributing Factors],$B110)) -> 0 | P110: =IF($B110="","",COUNTIFS(Oct[Contributing Factors],$B110)) -> 0 | Q110: =IF($B110="","",COUNTIFS(Nov[Contributing Factors],$B110)) -> 0 | R110: =IF($B110="","",COUNTIFS(Dec[Contributing Factors],$B110)) -> 0 | S110: =IF($B110="","",_xlfn.AGGREGATE(9,6,G110:R110)) -> 0
...

Sheet Loc Hr
B2: ="Number of Falls by Nurses Station "&IF(Jan!$C$1=0,"",Jan!$C$1) -> Number of Falls by Nurses Station
B3: Station | C3: January | D3: February | E3: March | F3: April | G3: May | H3: June | I3: July | J3: August | K3: September | L3: October | M3: November | N3: December | O3: TOTAL
B4: {=IF(_xlfn._xlws.SORT(NS[Nurses Stations],1,1,TRUE)=0,"",(_xlfn._xlws.SORT(NS[Nurses Stations],1,1,TRUE)))} -> 1 | C4: =IF($B4="",NA(),COUNTIFS(Jan[Station],$B4)) -> 0 | D4: =IF($B4="",NA(),COUNTIFS(Feb[Station],$B4)) -> 0 | E4: =IF($B4="",NA(),COUNTIFS(Mar[Station],$B4)) -> 0 | F4: =IF($B4="",NA(),COUNTIFS(Apr[Station],$B4)) -> 0 | G4: =IF($B4="",NA(),COUNTIFS(May[Station],$B4)) -> 0 | H4: =IF($B4="",NA(),COUNTIFS(June[Station],$B4)) -> 0 | I4: =IF($B4="",NA(),COUNTIFS(July[Station],$B4)) -> 0 | J4: =IF($B4="",NA(),COUNTIFS(Aug[Station],$B4)) -> 0 | K4: =IF($B4="",NA(),COUNTIFS(Sept[Station],$B4)) -> 0 | L4: =IF($B4="",NA(),COUNTIFS(Oct[Station],$B4)) -> 0 | M4: =IF($B4="",NA(),COUNTIFS(Nov[Station],$B4)) -> 0 | N4: =IF($B4="",NA(),COUNTIFS(Dec[Station],$B4)) -> 0 | O4: =IF($B4="","",_xlfn.AGGREGATE(9,6,C4:N4)) -> 0
B5: 2 | C5: =IF($B5="",NA(),COUNTIFS(Jan[Station],$B5)) -> 0 | D5: =IF($B5="",NA(),COUNTIFS(Feb[Station],$B5)) -> 0 | E5: =IF($B5="",NA(),COUNTIFS(Mar[Station],$B5)) -> 0 | F5: =IF($B5="",NA(),COUNTIFS(Apr[Station],$B5)) -> 0 | G5: =IF($B5="",NA(),COUNTIFS(May[Station],$B5)) -> 0 | H5: =IF($B5="",NA(),COUNTIFS(June[Station],$B5)) -> 0 | I5: =IF($B5="",NA(),COUNTIFS(July[Station],$B5)) -> 0 | J5: =IF($B5="",NA(),COUNTIFS(Aug[Station],$B5)) -> 0 | K5: =IF($B5="",NA(),COUNTIFS(Sept[Station],$B5)) -> 0 | L5: =IF($B5="",NA(),COUNTIFS(Oct[Station],$B5)) -> 0 | M5: =IF($B5="",NA(),COUNTIFS(Nov[Station],$B5)) -> 0 | N5: =IF($B5="",NA(),COUNTIFS(Dec[Station],$B5)) -> 0 | O5: =IF($B5="","",_xlfn.AGGREGATE(9,6,C5:N5)) -> 0
B6: 3 | C6: =IF($B6="",NA(),COUNTIFS(Jan[Station],$B6)) -> 0 | D6: =IF($B6="",NA(),COUNTIFS(Feb[Station],$B6)) -> 0 | E6: =IF($B6="",NA(),COUNTIFS(Mar[Station],$B6)) -> 0 | F6: =IF($B6="",NA(),COUNTIFS(Apr[Station],$B6)) -> 0 | G6: =IF($B6="",NA(),COUNTIFS(May[Station],$B6)) -> 0 | H6: =IF($B6="",NA(),COUNTIFS(June[Station],$B6)) -> 0 | I6: =IF($B6="",NA(),COUNTIFS(July[Station],$B6)) -> 0 | J6: =IF($B6="",NA(),COUNTIFS(Aug[Station],$B6)) -> 0 | K6: =IF($B6="",NA(),COUNTIFS(Sept[Station],$B6)) -> 0 | L6: =IF($B6="",NA(),COUNTIFS(Oct[Station],$B6)) -> 0 | M6: =IF($B6="",NA(),COUNTIFS(Nov[Station],$B6)) -> 0 | N6: =IF($B6="",NA(),COUNTIFS(Dec[Station],$B6)) -> 0 | O6: =IF($B6="","",_xlfn.AGGREGATE(9,6,C6:N6)) -> 0
B7: 4 | C7: =IF($B7="",NA(),COUNTIFS(Jan[Station],$B7)) -> 0 | D7: =IF($B7="",NA(),COUNTIFS(Feb[Station],$B7)) -> 0 | E7: =IF($B7="",NA(),COUNTIFS(Mar[Station],$B7)) -> 0 | F7: =IF($B7="",NA(),COUNTIFS(Apr[Station],$B7)) -> 0 | G7: =IF($B7="",NA(),COUNTIFS(May[Station],$B7)) -> 0 | H7: =IF($B7="",NA(),COUNTIFS(June[Station],$B7)) -> 0 | I7: =IF($B7="",NA(),COUNTIFS(July[Station],$B7)) -> 0 | J7: =IF($B7="",NA(),COUNTIFS(Aug[Station],$B7)) -> 0 | K7: =IF($B7="",NA(),COUNTIFS(Sept[Station],$B7)) -> 0 | L7: =IF($B7="",NA(),COUNTIFS(Oct[Station],$B7)) -> 0 | M7: =IF($B7="",NA(),COUNTIFS(Nov[Station],$B7)) -> 0 | N7: =IF($B7="",NA(),COUNTIFS(Dec[Station],$B7)) -> 0 | O7: =IF($B7="","",_xlfn.AGGREGATE(9,6,C7:N7)) -> 0
B8: 5 | C8: =IF($B8="",NA(),COUNTIFS(Jan[Station],$B8)) -> 0 | D8: =IF($B8="",NA(),COUNTIFS(Feb[Station],$B8)) -> 0 | E8: =IF($B8="",NA(),COUNTIFS(Mar[Station],$B8)) -> 0 | F8: =IF($B8="",NA(),COUNTIFS(Apr[Station],$B8)) -> 0 | G8: =IF($B8="",NA(),COUNTIFS(May[Station],$B8)) -> 0 | H8: =IF($B8="",NA(),COUNTIFS(June[Station],$B8)) -> 0 | I8: =IF($B8="",NA(),COUNTIFS(July[Station],$B8)) -> 0 | J8: =IF($B8="",NA(),COUNTIFS(Aug[Station],$B8)) -> 0 | K8: =IF($B8="",NA(),COUNTIFS(Sept[Station],$B8)) -> 0 | L8: =IF($B8="",NA(),COUNTIFS(Oct[Station],$B8)) -> 0 | M8: =IF($B8="",NA(),COUNTIFS(Nov[Station],$B8)) -> 0 | N8: =IF($B8="",NA(),COUNTIFS(Dec[Station],$B8)) -> 0 | O8: =IF($B8="","",_xlfn.AGGREGATE(9,6,C8:N8)) -> 0
C9: =IF($B9="",NA(),COUNTIFS(Jan[Station],$B9)) -> #N/A | D9: =IF($B9="",NA(),COUNTIFS(Feb[Station],$B9)) -> #N/A | E9: =IF($B9="",NA(),COUNTIFS(Mar[Station],$B9)) -> #N/A | F9: =IF($B9="",NA(),COUNTIFS(Apr[Station],$B9)) -> #N/A | G9: =IF($B9="",NA(),COUNTIFS(May[Station],$B9)) -> #N/A | H9: =IF($B9="",NA(),COUNTIFS(June[Station],$B9)) -> #N/A | I9: =IF($B9="",NA(),COUNTIFS(July[Station],$B9)) -> #N/A | J9: =IF($B9="",NA(),COUNTIFS(Aug[Station],$B9)) -> #N/A | K9: =IF($B9="",NA(),COUNTIFS(Sept[Station],$B9)) -> #N/A | L9: =IF($B9="",NA(),COUNTIFS(Oct[Station],$B9)) -> #N/A | M9: =IF($B9="",NA(),COUNTIFS(Nov[Station],$B9)) -> #N/A | N9: =IF($B9="",NA(),COUNTIFS(Dec[Station],$B9)) -> #N/A | O9: =IF($B9="","",_xlfn.AGGREGATE(9,6,C9:N9))
C10: =IF($B10="",NA(),COUNTIFS(Jan[Station],$B10)) -> #N/A | D10: =IF($B10="",NA(),COUNTIFS(Feb[Station],$B10)) -> #N/A | E10: =IF($B10="",NA(),COUNTIFS(Mar[Station],$B10)) -> #N/A | F10: =IF($B10="",NA(),COUNTIFS(Apr[Station],$B10)) -> #N/A | G10: =IF($B10="",NA(),COUNTIFS(May[Station],$B10)) -> #N/A | H10: =IF($B10="",NA(),COUNTIFS(June[Station],$B10)) -> #N/A | I10: =IF($B10="",NA(),COUNTIFS(July[Station],$B10)) -> #N/A | J10: =IF($B10="",NA(),COUNTIFS(Aug[Station],$B10)) -> #N/A | K10: =IF($B10="",NA(),COUNTIFS(Sept[Station],$B10)) -> #N/A | L10: =IF($B10="",NA(),COUNTIFS(Oct[Station],$B10)) -> #N/A | M10: =IF($B10="",NA(),COUNTIFS(Nov[Station],$B10)) -> #N/A | N10: =IF($B10="",NA(),COUNTIFS(Dec[Station],$B10)) -> #N/A | O10: =IF($B10="","",_xlfn.AGGREGATE(9,6,C10:N10))
C11: =IF($B11="",NA(),COUNTIFS(Jan[Station],$B11)) -> #N/A | D11: =IF($B11="",NA(),COUNTIFS(Feb[Station],$B11)) -> #N/A | E11: =IF($B11="",NA(),COUNTIFS(Mar[Station],$B11)) -> #N/A | F11: =IF($B11="",NA(),COUNTIFS(Apr[Station],$B11)) -> #N/A | G11: =IF($B11="",NA(),COUNTIFS(May[Station],$B11)) -> #N/A | H11: =IF($B11="",NA(),COUNTIFS(June[Station],$B11)) -> #N/A | I11: =IF($B11="",NA(),COUNTIFS(July[Station],$B11)) -> #N/A | J11: =IF($B11="",NA(),COUNTIFS(Aug[Station],$B11)) -> #N/A | K11: =IF($B11="",NA(),COUNTIFS(Sept[Station],$B11)) -> #N/A | L11: =IF($B11="",NA(),COUNTIFS(Oct[Station],$B11)) -> #N/A | M11: =IF($B11="",NA(),COUNTIFS(Nov[Station],$B11)) -> #N/A | N11: =IF($B11="",NA(),COUNTIFS(Dec[Station],$B11)) -> #N/A | O11: =IF($B11="","",_xlfn.AGGREGATE(9,6,C11:N11))
C12: =IF($B12="",NA(),COUNTIFS(Jan[Station],$B12)) -> #N/A | D12: =IF($B12="",NA(),COUNTIFS(Feb[Station],$B12)) -> #N/A | E12: =IF($B12="",NA(),COUNTIFS(Mar[Station],$B12)) -> #N/A | F12: =IF($B12="",NA(),COUNTIFS(Apr[Station],$B12)) -> #N/A | G12: =IF($B12="",NA(),COUNTIFS(May[Station],$B12)) -> #N/A | H12: =IF($B12="",NA(),COUNTIFS(June[Station],$B12)) -> #N/A | I12: =IF($B12="",NA(),COUNTIFS(July[Station],$B12)) -> #N/A | J12: =IF($B12="",NA(),COUNTIFS(Aug[Station],$B12)) -> #N/A | K12: =IF($B12="",NA(),COUNTIFS(Sept[Station],$B12)) -> #N/A | L12: =IF($B12="",NA(),COUNTIFS(Oct[Station],$B12)) -> #N/A | M12: =IF($B12="",NA(),COUNTIFS(Nov[Station],$B12)) -> #N/A | N12: =IF($B12="",NA(),COUNTIFS(Dec[Station],$B12)) -> #N/A | O12: =IF($B12="","",_xlfn.AGGREGATE(9,6,C12:N12))
C13: =IF($B13="",NA(),COUNTIFS(Jan[Station],$B13)) -> #N/A | D13: =IF($B13="",NA(),COUNTIFS(Feb[Station],$B13)) -> #N/A | E13: =IF($B13="",NA(),COUNTIFS(Mar[Station],$B13)) -> #N/A | F13: =IF($B13="",NA(),COUNTIFS(Apr[Station],$B13)) -> #N/A | G13: =IF($B13="",NA(),COUNTIFS(May[Station],$B13)) -> #N/A | H13: =IF($B13="",NA(),COUNTIFS(June[Station],$B13)) -> #N/A | I13: =IF($B13="",NA(),COUNTIFS(July[Station],$B13)) -> #N/A | J13: =IF($B13="",NA(),COUNTIFS(Aug[Station],$B13)) -> #N/A | K13: =IF($B13="",NA(),COUNTIFS(Sept[Station],$B13)) -> #N/A | L13: =IF($B13="",NA(),COUNTIFS(Oct[Station],$B13)) -> #N/A | M13: =IF($B13="",NA(),COUNTIFS(Nov[Station],$B13)) -> #N/A | N13: =IF($B13="",NA(),COUNTIFS(Dec[Station],$B13)) -> #N/A | O13: =IF($B13="","",_xlfn.AGGREGATE(9,6,C13:N13))
C14: =IF($B14="",NA(),COUNTIFS(Jan[Station],$B14)) -> #N/A | D14: =IF($B14="",NA(),COUNTIFS(Feb[Station],$B14)) -> #N/A | E14: =IF($B14="",NA(),COUNTIFS(Mar[Station],$B14)) -> #N/A | F14: =IF($B14="",NA(),COUNTIFS(Apr[Station],$B14)) -> #N/A | G14: =IF($B14="",NA(),COUNTIFS(May[Station],$B14)) -> #N/A | H14: =IF($B14="",NA(),COUNTIFS(June[Station],$B14)) -> #N/A | I14: =IF($B14="",NA(),COUNTIFS(July[Station],$B14)) -> #N/A | J14: =IF($B14="",NA(),COUNTIFS(Aug[Station],$B14)) -> #N/A | K14: =IF($B14="",NA(),COUNTIFS(Sept[Station],$B14)) -> #N/A | L14: =IF($B14="",NA(),COUNTIFS(Oct[Station],$B14)) -> #N/A | M14: =IF($B14="",NA(),COUNTIFS(Nov[Station],$B14)) -> #N/A | N14: =IF($B14="",NA(),COUNTIFS(Dec[Station],$B14)) -> #N/A | O14: =IF($B14="","",_xlfn.AGGREGATE(9,6,C14:N14))
B15: TOTAL | C15: =_xlfn.AGGREGATE(9,6,C4:C14) -> 0 | D15: =_xlfn.AGGREGATE(9,6,D4:D14) -> 0 | E15: =_xlfn.AGGREGATE(9,6,E4:E14) -> 0 | F15: =_xlfn.AGGREGATE(9,6,F4:F14) -> 0 | G15: =_xlfn.AGGREGATE(9,6,G4:G14) -> 0 | H15: =_xlfn.AGGREGATE(9,6,H4:H14) -> 0 | I15: =_xlfn.AGGREGATE(9,6,I4:I14) -> 0 | J15: =_xlfn.AGGREGATE(9,6,J4:J14) -> 0 | ... N15: =_xlfn.AGGREGATE(9,6,N4:N14) -> 0 | O15: =SUM(O4:O14) -> 0
B17: Falls by Station
B18: Station | C18: Total
B19: {=IF(_xlfn._xlws.SORT(NS[Nurses Stations],1,1,TRUE)=0,"",(_xlfn._xlws.SORT(NS[Nurses Stations],1,1,TRUE)))} -> 1 | C19: =IF($O4="",NA(),$O4) -> 0
B20: 2 | C20: =IF($O5="",NA(),$O5) -> 0
B21: 3 | C21: =IF($O6="",NA(),$O6) -> 0
B22: 4 | C22: =IF($O7="",NA(),$O7) -> 0
B23: 5 | C23: =IF($O8="",NA(),$O8) -> 0
C24: =IF($O9="",NA(),$O9) -> #N/A
C25: =IF($O10="",NA(),$O10) -> #N/A
C26: =IF($O11="",NA(),$O11) -> #N/A
C27: =IF($O12="",NA(),$O12) -> #N/A
C28: =IF($O13="",NA(),$O13) -> #N/A
C29: =IF($O14="",NA(),$O14) -> #N/A
B30: Total | C30: =_xlfn.AGGREGATE(9,6,C19:C29) -> 0
B33: ="Location of Falls by Month "&IF(Jan!$C$1=0,"",Jan!$C$1) -> Location of Falls by Month
B34: Location of Falls | C34: January | D34: February | E34: March | F34: April | G34: May | H34: June | I34: July | J34: August | K34: September | L34: October | M34: November | N34: December | O34: TOTAL
B35: {=IF(_xlfn._xlws.SORT(Location[Location],1,1,TRUE)=0,"",(_xlfn._xlws.SORT(Location[Location],1,1,TRUE)))} -> Activity Room | C35: =IF($B35="",NA(),COUNTIFS(Jan[Location],$B35)) -> 0 | D35: =IF($B35="",NA(),COUNTIFS(Feb[Location],$B35)) -> 0 | E35: =IF($B35="",NA(),COUNTIFS(Mar[Location],$B35)) -> 0 | F35: =IF($B35="",NA(),COUNTIFS(Apr[Location],$B35)) -> 0 | G35: =IF($B35="",NA(),COUNTIFS(May[Location],$B35)) -> 0 | H35: =IF($B35="",NA(),COUNTIFS(June[Location],$B35)) -> 0 | I35: =IF($B35="",NA(),COUNTIFS(July[Location],$B35)) -> 0 | J35: =IF($B35="",NA(),COUNTIFS(Aug[Location],$B35)) -> 0 | K35: =IF($B35="",NA(),COUNTIFS(Sept[Location],$B35)) -> 0 | L35: =IF($B35="",NA(),COUNTIFS(Oct[Location],$B35)) -> 0 | M35: =IF($B35="",NA(),COUNTIFS(Nov[Location],$B35)) -> 0 | N35: =IF($B35="",NA(),COUNTIFS(Dec[Location],$B35)) -> 0 | O35: =IF($B35="","",_xlfn.AGGREGATE(9,6,C35:N35)) -> 0
B36: Bedroom | C36: =IF($B36="",NA(),COUNTIFS(Jan[Location],$B36)) -> 0 | D36: =IF($B36="",NA(),COUNTIFS(Feb[Location],$B36)) -> 0 | E36: =IF($B36="",NA(),COUNTIFS(Mar[Location],$B36)) -> 0 | F36: =IF($B36="",NA(),COUNTIFS(Apr[Location],$B36)) -> 0 | G36: =IF($B36="",NA(),COUNTIFS(May[Location],$B36)) -> 0 | H36: =IF($B36="",NA(),COUNTIFS(June[Location],$B36)) -> 0 | I36: =IF($B36="",NA(),COUNTIFS(July[Location],$B36)) -> 0 | J36: =IF($B36="",NA(),COUNTIFS(Aug[Location],$B36)) -> 0 | K36: =IF($B36="",NA(),COUNTIFS(Sept[Location],$B36)) -> 0 | L36: =IF($B36="",NA(),COUNTIFS(Oct[Location],$B36)) -> 0 | M36: =IF($B36="",NA(),COUNTIFS(Nov[Location],$B36)) -> 0 | N36: =IF($B36="",NA(),COUNTIFS(Dec[Location],$B36)) -> 0 | O36: =IF($B36="","",_xlfn.AGGREGATE(9,6,C36:N36)) -> 0
B37: Bathroom | C37: =IF($B37="",NA(),COUNTIFS(Jan[Location],$B37)) -> 0 | D37: =IF($B37="",NA(),COUNTIFS(Feb[Location],$B37)) -> 0 | E37: =IF($B37="",NA(),COUNTIFS(Mar[Location],$B37)) -> 0 | F37: =IF($B37="",NA(),COUNTIFS(Apr[Location],$B37)) -> 0 | G37: =IF($B37="",NA(),COUNTIFS(May[Location],$B37)) -> 0 | H37: =IF($B37="",NA(),COUNTIFS(June[Location],$B37)) -> 0 | I37: =IF($B37="",NA(),COUNTIFS(July[Location],$B37)) -> 0 | J37: =IF($B37="",NA(),COUNTIFS(Aug[Location],$B37)) -> 0 | K37: =IF($B37="",NA(),COUNTIFS(Sept[Location],$B37)) -> 0 | L37: =IF($B37="",NA(),COUNTIFS(Oct[Location],$B37)) -> 0 | M37: =IF($B37="",NA(),COUNTIFS(Nov[Location],$B37)) -> 0 | N37: =IF($B37="",NA(),COUNTIFS(Dec[Location],$B37)) -> 0 | O37: =IF($B37="","",_xlfn.AGGREGATE(9,6,C37:N37)) -> 0
B38: Hallway | C38: =IF($B38="",NA(),COUNTIFS(Jan[Location],$B38)) -> 0 | D38: =IF($B38="",NA(),COUNTIFS(Feb[Location],$B38)) -> 0 | E38: =IF($B38="",NA(),COUNTIFS(Mar[Location],$B38)) -> 0 | F38: =IF($B38="",NA(),COUNTIFS(Apr[Location],$B38)) -> 0 | G38: =IF($B38="",NA(),COUNTIFS(May[Location],$B38)) -> 0 | H38: =IF($B38="",NA(),COUNTIFS(June[Location],$B38)) -> 0 | I38: =IF($B38="",NA(),COUNTIFS(July[Location],$B38)) -> 0 | J38: =IF($B38="",NA(),COUNTIFS(Aug[Location],$B38)) -> 0 | K38: =IF($B38="",NA(),COUNTIFS(Sept[Location],$B38)) -> 0 | L38: =IF($B38="",NA(),COUNTIFS(Oct[Location],$B38)) -> 0 | M38: =IF($B38="",NA(),COUNTIFS(Nov[Location],$B38)) -> 0 | N38: =IF($B38="",NA(),COUNTIFS(Dec[Location],$B38)) -> 0 | O38: =IF($B38="","",_xlfn.AGGREGATE(9,6,C38:N38)) -> 0
