Workbook
Name DV_BIMSScore: BIMS[BIMS Score]
Name DV_BIMSScore: BIMS[BIMS Score]
Name DV_BIMSScore: BIMS[BIMS Score]
Name DV_BIMSScore: BIMS[BIMS Score]
Name DV_BIMSScore: BIMS[BIMS Score]
Name DV_BIMSScore: #REF!
Name DV_BIMSScore: BIMS[BIMS Score]
Name DV_BIMSScore: BIMS[BIMS Score]
Name DV_BIMSScore: BIMS[BIMS Score]
Name DV_BIMSScore: BIMS[BIMS Score]
Name DV_BIMSScore: BIMS[BIMS Score]
Name DV_BIMSScore: BIMS[BIMS Score]
Name DV_BIMSScore: BIMS[BIMS Score]
Name DV_BIMSScore: BIMS[BIMS Score]
Name DV_BIMSScore: BIMS[BIMS Score]
Name DV_BIMSScore: BIMS[BIMS Score]
Name DV_BIMSScore: BIMS[BIMS Score]
Name DV_BIMSScore: BIMS[BIMS Score]
Name DV_FallCircumstances: FC[Fall Circumstances]
Name DV_FallCircumstances: FC[Fall Circumstances]
Name DV_FallCircumstances: FC[Fall Circumstances]
Name DV_FallCircumstances: #REF!
Name DV_FallCircumstances: FC[Fall Circumstances]
Name DV_FallCircumstances: FC[Fall Circumstances]
Name DV_FallCircumstances: FC[Fall Circumstances]
Name DV_FallCircumstances: FC[Fall Circumstances]
Name DV_FallCircumstances: FC[Fall Circumstances]
Name DV_FallCircumstances: FC[Fall Circumstances]
Name DV_FallCircumstances: FC[Fall Circumstances]
Name DV_FallCircumstances: FC[Fall Circumstances]
Name DV_FallCircumstances: FC[Fall Circumstances]
Name DV_FallType: FallType[Fall Type]
Name DV_FallType: FallType[Fall Type]
Name DV_FallType: FallType[Fall Type]
Name DV_FallType: FallType[Fall Type]
Name DV_FallType: FallType[Fall Type]
Name DV_FallType: #REF!
Name DV_FallType: FallType[Fall Type]
Name DV_FallType: FallType[Fall Type]
Name DV_FallType: FallType[Fall Type]
Name DV_FallType: FallType[Fall Type]
Name DV_FallType: FallType[Fall Type]
Name DV_FallType: FallType[Fall Type]
Name DV_FallType: FallType[Fall Type]
Name DV_FallType: FallType[Fall Type]
Name DV_FallType: FallType[Fall Type]
Name DV_FallType: FallType[Fall Type]
Name DV_FallType: FallType[Fall Type]
Name DV_FallType: FallType[Fall Type]
Name DV_Location: Location[Location]
Name DV_Location: Location[Location]
Name DV_Location: Location[Location]
Name DV_Location: Location[Location]
Name DV_Location: Location[Location]
Name DV_Location: #REF!
Name DV_Location: Location[Location]
Name DV_Location: Location[Location]
Name DV_Location: Location[Location]
Name DV_Location: Location[Location]
Name DV_Location: Location[Location]

Sheet Tracker Description
B2: =IF('Data Validation'!$C$2=0,"Enter facility name in Data Validation tab",'Data Validation'!$C$2) -> Enter facility name in Data Validation tab
B3: ="Falls Tracker "&'Data Validation'!$C$4 -> Falls Tracker
B6: The purpose of this tracker is to provide information to assist the Quality Assurance and Performance Improvement (QAPI) committee to develop appropriate interventions that are data driven for their residents who have fallen.
R29: *iQIES = Internet Quality Improvement & Evaluation System
R30: Privacy Disclaimer: This tool is intended for use within your facility only. Do not email resident-level personally identifiable information or protected health information (PII/PHI) to HSAG or other external entities. This material was prepared by Health Services Advisory Group (HSAG), a Quality Innovation Network-Quality Improvement Organization (QIN-QIO) under contract with the Centers for Medicare & Medicaid Services (CMS), an agency of the U.S. Department of Health and Human Services (HHS). Views expressed in this material do not necessarily reflect the official views or policy of CMS or HHS, and any reference to a specific product or entity herein does not constitute endorsement of that product or entity by CMS or HHS. Publication No. QN-13SOW-XC-09302026-01
G51: *RN = Registered Nurse; CNA = Certified Nursing Assistant

Sheet Data Validation
E1: Add to/Edit | G1: Add to/Edit | I1: Add to/Edit | K1: Add to/Edit | M1: Edit Shifts | R1: Brief Interview for Mental Status | U1: Witnessed | W1: Fall Type | Y1: RCA Completed | AA1: Fall Circumstances
B2: Facility Name | E2: Location | G2: Nurses Stations | I2: What was the resident doing prior to fall? | K2: Contributing Factors | M2: Hour | N2: Shift | P2: Shifts Summary | R2: BIMS Score | S2: Cognitive Impairment | U2: Witnessed | W2: Fall Type | Y2: RCA Completed | AA2: Fall Circumstances
E3: Activity Room | G3: 1 | I3: Ambulating with assistive device (walker, cane, wheelchair) | K3: Assisted/caregiver transfer | M3: 23:00–24:00 | N3: 11-7 | P3: {=_xlfn.UNIQUE(_xlfn._xlws.FILTER(Shifts[Shift],1,1))} -> 11-7 | R3: 1 | S3: Severe (1–7) | U3: Yes | W3: Major Injury | Y3: Yes | AA3: Overwhelming Force
B4: Year | E4: Bedroom | G4: 2 | I4: Ambulating with staff assistance | K4: Bowel and bladder (B&B) needs | M4: 24:00–01:00 | N4: 11–7 | P4: 11–7 | R4: 2 | S4: Severe (1–7) | U4: No | W4: Injury (Except Major) | Y4: No | AA4: Intercepted
E5: Bathroom | G5: 3 | I5: Ambulating without assistance or assistive device | K5: Behavioral or situational | M5: 01:00–02:00 | N5: 11–7 | P5: 7–3 | R5: 3 | S5: Severe (1–7) | W5: No Injury | AA5: N/A
E6: Hallway | G6: 4 | I6: Changing position (e.g., in bed, chair) | K6: Change of condition | M6: 02:00–03:00 | N6: 11–7 | P6: 3–11 | R6: 4 | S6: Severe (1–7)
E7: Offsite | G7: 5 | I7: Dressing or undressing | K7: Environmental factors | M7: 03:00–04:00 | N7: 11–7 | R7: 5 | S7: Severe (1–7)
E8: Shower Room | I8: Other activity | K8: Equipment malfunction | M8: 04:00–05:00 | N8: 11–7 | R8: 6 | S8: Severe (1–7)
E9: Dining Room | I9: Reaching for an item | K9: Equipment or assistive device | M9: 05:00–06:00 | N9: 11–7 | R9: 7 | S9: Severe (1–7)
I10: Showering or bathing | K10: Medication related | M10: 06:00–07:00 | N10: 7–3 | R10: 8 | S10: Moderate (8–12)
I11: Toileting | K11: Process(s) not followed | M11: 07:00–08:00 | N11: 7–3 | R11: 9 | S11: Moderate (8–12)
I12: Transferring to or from bed, chair, wheelchair, etc. | K12: Resident health conditions | M12: 08:00–09:00 | N12: 7–3 | R12: 10 | S12: Moderate (8–12)
I13: Unknown | K13: Staff | M13: 09:00–10:00 | N13: 7–3 | R13: 11 | S13: Moderate (8–12)
M14: 10:00–11:00 | N14: 7–3 | R14: 12 | S14: Moderate (8–12)
M15: 11:00–12:00 | N15: 7–3 | R15: 13 | S15: Intact (13–15)
M16: 12:00–13:00 | N16: 7–3 | R16: 14 | S16: Intact (13–15)
M17: 13:00–14:00 | N17: 7–3 | R17: 15 | S17: Intact (13–15)
M18: 14:00–15:00 | N18: 7–3
M19: 15:00–16:00 | N19: 3–11
M20: 16:00–17:00 | N20: 3–11
M21: 17:00–18:00 | N21: 3–11
M22: 18:00–19:00 | N22: 3–11
M23: 19:00–20:00 | N23: 3–11
M24: 20:00–21:00 | N24: 3–11
M25: 21:00–22:00 | N25: 3–11
M26: 22:00–23:00 | N26: 3–11

Sheet Jan
B1: Year | C1: ='Data Validation'!$C$4 -> 0 | D1: =IF(OR($C$1="",$C$1=0),"Enter Year in Data Validation tab",'Data Validation'!$C$2&" January ") -> Enter Year in Data Validation tab | R1: Total Falls: | S1: =IF(COUNTIFS(Jan[Resident Name],"<>")=0,"No Data",COUNTIFS(Jan[Resident Name],"<>")) -> No Data | T1: Fall Rate: | U1: ='Fall Rate and Census'!$B$36 -> No Data
B3: Room | C3: Resident Name | D3: Date of Incident | E3: Date of Post Fall Evaluation | F3: Witnessed Fall? | G3: Fall Circumstances | H3: Injury Type | I3: Location | J3: Station | K3: Day | L3: Hour | M3: Shift | N3: BIMS Score | O3: Cognitive Impairment | P3: What was resident doing prior to fall? | Q3: Notes on resident activity prior to fall. | R3: RCA Completed? | S3: Contributing Factors | T3: Nurse | U3: Certified Nurse Assistance | V3: Witness Name
K4: =IF(Jan[[#This Row],[Date of Incident]]="","",TEXT(Jan[[#This Row],[Date of Incident]],"ddd")) | M4: =IFERROR(VLOOKUP(Jan[[#This Row],[Hour]],Shifts[],2,FALSE),"") | O4: =IFERROR(VLOOKUP(Jan[[#This Row],[BIMS Score]],BIMS[],2,FALSE),"")
K5: =IF(Jan[[#This Row],[Date of Incident]]="","",TEXT(Jan[[#This Row],[Date of Incident]],"ddd")) | M5: =IFERROR(VLOOKUP(Jan[[#This Row],[Hour]],Shifts[],2,FALSE),"") | O5: =IFERROR(VLOOKUP(Jan[[#This Row],[BIMS Score]],BIMS[],2,FALSE),"")
K6: =IF(Jan[[#This Row],[Date of Incident]]="","",TEXT(Jan[[#This Row],[Date of Incident]],"ddd")) | M6: =IFERROR(VLOOKUP(Jan[[#This Row],[Hour]],Shifts[],2,FALSE),"") | O6: =IFERROR(VLOOKUP(Jan[[#This Row],[BIMS Score]],BIMS[],2,FALSE),"")
K7: =IF(Jan[[#This Row],[Date of Incident]]="","",TEXT(Jan[[#This Row],[Date of Incident]],"ddd")) | M7: =IFERROR(VLOOKUP(Jan[[#This Row],[Hour]],Shifts[],2,FALSE),"") | O7: =IFERROR(VLOOKUP(Jan[[#This Row],[BIMS Score]],BIMS[],2,FALSE),"")
K8: =IF(Jan[[#This Row],[Date of Incident]]="","",TEXT(Jan[[#This Row],[Date of Incident]],"ddd")) | M8: =IFERROR(VLOOKUP(Jan[[#This Row],[Hour]],Shifts[],2,FALSE),"") | O8: =IFERROR(VLOOKUP(Jan[[#This Row],[BIMS Score]],BIMS[],2,FALSE),"")
K9: =IF(Jan[[#This Row],[Date of Incident]]="","",TEXT(Jan[[#This Row],[Date of Incident]],"ddd")) | M9: =IFERROR(VLOOKUP(Jan[[#This Row],[Hour]],Shifts[],2,FALSE),"") | O9: =IFERROR(VLOOKUP(Jan[[#This Row],[BIMS Score]],BIMS[],2,FALSE),"")
K10: =IF(Jan[[#This Row],[Date of Incident]]="","",TEXT(Jan[[#This Row],[Date of Incident]],"ddd")) | M10: =IFERROR(VLOOKUP(Jan[[#This Row],[Hour]],Shifts[],2,FALSE),"") | O10: =IFERROR(VLOOKUP(Jan[[#This Row],[BIMS Score]],BIMS[],2,FALSE),"")
K11: =IF(Jan[[#This Row],[Date of Incident]]="","",TEXT(Jan[[#This Row],[Date of Incident]],"ddd")) | M11: =IFERROR(VLOOKUP(Jan[[#This Row],[Hour]],Shifts[],2,FALSE),"") | O11: =IFERROR(VLOOKUP(Jan[[#This Row],[BIMS Score]],BIMS[],2,FALSE),"")
K12: =IF(Jan[[#This Row],[Date of Incident]]="","",TEXT(Jan[[#This Row],[Date of Incident]],"ddd")) | M12: =IFERROR(VLOOKUP(Jan[[#This Row],[Hour]],Shifts[],2,FALSE),"") | O12: =IFERROR(VLOOKUP(Jan[[#This Row],[BIMS Score]],BIMS[],2,FALSE),"")
K13: =IF(Jan[[#This Row],[Date of Incident]]="","",TEXT(Jan[[#This Row],[Date of Incident]],"ddd")) | M13: =IFERROR(VLOOKUP(Jan[[#This Row],[Hour]],Shifts[],2,FALSE),"") | O13: =IFERROR(VLOOKUP(Jan[[#This Row],[BIMS Score]],BIMS[],2,FALSE),"")
K14: =IF(Jan[[#This Row],[Date of Incident]]="","",TEXT(Jan[[#This Row],[Date of Incident]],"ddd")) | M14: =IFERROR(VLOOKUP(Jan[[#This Row],[Hour]],Shifts[],2,FALSE),"") | O14: =IFERROR(VLOOKUP(Jan[[#This Row],[BIMS Score]],BIMS[],2,FALSE),"")
K15: =IF(Jan[[#This Row],[Date of Incident]]="","",TEXT(Jan[[#This Row],[Date of Incident]],"ddd")) | M15: =IFERROR(VLOOKUP(Jan[[#This Row],[Hour]],Shifts[],2,FALSE),"") | O15: =IFERROR(VLOOKUP(Jan[[#This Row],[BIMS Score]],BIMS[],2,FALSE),"")
... K40: =IF(Jan[[#This Row],[Date of Incident]]="","",TEXT(Jan[[#This Row],[Date of Incident]],"ddd")) | M40: =IFERROR(VLOOKUP(Jan[[#This Row],[Hour]],Shifts[],2,FALSE),"") | O40: =IFERROR(VLOOKUP(Jan[[#This Row],[BIMS Score]],BIMS[],2,FALSE),"")
B51: Witnessed Falls | F51: Fall Circumstances
B52: Result | D52: Total | F52: Result | H52: Total
B53: Yes | D53: =COUNTIFS(Jan[Witnessed Fall?],$B53) -> 0 | F53: Overwhelming Force | H53: =COUNTIFS(Jan[Fall Circumstances],$F53) -> 0
B54: No | D54: =COUNTIFS(Jan[Witnessed Fall?],$B54) -> 0 | F54: Intercepted | H54: =COUNTIFS(Jan[Fall Circumstances],$F54) -> 0
B55: TOTAL | D55: =SUM(D53:D54) -> 0 | F55: N/A | H55: =COUNTIFS(Jan[Fall Circumstances],$F55) -> 0
F56: TOTAL | H56: =SUM(H53:H55) -> 0
F58: Falls by BIMS Score
F59: BIMS Score | H59: Total
F60: Severe (1–7) | H60: =COUNTIFS(Jan[Cognitive Impairment],$F60) -> 0
F61: Moderate (8–12) | H61: =COUNTIFS(Jan[Cognitive Impairment],$F61) -> 0
F62: Intact (13–15) | H62: =COUNTIFS(Jan[Cognitive Impairment],$F62) -> 0
F63: TOTAL | H63: =SUM(H60:H62) -> 0
B65: Falls by Activity
B66: Activity | G66: Total
B67: {=IF(_xlfn._xlws.SORT(PriortoFall[What was the resident doing prior to fall?],1,1,TRUE)=0,"",(_xlfn._xlws.SORT(PriortoFall[What was the resident doing prior to fall?],1,1,TRUE)))} -> Ambulating with assistive device (walker, cane, wheelchair) | G67: =IF($B67="",NA(),COUNTIFS(Jan[What was resident doing prior to fall?],$B67)) -> 0
B68: Ambulating with staff assistance | G68: =IF($B68="",NA(),COUNTIFS(Jan[What was resident doing prior to fall?],$B68)) -> 0
B69: Ambulating without assistance or assistive device | G69: =IF($B69="",NA(),COUNTIFS(Jan[What was resident doing prior to fall?],$B69)) -> 0
B70: Changing position (e.g., in bed, chair) | G70: =IF($B70="",NA(),COUNTIFS(Jan[What was resident doing prior to fall?],$B70)) -> 0
B71: Dressing or undressing | G71: =IF($B71="",NA(),COUNTIFS(Jan[What was resident doing prior to fall?],$B71)) -> 0
B72: Other activity | G72: =IF($B72="",NA(),COUNTIFS(Jan[What was resident doing prior to fall?],$B72)) -> 0
B73: Reaching for an item | G73: =IF($B73="",NA(),COUNTIFS(Jan[What was resident doing prior to fall?],$B73)) -> 0
B74: Showering or bathing | G74: =IF($B74="",NA(),COUNTIFS(Jan[What was resident doing prior to fall?],$B74)) -> 0
B75: Toileting | G75: =IF($B75="",NA(),COUNTIFS(Jan[What was resident doing prior to fall?],$B75)) -> 0
B76: Transferring to or from bed, chair, wheelchair, etc. | G76: =IF($B76="",NA(),COUNTIFS(Jan[What was resident doing prior to fall?],$B76)) -> 0
B77: Unknown | G77: =IF($B77="",NA(),COUNTIFS(Jan[What was resident doing prior to fall?],$B77)) -> 0
...

Sheet Feb
B1: Year | C1: ='Data Validation'!$C$4 -> 0 | D1: =IF(OR($C$1="",$C$1=0),"Enter Year in Data Validation tab",'Data Validation'!$C$2&" February ") -> Enter Year in Data Validation tab | R1: Total Falls: | S1: =IF(COUNTIFS(Feb[Resident Name],"<>")=0,"No Data",COUNTIFS(Feb[Resident Name],"<>")) -> No Data | T1: Fall Rate: | U1: ='Fall Rate and Census'!$E$33 -> No Data
B3: Room | C3: Resident Name | D3: Date of Incident | E3: Date of Post Fall Evaluation | F3: Witnessed Fall? | G3: Fall Circumstances | H3: Injury Type | I3: Location | J3: Station | K3: Day | L3: Hour | M3: Shift | N3: BIMS Score | O3: Cognitive Impairment | P3: What was resident doing prior to fall? | Q3: Notes on resident activity prior to fall. | R3: RCA Completed? | S3: Contributing Factors | T3: Nurse | U3: Certified Nurse Assistance | V3: Witness Name
K4: =IF(Feb[[#This Row],[Date of Incident]]="","",TEXT(Feb[[#This Row],[Date of Incident]],"ddd")) | M4: =IFERROR(VLOOKUP(Feb[[#This Row],[Hour]],Shifts[],2,FALSE),"") | O4: =IFERROR(VLOOKUP(Feb[[#This Row],[BIMS Score]],BIMS[],2,FALSE),"")
K5: =IF(Feb[[#This Row],[Date of Incident]]="","",TEXT(Feb[[#This Row],[Date of Incident]],"ddd")) | M5: =IFERROR(VLOOKUP(Feb[[#This Row],[Hour]],Shifts[],2,FALSE),"") | O5: =IFERROR(VLOOKUP(Feb[[#This Row],[BIMS Score]],BIMS[],2,FALSE),"")
K6: =IF(Feb[[#This Row],[Date of Incident]]="","",TEXT(Feb[[#This Row],[Date of Incident]],"ddd")) | M6: =IFERROR(VLOOKUP(Feb[[#This Row],[Hour]],Shifts[],2,FALSE),"") | O6: =IFERROR(VLOOKUP(Feb[[#This Row],[BIMS Score]],BIMS[],2,FALSE),"")
K7: =IF(Feb[[#This Row],[Date of Incident]]="","",TEXT(Feb[[#This Row],[Date of Incident]],"ddd")) | M7: =IFERROR(VLOOKUP(Feb[[#This Row],[Hour]],Shifts[],2,FALSE),"") | O7: =IFERROR(VLOOKUP(Feb[[#This Row],[BIMS Score]],BIMS[],2,FALSE),"")
K8: =IF(Feb[[#This Row],[Date of Incident]]="","",TEXT(Feb[[#This Row],[Date of Incident]],"ddd")) | M8: =IFERROR(VLOOKUP(Feb[[#This Row],[Hour]],Shifts[],2,FALSE),"") | O8: =IFERROR(VLOOKUP(Feb[[#This Row],[BIMS Score]],BIMS[],2,FALSE),"")
K9: =IF(Feb[[#This Row],[Date of Incident]]="","",TEXT(Feb[[#This Row],[Date of Incident]],"ddd")) | M9: =IFERROR(VLOOKUP(Feb[[#This Row],[Hour]],Shifts[],2,FALSE),"") | O9: =IFERROR(VLOOKUP(Feb[[#This Row],[BIMS Score]],BIMS[],2,FALSE),"")
K10: =IF(Feb[[#This Row],[Date of Incident]]="","",TEXT(Feb[[#This Row],[Date of Incident]],"ddd")) | M10: =IFERROR(VLOOKUP(Feb[[#This Row],[Hour]],Shifts[],2,FALSE),"") | O10: =IFERROR(VLOOKUP(Feb[[#This Row],[BIMS Score]],BIMS[],2,FALSE),"")
K11: =IF(Feb[[#This Row],[Date of Incident]]="","",TEXT(Feb[[#This Row],[Date of Incident]],"ddd")) | M11: =IFERROR(VLOOKUP(Feb[[#This Row],[Hour]],Shifts[],2,FALSE),"") | O11: =IFERROR(VLOOKUP(Feb[[#This Row],[BIMS Score]],BIMS[],2,FALSE),"")
K12: =IF(Feb[[#This Row],[Date of Incident]]="","",TEXT(Feb[[#This Row],[Date of Incident]],"ddd")) | M12: =IFERROR(VLOOKUP(Feb[[#This Row],[Hour]],Shifts[],2,FALSE),"") | O12: =IFERROR(VLOOKUP(Feb[[#This Row],[BIMS Score]],BIMS[],2,FALSE),"")
K13: =IF(Feb[[#This Row],[Date of Incident]]="","",TEXT(Feb[[#This Row],[Date of Incident]],"ddd")) | M13: =IFERROR(VLOOKUP(Feb[[#This Row],[Hour]],Shifts[],2,FALSE),"") | O13: =IFERROR(VLOOKUP(Feb[[#This Row],[BIMS Score]],BIMS[],2,FALSE),"")
K14: =IF(Feb[[#This Row],[Date of Incident]]="","",TEXT(Feb[[#This Row],[Date of Incident]],"ddd")) | M14: =IFERROR(VLOOKUP(Feb[[#This Row],[Hour]],Shifts[],2,FALSE),"") | O14: =IFERROR(VLOOKUP(Feb[[#This Row],[BIMS Score]],BIMS[],2,FALSE),"")
K15: =IF(Feb[[#This Row],[Date of Incident]]="","",TEXT(Feb[[#This Row],[Date of Incident]],"ddd")) | M15: =IFERROR(VLOOKUP(Feb[[#This Row],[Hour]],Shifts[],2,FALSE),"") | O15: =IFERROR(VLOOKUP(Feb[[#This Row],[BIMS Score]],BIMS[],2,FALSE),"")
... K40: =IF(Feb[[#This Row],[Date of Incident]]="","",TEXT(Feb[[#This Row],[Date of Incident]],"ddd")) | M40: =IFERROR(VLOOKUP(Feb[[#This Row],[Hour]],Shifts[],2,FALSE),"") | O40: =IFERROR(VLOOKUP(Feb[[#This Row],[BIMS Score]],BIMS[],2,FALSE),"")
B51: Witnessed Falls | F51: Fall Circumstances
B52: Result | D52: Total | F52: Result | H52: Total
B53: Yes | D53: =COUNTIFS(Feb[Witnessed Fall?],$B53) -> 0 | F53: Overwhelming Force | H53: =COUNTIFS(Feb[Fall Circumstances],$F53) -> 0
B54: No | D54: =COUNTIFS(Feb[Witnessed Fall?],$B54) -> 0 | F54: Intercepted | H54: =COUNTIFS(Feb[Fall Circumstances],$F54) -> 0
B55: TOTAL | D55: =SUM(D53:D54) -> 0 | F55: N/A | H55: =COUNTIFS(Feb[Fall Circumstances],$F55) -> 0
F56: TOTAL | H56: =SUM(H53:H55) -> 0
F58: Falls by BIMS Score
F59: BIMS Score | H59: Total
F60: Severe (1–7) | H60: =COUNTIFS(Feb[Cognitive Impairment],$F60) -> 0
F61: Moderate (8–12) | H61: =COUNTIFS(Feb[Cognitive Impairment],$F61) -> 0
F62: Intact (13–15) | H62: =COUNTIFS(Feb[Cognitive Impairment],$F62) -> 0
F63: TOTAL | H63: =SUM(H60:H62) -> 0
B65: Falls by Activity
B66: Activity | G66: Total
B67: {=IF(_xlfn._xlws.SORT(PriortoFall[What was the resident doing prior to fall?],1,1,TRUE)=0,"",(_xlfn._xlws.SORT(PriortoFall[What was the resident doing prior to fall?],1,1,TRUE)))} -> Ambulating with assistive device (walker, cane, wheelchair) | G67: =IF($B67="",NA(),COUNTIFS(Feb[What was resident doing prior to fall?],$B67)) -> 0
B68: Ambulating with staff assistance | G68: =IF($B68="",NA(),COUNTIFS(Feb[What was resident doing prior to fall?],$B68)) -> 0
B69: Ambulating without assistance or assistive device | G69: =IF($B69="",NA(),COUNTIFS(Feb[What was resident doing prior to fall?],$B69)) -> 0
B70: Changing position (e.g., in bed, chair) | G70: =IF($B70="",NA(),COUNTIFS(Feb[What was resident doing prior to fall?],$B70)) -> 0
B71: Dressing or undressing | G71: =IF($B71="",NA(),COUNTIFS(Feb[What was resident doing prior to fall?],$B71)) -> 0
B72: Other activity | G72: =IF($B72="",NA(),COUNTIFS(Feb[What was resident doing prior to fall?],$B72)) -> 0
B73: Reaching for an item | G73: =IF($B73="",NA(),COUNTIFS(Feb[What was resident doing prior to fall?],$B73)) -> 0
B74: Showering or bathing | G74: =IF($B74="",NA(),COUNTIFS(Feb[What was resident doing prior to fall?],$B74)) -> 0
B75: Toileting | G75: =IF($B75="",NA(),COUNTIFS(Feb[What was resident doing prior to fall?],$B75)) -> 0
B76: Transferring to or from bed, chair, wheelchair, etc. | G76: =IF($B76="",NA(),COUNTIFS(Feb[What was resident doing prior to fall?],$B76)) -> 0
B77: Unknown | G77: =IF($B77="",NA(),COUNTIFS(Feb[What was resident doing prior to fall?],$B77)) -> 0
...

Sheet Mar
B1: Year | C1: ='Data Validation'!$C$4 -> 0 | D1: =IF(OR($C$1="",$C$1=0),"Enter Year in Data Validation tab",'Data Validation'!$C$2&" March ") -> Enter Year in Data Validation tab | R1: Total Falls: | S1: =IF(COUNTIFS(Mar[Resident Name],"<>")=0,"No Data",COUNTIFS(Mar[Resident Name],"<>")) -> No Data | T1: Fall Rate: | U1: ='Fall Rate and Census'!$H$36 -> No Data
B3: Room | C3: Resident Name | D3: Date of Incident | E3: Date of Post Fall Evaluation | F3: Witnessed Fall? | G3: Fall Circumstances | H3: Injury Type | I3: Location | J3: Station | K3: Day | L3: Hour | M3: Shift | N3: BIMS Score | O3: Cognitive Impairment | P3: What was resident doing prior to fall? | Q3: Notes on resident activity prior to fall. | R3: RCA Completed? | S3: Contributing Factors | T3: Nurse | U3: Certified Nurse Assistance | V3: Witness Name
K4: =IF(Mar[[#This Row],[Date of Incident]]="","",TEXT(Mar[[#This Row],[Date of Incident]],"ddd")) | M4: =IFERROR(VLOOKUP(Mar[[#This Row],[Hour]],Shifts[],2,FALSE),"") | O4: =IFERROR(VLOOKUP(Mar[[#This Row],[BIMS Score]],BIMS[],2,FALSE),"")
K5: =IF(Mar[[#This Row],[Date of Incident]]="","",TEXT(Mar[[#This Row],[Date of Incident]],"ddd")) | M5: =IFERROR(VLOOKUP(Mar[[#This Row],[Hour]],Shifts[],2,FALSE),"") | O5: =IFERROR(VLOOKUP(Mar[[#This Row],[BIMS Score]],BIMS[],2,FALSE),"")
K6: =IF(Mar[[#This Row],[Date of Incident]]="","",TEXT(Mar[[#This Row],[Date of Incident]],"ddd")) | M6: =IFERROR(VLOOKUP(Mar[[#This Row],[Hour]],Shifts[],2,FALSE),"") | O6: =IFERROR(VLOOKUP(Mar[[#This Row],[BIMS Score]],BIMS[],2,FALSE),"")
K7: =IF(Mar[[#This Row],[Date of Incident]]="","",TEXT(Mar[[#This Row],[Date of Incident]],"ddd")) | M7: =IFERROR(VLOOKUP(Mar[[#This Row],[Hour]],Shifts[],2,FALSE),"") | O7: =IFERROR(VLOOKUP(Mar[[#This Row],[BIMS Score]],BIMS[],2,FALSE),"")
K8: =IF(Mar[[#This Row],[Date of Incident]]="","",TEXT(Mar[[#This Row],[Date of Incident]],"ddd")) | M8: =IFERROR(VLOOKUP(Mar[[#This Row],[Hour]],Shifts[],2,FALSE),"") | O8: =IFERROR(VLOOKUP(Mar[[#This Row],[BIMS Score]],BIMS[],2,FALSE),"")
K9: =IF(Mar[[#This Row],[Date of Incident]]="","",TEXT(Mar[[#This Row],[Date of Incident]],"ddd")) | M9: =IFERROR(VLOOKUP(Mar[[#This Row],[Hour]],Shifts[],2,FALSE),"") | O9: =IFERROR(VLOOKUP(Mar[[#This Row],[BIMS Score]],BIMS[],2,FALSE),"")
K10: =IF(Mar[[#This Row],[Date of Incident]]="","",TEXT(Mar[[#This Row],[Date of Incident]],"ddd")) | M10: =IFERROR(VLOOKUP(Mar[[#This Row],[Hour]],Shifts[],2,FALSE),"") | O10: =IFERROR(VLOOKUP(Mar[[#This Row],[BIMS Score]],BIMS[],2,FALSE),"")
K11: =IF(Mar[[#This Row],[Date of Incident]]="","",TEXT(Mar[[#This Row],[Date of Incident]],"ddd")) | M11: =IFERROR(VLOOKUP(Mar[[#This Row],[Hour]],Shifts[],2,FALSE),"") | O11: =IFERROR(VLOOKUP(Mar[[#This Row],[BIMS Score]],BIMS[],2,FALSE),"")
K12: =IF(Mar[[#This Row],[Date of Incident]]="","",TEXT(Mar[[#This Row],[Date of Incident]],"ddd")) | M12: =IFERROR(VLOOKUP(Mar[[#This Row],[Hour]],Shifts[],2,FALSE),"") | O12: =IFERROR(VLOOKUP(Mar[[#This Row],[BIMS Score]],BIMS[],2,FALSE),"")
K13: =IF(Mar[[#This Row],[Date of Incident]]="","",TEXT(Mar[[#This Row],[Date of Incident]],"ddd")) | M13: =IFERROR(VLOOKUP(Mar[[#This Row],[Hour]],Shifts[],2,FALSE),"") | O13: =IFERROR(VLOOKUP(Mar[[#This Row],[BIMS Score]],BIMS[],2,FALSE),"")
K14: =IF(Mar[[#This Row],[Date of Incident]]="","",TEXT(Mar[[#This Row],[Date of Incident]],"ddd")) | M14: =IFERROR(VLOOKUP(Mar[[#This Row],[Hour]],Shifts[],2,FALSE),"") | O14: =IFERROR(VLOOKUP(Mar[[#This Row],[BIMS Score]],BIMS[],2,FALSE),"")
K15: =IF(Mar[[#This Row],[Date of Incident]]="","",TEXT(Mar[[#This Row],[Date of Incident]],"ddd")) | M15: =IFERROR(VLOOKUP(Mar[[#This Row],[Hour]],Shifts[],2,FALSE),"") | O15: =IFERROR(VLOOKUP(Mar[[#This Row],[BIMS Score]],BIMS[],2,FALSE),"")
... K40: =IF(Mar[[#This Row],[Date of Incident]]="","",TEXT(Mar[[#This Row],[Date of Incident]],"ddd")) | M40: =IFERROR(VLOOKUP(Mar[[#This Row],[Hour]],Shifts[],2,FALSE),"") | O40: =IFERROR(VLOOKUP(Mar[[#This Row],[BIMS Score]],BIMS[],2,FALSE),"")
B51: Witnessed Falls | F51: Fall Circumstances
B52: Result | D52: Total | F52: Result | H52: Total
B53: Yes | D53: =COUNTIFS(Mar[Witnessed Fall?],$B53) -> 0 | F53: Overwhelming Force | H53: =COUNTIFS(Mar[Fall Circumstances],$F53) -> 0
B54: No | D54: =COUNTIFS(Mar[Witnessed Fall?],$B54) -> 0 | F54: Intercepted | H54: =COUNTIFS(Mar[Fall Circumstances],$F54) -> 0
B55: TOTAL | D55: =SUM(D53:D54) -> 0 | F55: N/A | H55: =COUNTIFS(Mar[Fall Circumstances],$F55) -> 0
F56: TOTAL | H56: =SUM(H53:H55) -> 0
F58: Falls by BIMS Score
F59: BIMS Score | H59: Total
F60: Severe (1–7) | H60: =COUNTIFS(Mar[Cognitive Impairment],$F60) -> 0
F61: Moderate (8–12) | H61: =COUNTIFS(Mar[Cognitive Impairment],$F61) -> 0
F62: Intact (13–15) | H62: =COUNTIFS(Mar[Cognitive Impairment],$F62) -> 0
F63: TOTAL | H63: =SUM(H60:H62) -> 0
B65: Falls by Activity
B66: Activity | G66: Total
B67: {=IF(_xlfn._xlws.SORT(PriortoFall[What was the resident doing prior to fall?],1,1,TRUE)=0,"",(_xlfn._xlws.SORT(PriortoFall[What was the resident doing prior to fall?],1,1,TRUE)))} -> Ambulating with assistive device (walker, cane, wheelchair) | G67: =IF($B67="",NA(),COUNTIFS(Mar[What was resident doing prior to fall?],$B67)) -> 0
B68: Ambulating with staff assistance | G68: =IF($B68="",NA(),COUNTIFS(Mar[What was resident doing prior to fall?],$B68)) -> 0
B69: Ambulating without assistance or assistive device | G69: =IF($B69="",NA(),COUNTIFS(Mar[What was resident doing prior to fall?],$B69)) -> 0
B70: Changing position (e.g., in bed, chair) | G70: =IF($B70="",NA(),COUNTIFS(Mar[What was resident doing prior to fall?],$B70)) -> 0
B71: Dressing or undressing | G71: =IF($B71="",NA(),COUNTIFS(Mar[What was resident doing prior to fall?],$B71)) -> 0
B72: Other activity | G72: =IF($B72="",NA(),COUNTIFS(Mar[What was resident doing prior to fall?],$B72)) -> 0
B73: Reaching for an item | G73: =IF($B73="",NA(),COUNTIFS(Mar[What was resident doing prior to fall?],$B73)) -> 0
B74: Showering or bathing | G74: =IF($B74="",NA(),COUNTIFS(Mar[What was resident doing prior to fall?],$B74)) -> 0
B75: Toileting | G75: =IF($B75="",NA(),COUNTIFS(Mar[What was resident doing prior to fall?],$B75)) -> 0
B76: Transferring to or from bed, chair, wheelchair, etc. | G76: =IF($B76="",NA(),COUNTIFS(Mar[What was resident doing prior to fall?],$B76)) -> 0
B77: Unknown | G77: =IF($B77="",NA(),COUNTIFS(Mar[What was resident doing prior to fall?],$B77)) -> 0
...

Sheet Apr
B1: Year | C1: ='Data Validation'!$C$4 -> 0 | D1: =IF(OR($C$1="",$C$1=0),"Enter Year in Data Validation tab",'Data Validation'!$C$2&" April ") -> Enter Year in Data Validation tab | R1: Total Falls: | S1: =IF(COUNTIFS(Apr[Resident Name],"<>")=0,"No Data",COUNTIFS(Apr[Resident Name],"<>")) -> No Data | T1: Fall Rate: | U1: ='Fall Rate and Census'!K35 -> No Data
B3: Room | C3: Resident Name | D3: Date of Incident | E3: Date of Post Fall Evaluation | F3: Witnessed Fall? | G3: Fall Circumstances | H3: Injury Type | I3: Location | J3: Station | K3: Day | L3: Hour | M3: Shift | N3: BIMS Score | O3: Cognitive Impairment | P3: What was resident doing prior to fall? | Q3: Notes on resident activity prior to fall. | R3: RCA Completed? | S3: Contributing Factors | T3: Nurse | U3: Certified Nurse Assistance | V3: Witness Name
K4: =IF(Apr[[#This Row],[Date of Incident]]="","",TEXT(Apr[[#This Row],[Date of Incident]],"ddd")) | M4: =IFERROR(VLOOKUP(Apr[[#This Row],[Hour]],Shifts[],2,FALSE),"") | O4: =IFERROR(VLOOKUP(Apr[[#This Row],[BIMS Score]],BIMS[],2,FALSE),"")
K5: =IF(Apr[[#This Row],[Date of Incident]]="","",TEXT(Apr[[#This Row],[Date of Incident]],"ddd")) | M5: =IFERROR(VLOOKUP(Apr[[#This Row],[Hour]],Shifts[],2,FALSE),"") | O5: =IFERROR(VLOOKUP(Apr[[#This Row],[BIMS Score]],BIMS[],2,FALSE),"")
K6: =IF(Apr[[#This Row],[Date of Incident]]="","",TEXT(Apr[[#This Row],[Date of Incident]],"ddd")) | M6: =IFERROR(VLOOKUP(Apr[[#This Row],[Hour]],Shifts[],2,FALSE),"") | O6: =IFERROR(VLOOKUP(Apr[[#This Row],[BIMS Score]],BIMS[],2,FALSE),"")
K7: =IF(Apr[[#This Row],[Date of Incident]]="","",TEXT(Apr[[#This Row],[Date of Incident]],"ddd")) | M7: =IFERROR(VLOOKUP(Apr[[#This Row],[Hour]],Shifts[],2,FALSE),"") | O7: =IFERROR(VLOOKUP(Apr[[#This Row],[BIMS Score]],BIMS[],2,FALSE),"")
K8: =IF(Apr[[#This Row],[Date of Incident]]="","",TEXT(Apr[[#This Row],[Date of Incident]],"ddd")) | M8: =IFERROR(VLOOKUP(Apr[[#This Row],[Hour]],Shifts[],2,FALSE),"") | O8: =IFERROR(VLOOKUP(Apr[[#This Row],[BIMS Score]],BIMS[],2,FALSE),"")
K9: =IF(Apr[[#This Row],[Date of Incident]]="","",TEXT(Apr[[#This Row],[Date of Incident]],"ddd")) | M9: =IFERROR(VLOOKUP(Apr[[#This Row],[Hour]],Shifts[],2,FALSE),"") | O9: =IFERROR(VLOOKUP(Apr[[#This Row],[BIMS Score]],BIMS[],2,FALSE),"")
K10: =IF(Apr[[#This Row],[Date of Incident]]="","",TEXT(Apr[[#This Row],[Date of Incident]],"ddd")) | M10: =IFERROR(VLOOKUP(Apr[[#This Row],[Hour]],Shifts[],2,FALSE),"") | O10: =IFERROR(VLOOKUP(Apr[[#This Row],[BIMS Score]],BIMS[],2,FALSE),"")
K11: =IF(Apr[[#This Row],[Date of Incident]]="","",TEXT(Apr[[#This Row],[Date of Incident]],"ddd")) | M11: =IFERROR(VLOOKUP(Apr[[#This Row],[Hour]],Shifts[],2,FALSE),"") | O11: =IFERROR(VLOOKUP(Apr[[#This Row],[BIMS Score]],BIMS[],2,FALSE),"")
K12: =IF(Apr[[#This Row],[Date of Incident]]="","",TEXT(Apr[[#This Row],[Date of Incident]],"ddd")) | M12: =IFERROR(VLOOKUP(Apr[[#This Row],[Hour]],Shifts[],2,FALSE),"") | O12: =IFERROR(VLOOKUP(Apr[[#This Row],[BIMS Score]],BIMS[],2,FALSE),"")
K13: =IF(Apr[[#This Row],[Date of Incident]]="","",TEXT(Apr[[#This Row],[Date of Incident]],"ddd")) | M13: =IFERROR(VLOOKUP(Apr[[#This Row],[Hour]],Shifts[],2,FALSE),"") | O13: =IFERROR(VLOOKUP(Apr[[#This Row],[BIMS Score]],BIMS[],2,FALSE),"")
K14: =IF(Apr[[#This Row],[Date of Incident]]="","",TEXT(Apr[[#This Row],[Date of Incident]],"ddd")) | M14: =IFERROR(VLOOKUP(Apr[[#This Row],[Hour]],Shifts[],2,FALSE),"") | O14: =IFERROR(VLOOKUP(Apr[[#This Row],[BIMS Score]],BIMS[],2,FALSE),"")
K15: =IF(Apr[[#This Row],[Date of Incident]]="","",TEXT(Apr[[#This Row],[Date of Incident]],"ddd")) | M15: =IFERROR(VLOOKUP(Apr[[#This Row],[Hour]],Shifts[],2,FALSE),"") | O15: =IFERROR(VLOOKUP(Apr[[#This Row],[BIMS Score]],BIMS[],2,FALSE),"")
... K40: =IF(Apr[[#This Row],[Date of Incident]]="","",TEXT(Apr[[#This Row],[Date of Incident]],"ddd")) | M40: =IFERROR(VLOOKUP(Apr[[#This Row],[Hour]],Shifts[],2,FALSE),"") | O40: =IFERROR(VLOOKUP(Apr[[#This Row],[BIMS Score]],BIMS[],2,FALSE),"")
B51: Witnessed Falls | F51: Fall Circumstances
B52: Result | D52: Total | F52: Result | H52: Total
B53: Yes | D53: =COUNTIFS(Apr[Witnessed Fall?],$B53) -> 0 | F53: Overwhelming Force | H53: =COUNTIFS(Apr[Fall Circumstances],$F53) -> 0
B54: No | D54: =COUNTIFS(Apr[Witnessed Fall?],$B54) -> 0 | F54: Intercepted | H54: =COUNTIFS(Apr[Fall Circumstances],$F54) -> 0
B55: TOTAL | D55: =SUM(D53:D54) -> 0 | F55: N/A | H55: =COUNTIFS(Apr[Fall Circumstances],$F55) -> 0
F56: TOTAL | H56: =SUM(H53:H55) -> 0
F58: Falls by BIMS Score
F59: BIMS Score | H59: Total
F60: Severe (1–7) | H60: =COUNTIFS(Apr[Cognitive Impairment],$F60) -> 0
F61: Moderate (8–12) | H61: =COUNTIFS(Apr[Cognitive Impairment],$F61) -> 0
F62: Intact (13–15) | H62: =COUNTIFS(Apr[Cognitive Impairment],$F62) -> 0
F63: TOTAL | H63: =SUM(H60:H62) -> 0
B65: Falls by Activity
B66: Activity | G66: Total
B67: {=IF(_xlfn._xlws.SORT(PriortoFall[What was the resident doing prior to fall?],1,1,TRUE)=0,"",(_xlfn._xlws.SORT(PriortoFall[What was the resident doing prior to fall?],1,1,TRUE)))} -> Ambulating with assistive device (walker, cane, wheelchair) | G67: =IF($B67="",NA(),COUNTIFS(Apr[What was resident doing prior to fall?],$B67)) -> 0
B68: Ambulating with staff assistance | G68: =IF($B68="",NA(),COUNTIFS(Apr[What was resident doing prior to fall?],$B68)) -> 0
B69: Ambulating without assistance or assistive device | G69: =IF($B69="",NA(),COUNTIFS(Apr[What was resident doing prior to fall?],$B69)) -> 0
B70: Changing position (e.g., in bed, chair) | G70: =IF($B70="",NA(),COUNTIFS(Apr[What was resident doing prior to fall?],$B70)) -> 0
B71: Dressing or undressing | G71: =IF($B71="",NA(),COUNTIFS(Apr[What was resident doing prior to fall?],$B71)) -> 0
B72: Other activity | G72: =IF($B72="",NA(),COUNTIFS(Apr[What was resident doing prior to fall?],$B72)) -> 0
B73: Reaching for an item | G73: =IF($B73="",NA(),COUNTIFS(Apr[What was resident doing prior to fall?],$B73)) -> 0
B74: Showering or bathing | G74: =IF($B74="",NA(),COUNTIFS(Apr[What was resident doing prior to fall?],$B74)) -> 0
B75: Toileting | G75: =IF($B75="",NA(),COUNTIFS(Apr[What was resident doing prior to fall?],$B75)) -> 0
B76: Transferring to or from bed, chair, wheelchair, etc. | G76: =IF($B76="",NA(),COUNTIFS(Apr[What was resident doing prior to fall?],$B76)) -> 0
B77: Unknown | G77: =IF($B77="",NA(),COUNTIFS(Apr[What was resident doing prior to fall?],$B77)) -> 0
...

Sheet May
B1: Year | C1: ='Data Validation'!$C$4 -> 0 | D1: =IF(OR($C$1="",$C$1=0),"Enter Year in Data Validation tab",'Data Validation'!$C$2&" May ") -> Enter Year in Data Validation tab | R1: Total Falls: | S1: =IF(COUNTIFS(May[Resident Name],"<>")=0,"No Data",COUNTIFS(May[Resident Name],"<>")) -> No Data | T1: Fall Rate: | U1: ='Fall Rate and Census'!$N$36 -> No Data
B3: Room | C3: Resident Name | D3: Date of Incident | E3: Date of Post Fall Evaluation | F3: Witnessed Fall? | G3: Fall Circumstances | H3: Injury Type | I3: Location | J3: Station | K3: Day | L3: Hour | M3: Shift | N3: BIMS Score | O3: Cognitive Impairment | P3: What was resident doing prior to fall? | Q3: Notes on resident activity prior to fall. | R3: RCA Completed? | S3: Contributing Factors | T3: Nurse | U3: Certified Nurse Assistance | V3: Witness Name
K4: =IF(May[[#This Row],[Date of Incident]]="","",TEXT(May[[#This Row],[Date of Incident]],"ddd")) | M4: =IFERROR(VLOOKUP(May[[#This Row],[Hour]],Shifts[],2,FALSE),"") | O4: =IFERROR(VLOOKUP(May[[#This Row],[BIMS Score]],BIMS[],2,FALSE),"")
K5: =IF(May[[#This Row],[Date of Incident]]="","",TEXT(May[[#This Row],[Date of Incident]],"ddd")) | M5: =IFERROR(VLOOKUP(May[[#This Row],[Hour]],Shifts[],2,FALSE),"") | O5: =IFERROR(VLOOKUP(May[[#This Row],[BIMS Score]],BIMS[],2,FALSE),"")
K6: =IF(May[[#This Row],[Date of Incident]]="","",TEXT(May[[#This Row],[Date of Incident]],"ddd")) | M6: =IFERROR(VLOOKUP(May[[#This Row],[Hour]],Shifts[],2,FALSE),"") | O6: =IFERROR(VLOOKUP(May[[#This Row],[BIMS Score]],BIMS[],2,FALSE),"")
K7: =IF(May[[#This Row],[Date of Incident]]="","",TEXT(May[[#This Row],[Date of Incident]],"ddd")) | M7: =IFERROR(VLOOKUP(May[[#This Row],[Hour]],Shifts[],2,FALSE),"") | O7: =IFERROR(VLOOKUP(May[[#This Row],[BIMS Score]],BIMS[],2,FALSE),"")
K8: =IF(May[[#This Row],[Date of Incident]]="","",TEXT(May[[#This Row],[Date of Incident]],"ddd")) | M8: =IFERROR(VLOOKUP(May[[#This Row],[Hour]],Shifts[],2,FALSE),"") | O8: =IFERROR(VLOOKUP(May[[#This Row],[BIMS Score]],BIMS[],2,FALSE),"")
K9: =IF(May[[#This Row],[Date of Incident]]="","",TEXT(May[[#This Row],[Date of Incident]],"ddd")) | M9: =IFERROR(VLOOKUP(May[[#This Row],[Hour]],Shifts[],2,FALSE),"") | O9: =IFERROR(VLOOKUP(May[[#This Row],[BIMS Score]],BIMS[],2,FALSE),"")
K10: =IF(May[[#This Row],[Date of Incident]]="","",TEXT(May[[#This Row],[Date of Incident]],"ddd")) | M10: =IFERROR(VLOOKUP(May[[#This Row],[Hour]],Shifts[],2,FALSE),"") | O10: =IFERROR(VLOOKUP(May[[#This Row],[BIMS Score]],BIMS[],2,FALSE),"")
K11: =IF(May[[#This Row],[Date of Incident]]="","",TEXT(May[[#This Row],[Date of Incident]],"ddd")) | M11: =IFERROR(VLOOKUP(May[[#This Row],[Hour]],Shifts[],2,FALSE),"") | O11: =IFERROR(VLOOKUP(May[[#This Row],[BIMS Score]],BIMS[],2,FALSE),"")
K12: =IF(May[[#This Row],[Date of Incident]]="","",TEXT(May[[#This Row],[Date of Incident]],"ddd")) | M12: =IFERROR(VLOOKUP(May[[#This Row],[Hour]],Shifts[],2,FALSE),"") | O12: =IFERROR(VLOOKUP(May[[#This Row],[BIMS Score]],BIMS[],2,FALSE),"")
K13: =IF(May[[#This Row],[Date of Incident]]="","",TEXT(May[[#This Row],[Date of Incident]],"ddd")) | M13: =IFERROR(VLOOKUP(May[[#This Row],[Hour]],Shifts[],2,FALSE),"") | O13: =IFERROR(VLOOKUP(May[[#This Row],[BIMS Score]],BIMS[],2,FALSE),"")
K14: =IF(May[[#This Row],[Date of Incident]]="","",TEXT(May[[#This Row],[Date of Incident]],"ddd")) | M14: =IFERROR(VLOOKUP(May[[#This Row],[Hour]],Shifts[],2,FALSE),"") | O14: =IFERROR(VLOOKUP(May[[#This Row],[BIMS Score]],BIMS[],2,FALSE),"")
K15: =IF(May[[#This Row],[Date of Incident]]="","",TEXT(May[[#This Row],[Date of Incident]],"ddd")) | M15: =IFERROR(VLOOKUP(May[[#This Row],[Hour]],Shifts[],2,FALSE),"") | O15: =IFERROR(VLOOKUP(May[[#This Row],[BIMS Score]],BIMS[],2,FALSE),"")
... K40: =IF(May[[#This Row],[Date of Incident]]="","",TEXT(May[[#This Row],[Date of Incident]],"ddd")) | M40: =IFERROR(VLOOKUP(May[[#This Row],[Hour]],Shifts[],2,FALSE),"") | O40: =IFERROR(VLOOKUP(May[[#This Row],[BIMS Score]],BIMS[],2,FALSE),"")
B51: Witnessed Falls | F51: Fall Circumstances
B52: Result | D52: Total | F52: Result | H52: Total
B53: Yes | D53: =COUNTIFS(May[Witnessed Fall?],$B53) -> 0 | F53: Overwhelming Force | H53: =COUNTIFS(May[Fall Circumstances],$F53) -> 0
B54: No | D54: =COUNTIFS(May[Witnessed Fall?],$B54) -> 0 | F54: Intercepted | H54: =COUNTIFS(May[Fall Circumstances],$F54) -> 0
B55: TOTAL | D55: =SUM(D53:D54) -> 0 | F55: N/A | H55: =COUNTIFS(May[Fall Circumstances],$F55) -> 0
F56: TOTAL | H56: =SUM(H53:H55) -> 0
F58: Falls by BIMS Score
F59: BIMS Score | H59: Total
F60: Severe (1–7) | H60: =COUNTIFS(May[Cognitive Impairment],$F60) -> 0
F61: Moderate (8–12) | H61: =COUNTIFS(May[Cognitive Impairment],$F61) -> 0
F62: Intact (13–15) | H62: =COUNTIFS(May[Cognitive Impairment],$F62) -> 0
F63: TOTAL | H63: =SUM(H60:H62) -> 0
B65: Falls by Activity
B66: Activity | G66: Total
B67: {=IF(_xlfn._xlws.SORT(PriortoFall[What was the resident doing prior to fall?],1,1,TRUE)=0,"",(_xlfn._xlws.SORT(PriortoFall[What was the resident doing prior to fall?],1,1,TRUE)))} -> Ambulating with assistive device (walker, cane, wheelchair) | G67: =IF($B67="",NA(),COUNTIFS(May[What was resident doing prior to fall?],$B67)) -> 0
B68: Ambulating with staff assistance | G68: =IF($B68="",NA(),COUNTIFS(May[What was resident doing prior to fall?],$B68)) -> 0
B69: Ambulating without assistance or assistive device | G69: =IF($B69="",NA(),COUNTIFS(May[What was resident doing prior to fall?],$B69)) -> 0
B70: Changing position (e.g., in bed, chair) | G70: =IF($B70="",NA(),COUNTIFS(May[What was resident doing prior to fall?],$B70)) -> 0
B71: Dressing or undressing | G71: =IF($B71="",NA(),COUNTIFS(May[What was resident doing prior to fall?],$B71)) -> 0
B72: Other activity | G72: =IF($B72="",NA(),COUNTIFS(May[What was resident doing prior to fall?],$B72)) -> 0
B73: Reaching for an item | G73: =IF($B73="",NA(),COUNTIFS(May[What was resident doing prior to fall?],$B73)) -> 0
B74: Showering or bathing | G74: =IF($B74="",NA(),COUNTIFS(May[What was resident doing prior to fall?],$B74)) -> 0
B75: Toileting | G75: =IF($B75="",NA(),COUNTIFS(May[What was resident doing prior to fall?],$B75)) -> 0
B76: Transferring to or from bed, chair, wheelchair, etc. | G76: =IF($B76="",NA(),COUNTIFS(May[What was resident doing prior to fall?],$B76)) -> 0
B77: Unknown | G77: =IF($B77="",NA(),COUNTIFS(May[What was resident doing prior to fall?],$B77)) -> 0
...

Sheet June
B1: Year | C1: ='Data Validation'!$C$4 -> 0 | D1: =IF(OR($C$1="",$C$1=0),"Enter Year in Data Validation tab",'Data Validation'!$C$2&" June ") -> Enter Year in Data Validation tab | R1: Total Falls: | S1: =IF(COUNTIFS(June[Resident Name],"<>")=0,"No Data",COUNTIFS(June[Resident Name],"<>")) -> No Data | T1: Fall Rate: | U1: ='Fall Rate and Census'!$Q$35 -> No Data
B3: Room | C3: Resident Name | D3: Date of Incident | E3: Date of Post Fall Evaluation | F3: Witnessed Fall? | G3: Fall Circumstances | H3: Injury Type | I3: Location | J3: Station | K3: Day | L3: Hour | M3: Shift | N3: BIMS Score | O3: Cognitive Impairment | P3: What was resident doing prior to fall? | Q3: Notes on resident activity prior to fall. | R3: RCA Completed? | S3: Contributing Factors | T3: Nurse | U3: Certified Nurse Assistance | V3: Witness Name
K4: =IF(June[[#This Row],[Date of Incident]]="","",TEXT(June[[#This Row],[Date of Incident]],"ddd")) | M4: =IFERROR(VLOOKUP(June[[#This Row],[Hour]],Shifts[],2,FALSE),"") | O4: =IFERROR(VLOOKUP(June[[#This Row],[BIMS Score]],BIMS[],2,FALSE),"")
K5: =IF(June[[#This Row],[Date of Incident]]="","",TEXT(June[[#This Row],[Date of Incident]],"ddd")) | M5: =IFERROR(VLOOKUP(June[[#This Row],[Hour]],Shifts[],2,FALSE),"") | O5: =IFERROR(VLOOKUP(June[[#This Row],[BIMS Score]],BIMS[],2,FALSE),"")
K6: =IF(June[[#This Row],[Date of Incident]]="","",TEXT(June[[#This Row],[Date of Incident]],"ddd")) | M6: =IFERROR(VLOOKUP(June[[#This Row],[Hour]],Shifts[],2,FALSE),"") | O6: =IFERROR(VLOOKUP(June[[#This Row],[BIMS Score]],BIMS[],2,FALSE),"")
K7: =IF(June[[#This Row],[Date of Incident]]="","",TEXT(June[[#This Row],[Date of Incident]],"ddd")) | M7: =IFERROR(VLOOKUP(June[[#This Row],[Hour]],Shifts[],2,FALSE),"") | O7: =IFERROR(VLOOKUP(June[[#This Row],[BIMS Score]],BIMS[],2,FALSE),"")
K8: =IF(June[[#This Row],[Date of Incident]]="","",TEXT(June[[#This Row],[Date of Incident]],"ddd")) | M8: =IFERROR(VLOOKUP(June[[#This Row],[Hour]],Shifts[],2,FALSE),"") | O8: =IFERROR(VLOOKUP(June[[#This Row],[BIMS Score]],BIMS[],2,FALSE),"")
K9: =IF(June[[#This Row],[Date of Incident]]="","",TEXT(June[[#This Row],[Date of Incident]],"ddd")) | M9: =IFERROR(VLOOKUP(June[[#This Row],[Hour]],Shifts[],2,FALSE),"") | O9: =IFERROR(VLOOKUP(June[[#This Row],[BIMS Score]],BIMS[],2,FALSE),"")
K10: =IF(June[[#This Row],[Date of Incident]]="","",TEXT(June[[#This Row],[Date of Incident]],"ddd")) | M10: =IFERROR(VLOOKUP(June[[#This Row],[Hour]],Shifts[],2,FALSE),"") | O10: =IFERROR(VLOOKUP(June[[#This Row],[BIMS Score]],BIMS[],2,FALSE),"")
K11: =IF(June[[#This Row],[Date of Incident]]="","",TEXT(June[[#This Row],[Date of Incident]],"ddd")) | M11: =IFERROR(VLOOKUP(June[[#This Row],[Hour]],Shifts[],2,FALSE),"") | O11: =IFERROR(VLOOKUP(June[[#This Row],[BIMS Score]],BIMS[],2,FALSE),"")
K12: =IF(June[[#This Row],[Date of Incident]]="","",TEXT(June[[#This Row],[Date of Incident]],"ddd")) | M12: =IFERROR(VLOOKUP(June[[#This Row],[Hour]],Shifts[],2,FALSE),"") | O12: =IFERROR(VLOOKUP(June[[#This Row],[BIMS Score]],BIMS[],2,FALSE),"")
K13: =IF(June[[#This Row],[Date of Incident]]="","",TEXT(June[[#This Row],[Date of Incident]],"ddd")) | M13: =IFERROR(VLOOKUP(June[[#This Row],[Hour]],Shifts[],2,FALSE),"") | O13: =IFERROR(VLOOKUP(June[[#This Row],[BIMS Score]],BIMS[],2,FALSE),"")
K14: =IF(June[[#This Row],[Date of Incident]]="","",TEXT(June[[#This Row],[Date of Incident]],"ddd")) | M14: =IFERROR(VLOOKUP(June[[#This Row],[Hour]],Shifts[],2,FALSE),"") | O14: =IFERROR(VLOOKUP(June[[#This Row],[BIMS Score]],BIMS[],2,FALSE),"")
K15: =IF(June[[#This Row],[Date of Incident]]="","",TEXT(June[[#This Row],[Date of Incident]],"ddd")) | M15: =IFERROR(VLOOKUP(June[[#This Row],[Hour]],Shifts[],2,FALSE),"") | O15: =IFERROR(VLOOKUP(June[[#This Row],[BIMS Score]],BIMS[],2,FALSE),"")
... K40: =IF(June[[#This Row],[Date of Incident]]="","",TEXT(June[[#This Row],[Date of Incident]],"ddd")) | M40: =IFERROR(VLOOKUP(June[[#This Row],[Hour]],Shifts[],2,FALSE),"") | O40: =IFERROR(VLOOKUP(June[[#This Row],[BIMS Score]],BIMS[],2,FALSE),"")
B51: Witnessed Falls | F51: Fall Circumstances
B52: Result | D52: Total | F52: Result | H52: Total
B53: Yes | D53: =COUNTIFS(June[Witnessed Fall?],$B53) -> 0 | F53: Overwhelming Force | H53: =COUNTIFS(June[Fall Circumstances],$F53) -> 0
B54: No | D54: =COUNTIFS(June[Witnessed Fall?],$B54) -> 0 | F54: Intercepted | H54: =COUNTIFS(June[Fall Circumstances],$F54) -> 0
B55: TOTAL | D55: =SUM(D53:D54) -> 0 | F55: N/A | H55: =COUNTIFS(June[Fall Circumstances],$F55) -> 0
F56: TOTAL | H56: =SUM(H53:H55) -> 0
F58: Falls by BIMS Score
F59: BIMS Score | H59: Total
F60: Severe (1–7) | H60: =COUNTIFS(June[Cognitive Impairment],$F60) -> 0
F61: Moderate (8–12) | H61: =COUNTIFS(June[Cognitive Impairment],$F61) -> 0
F62: Intact (13–15) | H62: =COUNTIFS(June[Cognitive Impairment],$F62) -> 0
F63: TOTAL | H63: =SUM(H60:H62) -> 0
B65: Falls by Activity
B66: Activity | G66: Total
B67: {=IF(_xlfn._xlws.SORT(PriortoFall[What was the resident doing prior to fall?],1,1,TRUE)=0,"",(_xlfn._xlws.SORT(PriortoFall[What was the resident doing prior to fall?],1,1,TRUE)))} -> Ambulating with assistive device (walker, cane, wheelchair) | G67: =IF($B67="",NA(),COUNTIFS(June[What was resident doing prior to fall?],$B67)) -> 0
B68: Ambulating with staff assistance | G68: =IF($B68="",NA(),COUNTIFS(June[What was resident doing prior to fall?],$B68)) -> 0
B69: Ambulating without assistance or assistive device | G69: =IF($B69="",NA(),COUNTIFS(June[What was resident doing prior to fall?],$B69)) -> 0
B70: Changing position (e.g., in bed, chair) | G70: =IF($B70="",NA(),COUNTIFS(June[What was resident doing prior to fall?],$B70)) -> 0
B71: Dressing or undressing | G71: =IF($B71="",NA(),COUNTIFS(June[What was resident doing prior to fall?],$B71)) -> 0
B72: Other activity | G72: =IF($B72="",NA(),COUNTIFS(June[What was resident doing prior to fall?],$B72)) -> 0
B73: Reaching for an item | G73: =IF($B73="",NA(),COUNTIFS(June[What was resident doing prior to fall?],$B73)) -> 0
B74: Showering or bathing | G74: =IF($B74="",NA(),COUNTIFS(June[What was resident doing prior to fall?],$B74)) -> 0
B75: Toileting | G75: =IF($B75="",NA(),COUNTIFS(June[What was resident doing prior to fall?],$B75)) -> 0
B76: Transferring to or from bed, chair, wheelchair, etc. | G76: =IF($B76="",NA(),COUNTIFS(June[What was resident doing prior to fall?],$B76)) -> 0
B77: Unknown | G77: =IF($B77="",NA(),COUNTIFS(June[What was resident doing prior to fall?],$B77)) -> 0
...

Sheet July
B1: Year | C1: ='Data Validation'!$C$4 -> 0 | D1: =IF(OR($C$1="",$C$1=0),"Enter Year in Data Validation tab",'Data Validation'!$C$2&" July ") -> Enter Year in Data Validation tab | R1: Total Falls: | S1: =IF(COUNTIFS(July[Resident Name],"<>")=0,"No Data",COUNTIFS(July[Resident Name],"<>")) -> No Data | T1: Fall Rate: | U1: ='Fall Rate and Census'!$T$36 -> No Data
B3: Room | C3: Resident Name | D3: Date of Incident | E3: Date of Post Fall Evaluation | F3: Witnessed Fall? | G3: Fall Circumstances | H3: Injury Type | I3: Location | J3: Station | K3: Day | L3: Hour | M3: Shift | N3: BIMS Score | O3: Cognitive Impairment | P3: What was resident doing prior to fall? | Q3: Notes on resident activity prior to fall. | R3: RCA Completed? | S3: Contributing Factors | T3: Nurse | U3: Certified Nurse Assistance | V3: Witness Name
K4: =IF(July[[#This Row],[Date of Incident]]="","",TEXT(July[[#This Row],[Date of Incident]],"ddd")) | M4: =IFERROR(VLOOKUP(July[[#This Row],[Hour]],Shifts[],2,FALSE),"") | O4: =IFERROR(VLOOKUP(July[[#This Row],[BIMS Score]],BIMS[],2,FALSE),"")
K5: =IF(July[[#This Row],[Date of Incident]]="","",TEXT(July[[#This Row],[Date of Incident]],"ddd")) | M5: =IFERROR(VLOOKUP(July[[#This Row],[Hour]],Shifts[],2,FALSE),"") | O5: =IFERROR(VLOOKUP(July[[#This Row],[BIMS Score]],BIMS[],2,FALSE),"")
K6: =IF(July[[#This Row],[Date of Incident]]="","",TEXT(July[[#This Row],[Date of Incident]],"ddd")) | M6: =IFERROR(VLOOKUP(July[[#This Row],[Hour]],Shifts[],2,FALSE),"") | O6: =IFERROR(VLOOKUP(July[[#This Row],[BIMS Score]],BIMS[],2,FALSE),"")
K7: =IF(July[[#This Row],[Date of Incident]]="","",TEXT(July[[#This Row],[Date of Incident]],"ddd")) | M7: =IFERROR(VLOOKUP(July[[#This Row],[Hour]],Shifts[],2,FALSE),"") | O7: =IFERROR(VLOOKUP(July[[#This Row],[BIMS Score]],BIMS[],2,FALSE),"")
K8: =IF(July[[#This Row],[Date of Incident]]="","",TEXT(July[[#This Row],[Date of Incident]],"ddd")) | M8: =IFERROR(VLOOKUP(July[[#This Row],[Hour]],Shifts[],2,FALSE),"") | O8: =IFERROR(VLOOKUP(July[[#This Row],[BIMS Score]],BIMS[],2,FALSE),"")
K9: =IF(July[[#This Row],[Date of Incident]]="","",TEXT(July[[#This Row],[Date of Incident]],"ddd")) | M9: =IFERROR(VLOOKUP(July[[#This Row],[Hour]],Shifts[],2,FALSE),"") | O9: =IFERROR(VLOOKUP(July[[#This Row],[BIMS Score]],BIMS[],2,FALSE),"")
K10: =IF(July[[#This Row],[Date of Incident]]="","",TEXT(July[[#This Row],[Date of Incident]],"ddd")) | M10: =IFERROR(VLOOKUP(July[[#This Row],[Hour]],Shifts[],2,FALSE),"") | O10: =IFERROR(VLOOKUP(July[[#This Row],[BIMS Score]],BIMS[],2,FALSE),"")
K11: =IF(July[[#This Row],[Date of Incident]]="","",TEXT(July[[#This Row],[Date of Incident]],"ddd")) | M11: =IFERROR(VLOOKUP(July[[#This Row],[Hour]],Shifts[],2,FALSE),"") | O11: =IFERROR(VLOOKUP(July[[#This Row],[BIMS Score]],BIMS[],2,FALSE),"")
K12: =IF(July[[#This Row],[Date of Incident]]="","",TEXT(July[[#This Row],[Date of Incident]],"ddd")) | M12: =IFERROR(VLOOKUP(July[[#This Row],[Hour]],Shifts[],2,FALSE),"") | O12: =IFERROR(VLOOKUP(July[[#This Row],[BIMS Score]],BIMS[],2,FALSE),"")
K13: =IF(July[[#This Row],[Date of Incident]]="","",TEXT(July[[#This Row],[Date of Incident]],"ddd")) | M13: =IFERROR(VLOOKUP(July[[#This Row],[Hour]],Shifts[],2,FALSE),"") | O13: =IFERROR(VLOOKUP(July[[#This Row],[BIMS Score]],BIMS[],2,FALSE),"")
K14: =IF(July[[#This Row],[Date of Incident]]="","",TEXT(July[[#This Row],[Date of Incident]],"ddd")) | M14: =IFERROR(VLOOKUP(July[[#This Row],[Hour]],Shifts[],2,FALSE),"") | O14: =IFERROR(VLOOKUP(July[[#This Row],[BIMS Score]],BIMS[],2,FALSE),"")
K15: =IF(July[[#This Row],[Date of Incident]]="","",TEXT(July[[#This Row],[Date of Incident]],"ddd")) | M15: =IFERROR(VLOOKUP(July[[#This Row],[Hour]],Shifts[],2,FALSE),"") | O15: =IFERROR(VLOOKUP(July[[#This Row],[BIMS Score]],BIMS[],2,FALSE),"")
... K40: =IF(July[[#This Row],[Date of Incident]]="","",TEXT(July[[#This Row],[Date of Incident]],"ddd")) | M40: =IFERROR(VLOOKUP(July[[#This Row],[Hour]],Shifts[],2,FALSE),"") | O40: =IFERROR(VLOOKUP(July[[#This Row],[BIMS Score]],BIMS[],2,FALSE),"")
B51: Witnessed Falls | F51: Fall Circumstances
B52: Result | D52: Total | F52: Result | H52: Total
B53: Yes | D53: =COUNTIFS(July[Witnessed Fall?],$B53) -> 0 | F53: Overwhelming Force | H53: =COUNTIFS(July[Fall Circumstances],$F53) -> 0
B54: No | D54: =COUNTIFS(July[Witnessed Fall?],$B54) -> 0 | F54: Intercepted | H54: =COUNTIFS(July[Fall Circumstances],$F54) -> 0
B55: TOTAL | D55: =SUM(D53:D54) -> 0 | F55: N/A | H55: =COUNTIFS(July[Fall Circumstances],$F55) -> 0
F56: TOTAL | H56: =SUM(H53:H55) -> 0
F58: Falls by BIMS Score
F59: BIMS Score | H59: Total
F60: Severe (1–7) | H60: =COUNTIFS(July[Cognitive Impairment],$F60) -> 0
F61: Moderate (8–12) | H61: =COUNTIFS(July[Cognitive Impairment],$F61) -> 0
F62: Intact (13–15) | H62: =COUNTIFS(July[Cognitive Impairment],$F62) -> 0
F63: TOTAL | H63: =SUM(H60:H62) -> 0
B65: Falls by Activity
B66: Activity | G66: Total
B67: {=IF(_xlfn._xlws.SORT(PriortoFall[What was the resident doing prior to fall?],1,1,TRUE)=0,"",(_xlfn._xlws.SORT(PriortoFall[What was the resident doing prior to fall?],1,1,TRUE)))} -> Ambulating with assistive device (walker, cane, wheelchair) | G67: =IF($B67="",NA(),COUNTIFS(July[What was resident doing prior to fall?],$B67)) -> 0
B68: Ambulating with staff assistance | G68: =IF($B68="",NA(),COUNTIFS(July[What was resident doing prior to fall?],$B68)) -> 0
B69: Ambulating without assistance or assistive device | G69: =IF($B69="",NA(),COUNTIFS(July[What was resident doing prior to fall?],$B69)) -> 0
B70: Changing position (e.g., in bed, chair) | G70: =IF($B70="",NA(),COUNTIFS(July[What was resident doing prior to fall?],$B70)) -> 0
B71: Dressing or undressing | G71: =IF($B71="",NA(),COUNTIFS(July[What was resident doing prior to fall?],$B71)) -> 0
B72: Other activity | G72: =IF($B72="",NA(),COUNTIFS(July[What was resident doing prior to fall?],$B72)) -> 0
B73: Reaching for an item | G73: =IF($B73="",NA(),COUNTIFS(July[What was resident doing prior to fall?],$B73)) -> 0
B74: Showering or bathing | G74: =IF($B74="",NA(),COUNTIFS(July[What was resident doing prior to fall?],$B74)) -> 0
B75: Toileting | G75: =IF($B75="",NA(),COUNTIFS(July[What was resident doing prior to fall?],$B75)) -> 0
B76: Transferring to or from bed, chair, wheelchair, etc. | G76: =IF($B76="",NA(),COUNTIFS(July[What was resident doing prior to fall?],$B76)) -> 0
B77: Unknown | G77: =IF($B77="",NA(),COUNTIFS(July[What was resident doing prior to fall?],$B77)) -> 0
...

Sheet Aug
B1: Year | C1: ='Data Validation'!$C$4 -> 0 | D1: =IF(OR($C$1="",$C$1=0),"Enter Year in Data Validation tab",'Data Validation'!$C$2&" August ") -> Enter Year in Data Validation tab | R1: Total Falls: | S1: =IF(COUNTIFS(Aug[Resident Name],"<>")=0,"No Data",COUNTIFS(Aug[Resident Name],"<>")) -> No Data | T1: Fall Rate: | U1: ='Fall Rate and Census'!$W$36 -> No Data
B3: Room | C3: Resident Name | D3: Date of Incident | E3: Date of Post Fall Evaluation | F3: Witnessed Fall? | G3: Fall Circumstances | H3: Injury Type | I3: Location | J3: Station | K3: Day | L3: Hour | M3: Shift | N3: BIMS Score | O3: Cognitive Impairment | P3: What was resident doing prior to fall? | Q3: Notes on resident activity prior to fall. | R3: RCA Completed? | S3: Contributing Factors | T3: Nurse | U3: Certified Nurse Assistance | V3: Witness Name
K4: =IF(Aug[[#This Row],[Date of Incident]]="","",TEXT(Aug[[#This Row],[Date of Incident]],"ddd")) | M4: =IFERROR(VLOOKUP(Aug[[#This Row],[Hour]],Shifts[],2,FALSE),"") | O4: =IFERROR(VLOOKUP(Aug[[#This Row],[BIMS Score]],BIMS[],2,FALSE),"")
K5: =IF(Aug[[#This Row],[Date of Incident]]="","",TEXT(Aug[[#This Row],[Date of Incident]],"ddd")) | M5: =IFERROR(VLOOKUP(Aug[[#This Row],[Hour]],Shifts[],2,FALSE),"") | O5: =IFERROR(VLOOKUP(Aug[[#This Row],[BIMS Score]],BIMS[],2,FALSE),"")
K6: =IF(Aug[[#This Row],[Date of Incident]]="","",TEXT(Aug[[#This Row],[Date of Incident]],"ddd")) | M6: =IFERROR(VLOOKUP(Aug[[#This Row],[Hour]],Shifts[],2,FALSE),"") | O6: =IFERROR(VLOOKUP(Aug[[#This Row],[BIMS Score]],BIMS[],2,FALSE),"")
K7: =IF(Aug[[#This Row],[Date of Incident]]="","",TEXT(Aug[[#This Row],[Date of Incident]],"ddd")) | M7: =IFERROR(VLOOKUP(Aug[[#This Row],[Hour]],Shifts[],2,FALSE),"") | O7: =IFERROR(VLOOKUP(Aug[[#This Row],[BIMS Score]],BIMS[],2,FALSE),"")
K8: =IF(Aug[[#This Row],[Date of Incident]]="","",TEXT(Aug[[#This Row],[Date of Incident]],"ddd")) | M8: =IFERROR(VLOOKUP(Aug[[#This Row],[Hour]],Shifts[],2,FALSE),"") | O8: =IFERROR(VLOOKUP(Aug[[#This Row],[BIMS Score]],BIMS[],2,FALSE),"")
K9: =IF(Aug[[#This Row],[Date of Incident]]="","",TEXT(Aug[[#This Row],[Date of Incident]],"ddd")) | M9: =IFERROR(VLOOKUP(Aug[[#This Row],[Hour]],Shifts[],2,FALSE),"") | O9: =IFERROR(VLOOKUP(Aug[[#This Row],[BIMS Score]],BIMS[],2,FALSE),"")
K10: =IF(Aug[[#This Row],[Date of Incident]]="","",TEXT(Aug[[#This Row],[Date of Incident]],"ddd")) | M10: =IFERROR(VLOOKUP(Aug[[#This Row],[Hour]],Shifts[],2,FALSE),"") | O10: =IFERROR(VLOOKUP(Aug[[#This Row],[BIMS Score]],BIMS[],2,FALSE),"")
K11: =IF(Aug[[#This Row],[Date of Incident]]="","",TEXT(Aug[[#This Row],[Date of Incident]],"ddd")) | M11: =IFERROR(VLOOKUP(Aug[[#This Row],[Hour]],Shifts[],2,FALSE),"") | O11: =IFERROR(VLOOKUP(Aug[[#This Row],[BIMS Score]],BIMS[],2,FALSE),"")
K12: =IF(Aug[[#This Row],[Date of Incident]]="","",TEXT(Aug[[#This Row],[Date of Incident]],"ddd")) | M12: =IFERROR(VLOOKUP(Aug[[#This Row],[Hour]],Shifts[],2,FALSE),"") | O12: =IFERROR(VLOOKUP(Aug[[#This Row],[BIMS Score]],BIMS[],2,FALSE),"")
K13: =IF(Aug[[#This Row],[Date of Incident]]="","",TEXT(Aug[[#This Row],[Date of Incident]],"ddd")) | M13: =IFERROR(VLOOKUP(Aug[[#This Row],[Hour]],Shifts[],2,FALSE),"") | O13: =IFERROR(VLOOKUP(Aug[[#This Row],[BIMS Score]],BIMS[],2,FALSE),"")
K14: =IF(Aug[[#This Row],[Date of Incident]]="","",TEXT(Aug[[#This Row],[Date of Incident]],"ddd")) | M14: =IFERROR(VLOOKUP(Aug[[#This Row],[Hour]],Shifts[],2,FALSE),"") | O14: =IFERROR(VLOOKUP(Aug[[#This Row],[BIMS Score]],BIMS[],2,FALSE),"")
K15: =IF(Aug[[#This Row],[Date of Incident]]="","",TEXT(Aug[[#This Row],[Date of Incident]],"ddd")) | M15: =IFERROR(VLOOKUP(Aug[[#This Row],[Hour]],Shifts[],2,FALSE),"") | O15: =IFERROR(VLOOKUP(Aug[[#This Row],[BIMS Score]],BIMS[],2,FALSE),"")
... K40: =IF(Aug[[#This Row],[Date of Incident]]="","",TEXT(Aug[[#This Row],[Date of Incident]],"ddd")) | M40: =IFERROR(VLOOKUP(Aug[[#This Row],[Hour]],Shifts[],2,FALSE),"") | O40: =IFERROR(VLOOKUP(Aug[[#This Row],[BIMS Score]],BIMS[],2,FALSE),"")
B51: Witnessed Falls | F51: Fall Circumstances
B52: Result | D52: Total | F52: Result | H52: Total
B53: Yes | D53: =COUNTIFS(Aug[Witnessed Fall?],$B53) -> 0 | F53: Overwhelming Force | H53: =COUNTIFS(Aug[Fall Circumstances],$F53) -> 0
B54: No | D54: =COUNTIFS(Aug[Witnessed Fall?],$B54) -> 0 | F54: Intercepted | H54: =COUNTIFS(Aug[Fall Circumstances],$F54) -> 0
B55: TOTAL | D55: =SUM(D53:D54) -> 0 | F55: N/A | H55: =COUNTIFS(Aug[Fall Circumstances],$F55) -> 0
F56: TOTAL | H56: =SUM(H53:H55) -> 0
F58: Falls by BIMS Score
F59: BIMS Score | H59: Total
F60: Severe (1–7) | H60: =COUNTIFS(Aug[Cognitive Impairment],$F60) -> 0
F61: Moderate (8–12) | H61: =COUNTIFS(Aug[Cognitive Impairment],$F61) -> 0
F62: Intact (13–15) | H62: =COUNTIFS(Aug[Cognitive Impairment],$F62) -> 0
F63: TOTAL | H63: =SUM(H60:H62) -> 0
B65: Falls by Activity
B66: Activity | G66: Total
B67: {=IF(_xlfn._xlws.SORT(PriortoFall[What was the resident doing prior to fall?],1,1,TRUE)=0,"",(_xlfn._xlws.SORT(PriortoFall[What was the resident doing prior to fall?],1,1,TRUE)))} -> Ambulating with assistive device (walker, cane, wheelchair) | G67: =IF($B67="",NA(),COUNTIFS(Aug[What was resident doing prior to fall?],$B67)) -> 0
B68: Ambulating with staff assistance | G68: =IF($B68="",NA(),COUNTIFS(Aug[What was resident doing prior to fall?],$B68)) -> 0
B69: Ambulating without assistance or assistive device | G69: =IF($B69="",NA(),COUNTIFS(Aug[What was resident doing prior to fall?],$B69)) -> 0
B70: Changing position (e.g., in bed, chair) | G70: =IF($B70="",NA(),COUNTIFS(Aug[What was resident doing prior to fall?],$B70)) -> 0
B71: Dressing or undressing | G71: =IF($B71="",NA(),COUNTIFS(Aug[What was resident doing prior to fall?],$B71)) -> 0
B72: Other activity | G72: =IF($B72="",NA(),COUNTIFS(Aug[What was resident doing prior to fall?],$B72)) -> 0
B73: Reaching for an item | G73: =IF($B73="",NA(),COUNTIFS(Aug[What was resident doing prior to fall?],$B73)) -> 0
B74: Showering or bathing | G74: =IF($B74="",NA(),COUNTIFS(Aug[What was resident doing prior to fall?],$B74)) -> 0
B75: Toileting | G75: =IF($B75="",NA(),COUNTIFS(Aug[What was resident doing prior to fall?],$B75)) -> 0
B76: Transferring to or from bed, chair, wheelchair, etc. | G76: =IF($B76="",NA(),COUNTIFS(Aug[What was resident doing prior to fall?],$B76)) -> 0
B77: Unknown | G77: =IF($B77="",NA(),COUNTIFS(Aug[What was resident doing prior to fall?],$B77)) -> 0
...

Sheet Sept
B1: Year | C1: ='Data Validation'!$C$4 -> 0 | D1: =IF(OR($C$1="",$C$1=0),"Enter Year in Data Validation tab",'Data Validation'!$C$2&" September ") -> Enter Year in Data Validation tab | R1: Total Falls: | S1: =IF(COUNTIFS(Sept[Resident Name],"<>")=0,"No Data",COUNTIFS(Sept[Resident Name],"<>")) -> No Data | T1: Fall Rate: | U1: ='Fall Rate and Census'!$Z$35 -> No Data
B3: Room | C3: Resident Name | D3: Date of Incident | E3: Date of Post Fall Evaluation | F3: Witnessed Fall? | G3: Fall Circumstances | H3: Injury Type | I3: Location | J3: Station | K3: Day | L3: Hour | M3: Shift | N3: BIMS Score | O3: Cognitive Impairment | P3: What was resident doing prior to fall? | Q3: Notes on resident activity prior to fall. | R3: RCA Completed? | S3: Contributing Factors | T3: Nurse | U3: Certified Nurse Assistance | V3: Witness Name
K4: =IF(Sept[[#This Row],[Date of Incident]]="","",TEXT(Sept[[#This Row],[Date of Incident]],"ddd")) | M4: =IFERROR(VLOOKUP(Sept[[#This Row],[Hour]],Shifts[],2,FALSE),"") | O4: =IFERROR(VLOOKUP(Sept[[#This Row],[BIMS Score]],BIMS[],2,FALSE),"")
K5: =IF(Sept[[#This Row],[Date of Incident]]="","",TEXT(Sept[[#This Row],[Date of Incident]],"ddd")) | M5: =IFERROR(VLOOKUP(Sept[[#This Row],[Hour]],Shifts[],2,FALSE),"") | O5: =IFERROR(VLOOKUP(Sept[[#This Row],[BIMS Score]],BIMS[],2,FALSE),"")
K6: =IF(Sept[[#This Row],[Date of Incident]]="","",TEXT(Sept[[#This Row],[Date of Incident]],"ddd")) | M6: =IFERROR(VLOOKUP(Sept[[#This Row],[Hour]],Shifts[],2,FALSE),"") | O6: =IFERROR(VLOOKUP(Sept[[#This Row],[BIMS Score]],BIMS[],2,FALSE),"")
K7: =IF(Sept[[#This Row],[Date of Incident]]="","",TEXT(Sept[[#This Row],[Date of Incident]],"ddd")) | M7: =IFERROR(VLOOKUP(Sept[[#This Row],[Hour]],Shifts[],2,FALSE),"") | O7: =IFERROR(VLOOKUP(Sept[[#This Row],[BIMS Score]],BIMS[],2,FALSE),"")
